BEGIN:VCALENDAR
PRODID:-//Google Inc//Google Calendar 70.9054//EN
VERSION:2.0
CALSCALE:GREGORIAN
METHOD:PUBLISH
X-WR-CALNAME:PV Comets Aqua Mermaids
X-WR-TIMEZONE:Australia/Sydney
X-WR-CALDESC:PV Comets Parkville Calendars
BEGIN:VEVENT
DTSTART:20170204T084500
DTEND:20170204T092500
DTSTAMP:20170222T224801Z
UID:badc344644260adedc414858c692c83e@pvna.com.au
CREATED:20170222T224801Z
DESCRIPTION:2017 Autumn Section:11&Under\nRound:Rnd 1
LAST-MODIFIED:20170222T224801Z
LOCATION:Court: 5
SEQUENCE:0
STATUS:CONFIRMED
SUMMARY:11&U-Rnd 1: Aqua Mermaids (4) vs Shooting Stars Diamonds (9)
TRANSP:OPAQUE
END:VEVENT
BEGIN:VEVENT
DTSTART:20170211T101500
DTEND:20170211T105500
DTSTAMP:20170222T224801Z
UID:3d0dce45965b2d56b22d042e8e524e32@pvna.com.au
CREATED:20170222T224801Z
DESCRIPTION:2017 Autumn Section:11&Under\nRound:Rnd 2
LAST-MODIFIED:20170222T224801Z
LOCATION:Court: 4
SEQUENCE:0
STATUS:CONFIRMED
SUMMARY:11&U-Rnd 2: Aqua Mermaids (13) vs All Starz Jnr (14)
TRANSP:OPAQUE
END:VEVENT
BEGIN:VEVENT
DTSTART:20170218T123000
DTEND:20170218T131000
DTSTAMP:20170222T224801Z
UID:b2b4ecf30d296d93974afcd3b305b71e@pvna.com.au
CREATED:20170222T224801Z
DESCRIPTION:2017 Autumn Section:11&Under\nRound:Rnd 3
LAST-MODIFIED:20170222T224801Z
LOCATION:Court: 3
SEQUENCE:0
STATUS:CONFIRMED
SUMMARY:11&U-Rnd 3: Awesome Angels 11s1 (7) vs Aqua Mermaids (22)
TRANSP:OPAQUE
END:VEVENT
BEGIN:VEVENT
DTSTART:20170225T084500
DTEND:20170225T092500
DTSTAMP:20170222T224802Z
UID:e542098b50ae94d689b6e76078026d01@pvna.com.au
CREATED:20170222T224802Z
DESCRIPTION:2017 Autumn Section:11&Under\nRound:Rnd 4\n\nCurrent Ladder:\nTeam            P  W  L  D  Pts\nShooting Stars Diamonds 3  3  0  0  12\nNorthern Blues Cubs 3  2  1  0  8 \nAll Starz Jnr   2  2  0  0  8 \nAwesome Angels 11s1 3  2  1  0  8 \nAqua Mermaids   3  1  2  0  4 \nNorthern Blues Wallabies 3  1  2  0  4 \nBluebirds       3  1  2  0  4 \nNeon Nightmares 11s 3  0  3  0  0 \n
LAST-MODIFIED:20170222T224802Z
LOCATION:Court: 4
SEQUENCE:0
STATUS:CONFIRMED
SUMMARY:11&U-Rnd 4: Aqua Mermaids vs Northern Blues Cubs
TRANSP:OPAQUE
END:VEVENT
BEGIN:VEVENT
DTSTART:20170304T114500
DTEND:20170304T122500
DTSTAMP:20170222T224802Z
UID:56c0677eb78ac64b63430949798b98e2@pvna.com.au
CREATED:20170222T224802Z
DESCRIPTION:2017 Autumn Section:11&Under\nRound:Rnd 5
LAST-MODIFIED:20170222T224802Z
LOCATION:Court: 4
SEQUENCE:0
STATUS:CONFIRMED
SUMMARY:11&U-Rnd 5: Neon Nightmares 11s vs Aqua Mermaids
TRANSP:OPAQUE
END:VEVENT
BEGIN:VEVENT
DTSTART:20170318T093000
DTEND:20170318T101000
DTSTAMP:20170222T224802Z
UID:d958b6622ce8a9f28b3296b7043184ec@pvna.com.au
CREATED:20170222T224802Z
DESCRIPTION:2017 Autumn Section:11&Under\nRound:Rnd 6
LAST-MODIFIED:20170222T224802Z
LOCATION:Court: 1
SEQUENCE:0
STATUS:CONFIRMED
SUMMARY:11&U-Rnd 6: Northern Blues Wallabies vs Aqua Mermaids
TRANSP:OPAQUE
END:VEVENT
BEGIN:VEVENT
DTSTART:20170325T084500
DTEND:20170325T092500
DTSTAMP:20170222T224802Z
UID:1cd87cc2f4e6fe0d0dec2c83110844ba@pvna.com.au
CREATED:20170222T224802Z
DESCRIPTION:2017 Autumn Section:11&Under\nRound:Rnd 7
LAST-MODIFIED:20170222T224802Z
LOCATION:Court: 1
SEQUENCE:0
STATUS:CONFIRMED
SUMMARY:11&U-Rnd 7: Aqua Mermaids vs Bluebirds
TRANSP:OPAQUE
END:VEVENT
BEGIN:VEVENT
DTSTART:20170401T084500
DTEND:20170401T092500
DTSTAMP:20170222T224802Z
UID:b9afc8167a5bf38e363173bcc2e72c62@pvna.com.au
CREATED:20170222T224802Z
DESCRIPTION:2017 Autumn Section:11&Under\nRound:Rnd 8
LAST-MODIFIED:20170222T224802Z
LOCATION:Court: 3
SEQUENCE:0
STATUS:CONFIRMED
SUMMARY:11&U-Rnd 8: Aqua Mermaids vs Shooting Stars Diamonds
TRANSP:OPAQUE
END:VEVENT
BEGIN:VEVENT
DTSTART:20170422T093000
DTEND:20170422T101000
DTSTAMP:20170222T224802Z
UID:7e8fa07fd24a203a67a264abc7aea8e3@pvna.com.au
CREATED:20170222T224802Z
DESCRIPTION:2017 Autumn Section:11&Under\nRound:Rnd 9
LAST-MODIFIED:20170222T224802Z
LOCATION:Court: 99
SEQUENCE:0
STATUS:CONFIRMED
SUMMARY:11&U-Rnd 9: Aqua Mermaids vs BYE
TRANSP:OPAQUE
END:VEVENT
BEGIN:VEVENT
DTSTART:20170429T093000
DTEND:20170429T101000
DTSTAMP:20170222T224802Z
UID:a8cfe05a732772b9068efdade5713b90@pvna.com.au
CREATED:20170222T224802Z
DESCRIPTION:2017 Autumn Section:11&Under\nRound:Rnd 10
LAST-MODIFIED:20170222T224802Z
LOCATION:Court: 1
SEQUENCE:0
STATUS:CONFIRMED
SUMMARY:11&U-Rnd 10: Awesome Angels 11s1 vs Aqua Mermaids
TRANSP:OPAQUE
END:VEVENT
BEGIN:VEVENT
DTSTART:20170506T084500
DTEND:20170506T092500
DTSTAMP:20170222T224802Z
UID:934a48b09db9836cff4c6a059e6d37d0@pvna.com.au
CREATED:20170222T224802Z
DESCRIPTION:2017 Autumn Section:11&Under\nRound:Rnd 11
LAST-MODIFIED:20170222T224802Z
LOCATION:Court: 3
SEQUENCE:0
STATUS:CONFIRMED
SUMMARY:11&U-Rnd 11: Aqua Mermaids vs Northern Blues Cubs
TRANSP:OPAQUE
END:VEVENT
BEGIN:VEVENT
DTSTART:20170513T084500
DTEND:20170513T092500
DTSTAMP:20170222T224802Z
UID:4c401106df4bcfafb46b6d720f7cf8c9@pvna.com.au
CREATED:20170222T224802Z
DESCRIPTION:2017 Autumn Section:11&Under\nRound:Rnd 12
LAST-MODIFIED:20170222T224802Z
LOCATION:Court: 4
SEQUENCE:0
STATUS:CONFIRMED
SUMMARY:11&U-Rnd 12: Neon Nightmares 11s vs Aqua Mermaids
TRANSP:OPAQUE
END:VEVENT
BEGIN:VEVENT
DTSTART:20170520T093000
DTEND:20170520T101000
DTSTAMP:20170222T224802Z
UID:603dc1fb944948209367b52f2ac26a0e@pvna.com.au
CREATED:20170222T224802Z
DESCRIPTION:2017 Autumn Section:11&Under\nRound:Rnd 13
LAST-MODIFIED:20170222T224802Z
LOCATION:Court: 1
SEQUENCE:0
STATUS:CONFIRMED
SUMMARY:11&U-Rnd 13: Northern Blues Wallabies vs Aqua Mermaids
TRANSP:OPAQUE
END:VEVENT
BEGIN:VEVENT
DTSTART:20170527T084500
DTEND:20170527T092500
DTSTAMP:20170222T224802Z
UID:202159aa2f9a42f99ccaf1d7f31f0233@pvna.com.au
CREATED:20170222T224802Z
DESCRIPTION:2017 Autumn Section:11&Under\nRound:Rnd 14
LAST-MODIFIED:20170222T224802Z
LOCATION:Court: 3
SEQUENCE:0
STATUS:CONFIRMED
SUMMARY:11&U-Rnd 14: Aqua Mermaids vs Bluebirds
TRANSP:OPAQUE
END:VEVENT
BEGIN:VEVENT
DTSTART:20170617T084500
DTEND:20170617T092500
DTSTAMP:20170222T224802Z
UID:1c5946c6eb67584e9a40fac998e15a00@pvna.com.au
CREATED:20170222T224802Z
DESCRIPTION:2017 Autumn Section:11&Under\nRound:Rnd 16
LAST-MODIFIED:20170222T224802Z
LOCATION:Court: 3
SEQUENCE:0
STATUS:CONFIRMED
SUMMARY:11&U-Rnd 16: Aqua Mermaids vs Shooting Stars Diamonds
TRANSP:OPAQUE
END:VEVENT
BEGIN:VEVENT
DTSTART:20170624T093000
DTEND:20170624T101000
DTSTAMP:20170222T224802Z
UID:e5df6b9b1a2f5772f08e351253297efc@pvna.com.au
CREATED:20170222T224802Z
DESCRIPTION:2017 Autumn Section:11&Under\nRound:Rnd 17
LAST-MODIFIED:20170222T224802Z
LOCATION:Court: 99
SEQUENCE:0
STATUS:CONFIRMED
SUMMARY:11&U-Rnd 17: Aqua Mermaids vs BYE
TRANSP:OPAQUE
END:VEVENT
BEGIN:VEVENT
DTSTART:20170701T093000
DTEND:20170701T101000
DTSTAMP:20170222T224802Z
UID:af2a1efcbf868fcda116bf8bb8576852@pvna.com.au
CREATED:20170222T224802Z
DESCRIPTION:2017 Autumn Section:11&Under\nRound:Rnd 18
LAST-MODIFIED:20170222T224802Z
LOCATION:Court: 1
SEQUENCE:0
STATUS:CONFIRMED
SUMMARY:11&U-Rnd 18: Awesome Angels 11s1 vs Aqua Mermaids
TRANSP:OPAQUE
END:VEVENT
END:VCALENDAR
