BEGIN:VCALENDAR
PRODID:-//Google Inc//Google Calendar 70.9054//EN
VERSION:2.0
CALSCALE:GREGORIAN
METHOD:PUBLISH
X-WR-CALNAME:PV Comets Awesome Angels 8-10s1
X-WR-TIMEZONE:Australia/Sydney
X-WR-CALDESC:PV Comets Parkville Calendars
BEGIN:VEVENT
DTSTART:20170722T114500
DTEND:20170722T122500
DTSTAMP:20171209T065844Z
UID:a08b914bb1834a633c01cc13f1c44cb6@pvna.com.au
CREATED:20171209T065844Z
DESCRIPTION:2017 Spring Section:8-10s\nRound:Rnd 1
LAST-MODIFIED:20171209T065844Z
LOCATION:Court: 1
SEQUENCE:0
STATUS:CONFIRMED
SUMMARY:8-10-Rnd 1: Awesome Angels 8-10s1 (16) vs Awesome Angels 8-10s2 (0)
TRANSP:OPAQUE
END:VEVENT
BEGIN:VEVENT
DTSTART:20170729T084500
DTEND:20170729T092500
DTSTAMP:20171209T065844Z
UID:cb01dd7ad3b14ae667c25a869d727139@pvna.com.au
CREATED:20171209T065844Z
DESCRIPTION:2017 Spring Section:8-10s\nRound:Rnd 2
LAST-MODIFIED:20171209T065844Z
LOCATION:Court: 2
SEQUENCE:0
STATUS:CONFIRMED
SUMMARY:8-10-Rnd 2: Little Dolphins (0) vs Awesome Angels 8-10s1 (25)
TRANSP:OPAQUE
END:VEVENT
BEGIN:VEVENT
DTSTART:20170805T131500
DTEND:20170805T135500
DTSTAMP:20171209T065844Z
UID:8823052474ce877f656f973a9abc6a1c@pvna.com.au
CREATED:20171209T065844Z
DESCRIPTION:2017 Spring Section:8-10s\nRound:Rnd 3
LAST-MODIFIED:20171209T065844Z
LOCATION:Court: 99
SEQUENCE:0
STATUS:CONFIRMED
SUMMARY:8-10-Rnd 3: Awesome Angels 8-10s1 vs BYE
TRANSP:OPAQUE
END:VEVENT
BEGIN:VEVENT
DTSTART:20170812T114500
DTEND:20170812T122500
DTSTAMP:20171209T065844Z
UID:557fbb04ba275bfa64955dd7984d9209@pvna.com.au
CREATED:20171209T065844Z
DESCRIPTION:2017 Spring Section:8-10s\nRound:Rnd 4
LAST-MODIFIED:20171209T065844Z
LOCATION:Court: 1
SEQUENCE:0
STATUS:CONFIRMED
SUMMARY:8-10-Rnd 4: Awesome Angels 8-10s1 (10) vs Golden Girls (5)
TRANSP:OPAQUE
END:VEVENT
BEGIN:VEVENT
DTSTART:20170819T084500
DTEND:20170819T092500
DTSTAMP:20171209T065844Z
UID:be1b5c8fa9cdd3ae65d0e753954b6389@pvna.com.au
CREATED:20171209T065844Z
DESCRIPTION:2017 Spring Section:8-10s\nRound:Rnd 5
LAST-MODIFIED:20171209T065844Z
LOCATION:Court: 3
SEQUENCE:0
STATUS:CONFIRMED
SUMMARY:8-10-Rnd 5: Northern Blues Chicks (4) vs Awesome Angels 8-10s1 (13)
TRANSP:OPAQUE
END:VEVENT
BEGIN:VEVENT
DTSTART:20170826T084500
DTEND:20170826T092500
DTSTAMP:20171209T065844Z
UID:1d9d6d71eea08866610279c7d38175fe@pvna.com.au
CREATED:20171209T065844Z
DESCRIPTION:2017 Spring Section:8-10s\nRound:Rnd 6
LAST-MODIFIED:20171209T065844Z
LOCATION:Court: 2
SEQUENCE:0
STATUS:CONFIRMED
SUMMARY:8-10-Rnd 6: Awesome Angels 8-10s2 (0) vs Awesome Angels 8-10s1 (23)
TRANSP:OPAQUE
END:VEVENT
BEGIN:VEVENT
DTSTART:20170902T123000
DTEND:20170902T131000
DTSTAMP:20171209T065844Z
UID:cf4ef431059645906cb981f25005a1a2@pvna.com.au
CREATED:20171209T065844Z
DESCRIPTION:2017 Spring Section:8-10s\nRound:Rnd 7
LAST-MODIFIED:20171209T065844Z
LOCATION:Court: 1
SEQUENCE:0
STATUS:CONFIRMED
SUMMARY:8-10-Rnd 7: Little Dolphins (1) vs Awesome Angels 8-10s1 (22)
TRANSP:OPAQUE
END:VEVENT
BEGIN:VEVENT
DTSTART:20170909T131500
DTEND:20170909T135500
DTSTAMP:20171209T065844Z
UID:747cceb564a66b2df491803607cbefb7@pvna.com.au
CREATED:20171209T065844Z
DESCRIPTION:2017 Spring Section:8-10s\nRound:Rnd 8
LAST-MODIFIED:20171209T065844Z
LOCATION:Court: 99
SEQUENCE:0
STATUS:CONFIRMED
SUMMARY:8-10-Rnd 8: Awesome Angels 8-10s1 vs BYE
TRANSP:OPAQUE
END:VEVENT
BEGIN:VEVENT
DTSTART:20170916T123000
DTEND:20170916T131000
DTSTAMP:20171209T065844Z
UID:e37a9c5da3f99e9995f2714e9798d320@pvna.com.au
CREATED:20171209T065844Z
DESCRIPTION:2017 Spring Section:8-10s\nRound:Rnd 9
LAST-MODIFIED:20171209T065844Z
LOCATION:Court: 3
SEQUENCE:0
STATUS:CONFIRMED
SUMMARY:8-10-Rnd 9: Golden Girls (4) vs Awesome Angels 8-10s1 (14)
TRANSP:OPAQUE
END:VEVENT
BEGIN:VEVENT
DTSTART:20170923T123000
DTEND:20170923T131000
DTSTAMP:20171209T065844Z
UID:8fb66f6b599ab27cd9428c573e02e077@pvna.com.au
CREATED:20171209T065844Z
DESCRIPTION:2017 Spring Section:8-10s\nRound:Rnd 10
LAST-MODIFIED:20171209T065844Z
LOCATION:Court: 2
SEQUENCE:0
STATUS:CONFIRMED
SUMMARY:8-10-Rnd 10: Awesome Angels 8-10s1 (11) vs Northern Blues Chicks (2)
TRANSP:OPAQUE
END:VEVENT
BEGIN:VEVENT
DTSTART:20171014T114500
DTEND:20171014T122500
DTSTAMP:20171209T065844Z
UID:0caba862f70be232e526065e8402b16d@pvna.com.au
CREATED:20171209T065844Z
DESCRIPTION:2017 Spring Section:8-10s\nRound:Rnd 11
LAST-MODIFIED:20171209T065844Z
LOCATION:Court: 1
SEQUENCE:0
STATUS:CONFIRMED
SUMMARY:8-10-Rnd 11: Awesome Angels 8-10s1 (13) vs Awesome Angels 8-10s2 (5)
TRANSP:OPAQUE
END:VEVENT
BEGIN:VEVENT
DTSTART:20171021T123000
DTEND:20171021T131000
DTSTAMP:20171209T065844Z
UID:f336fe7ea02e2c874a9e1069e32c9212@pvna.com.au
CREATED:20171209T065844Z
DESCRIPTION:2017 Spring Section:8-10s\nRound:Rnd 12
LAST-MODIFIED:20171209T065844Z
LOCATION:Court: 2
SEQUENCE:0
STATUS:CONFIRMED
SUMMARY:8-10-Rnd 12: Awesome Angels 8-10s1 (24) vs Little Dolphins (0)
TRANSP:OPAQUE
END:VEVENT
BEGIN:VEVENT
DTSTART:20171028T131500
DTEND:20171028T135500
DTSTAMP:20171209T065844Z
UID:6435e7ad82db60c0d0f05a831a45b1e7@pvna.com.au
CREATED:20171209T065844Z
DESCRIPTION:2017 Spring Section:8-10s\nRound:Rnd 13
LAST-MODIFIED:20171209T065844Z
LOCATION:Court: 99
SEQUENCE:0
STATUS:CONFIRMED
SUMMARY:8-10-Rnd 13: Awesome Angels 8-10s1 vs BYE
TRANSP:OPAQUE
END:VEVENT
BEGIN:VEVENT
DTSTART:20171111T084500
DTEND:20171111T092500
DTSTAMP:20171209T065844Z
UID:74fcf73c135a7d8defecf1d6e6f04d00@pvna.com.au
CREATED:20171209T065844Z
DESCRIPTION:2017 Spring Section:8-10s\nRound:Rnd 14
LAST-MODIFIED:20171209T065844Z
LOCATION:Court: 1
SEQUENCE:0
STATUS:CONFIRMED
SUMMARY:8-10-Rnd 14: Golden Girls (8) vs Awesome Angels 8-10s1 (12)
TRANSP:OPAQUE
END:VEVENT
BEGIN:VEVENT
DTSTART:20171118T093000
DTEND:20171118T101000
DTSTAMP:20171209T065844Z
UID:2b165d8cf2611432a4039e42b5c09efc@pvna.com.au
CREATED:20171209T065844Z
DESCRIPTION:2017 Spring Section:8-10s\nRound:Rnd 15
LAST-MODIFIED:20171209T065844Z
LOCATION:Court: 4
SEQUENCE:0
STATUS:CONFIRMED
SUMMARY:8-10-Rnd 15: Awesome Angels 8-10s1 (7) vs Northern Blues Chicks (7)
TRANSP:OPAQUE
END:VEVENT
BEGIN:VEVENT
DTSTART:20171125T104000
DTEND:20171125T101000
DTSTAMP:20171209T065844Z
UID:f9516d13ed803a193f17d7be9e388da1@pvna.com.au
CREATED:20171209T065844Z
DESCRIPTION:2017 Spring Section:8-10s\nRound:Rnd 16
LAST-MODIFIED:20171209T065844Z
LOCATION:Court: 4
SEQUENCE:0
STATUS:CONFIRMED
SUMMARY:8-10-Rnd 16: Awesome Angels 8-10s1 (11) vs Awesome Angels 8-10s2 (4)
TRANSP:OPAQUE
END:VEVENT
BEGIN:VEVENT
DTSTART:20171202T090000
DTEND:20171202T094000
DTSTAMP:20171209T065844Z
UID:85368a53c2bdc1e4b8f2d87883edecee@pvna.com.au
CREATED:20171209T065844Z
DESCRIPTION:2017 Spring Section:8-10s\nRound:Rnd 17
LAST-MODIFIED:20171209T065844Z
LOCATION:Court: 2
SEQUENCE:0
STATUS:CONFIRMED
SUMMARY:8-10-Rnd 17: Little Dolphins (0) vs Awesome Angels 8-10s1 (19)
TRANSP:OPAQUE
END:VEVENT
END:VCALENDAR
