BEGIN:VCALENDAR
PRODID:-//Google Inc//Google Calendar 70.9054//EN
VERSION:2.0
CALSCALE:GREGORIAN
METHOD:PUBLISH
X-WR-CALNAME:PV Comets Black Panthers
X-WR-TIMEZONE:Australia/Sydney
X-WR-CALDESC:PV Comets Parkville Calendars
BEGIN:VEVENT
DTSTART:20170204T084500
DTEND:20170204T092500
DTSTAMP:20170701T154700Z
UID:59b2ff0b5a201777bac5f04f71d6796a@pvna.com.au
CREATED:20170701T154700Z
DESCRIPTION:2017 Autumn Section:17&Under\nRound:Rnd 1
LAST-MODIFIED:20170701T154700Z
LOCATION:Court: 1
SEQUENCE:0
STATUS:CONFIRMED
SUMMARY:17&U-Rnd 1: Blazers (20) vs Black Panthers (8)
TRANSP:OPAQUE
END:VEVENT
BEGIN:VEVENT
DTSTART:20170211T093000
DTEND:20170211T101000
DTSTAMP:20170701T154700Z
UID:c764785ba694aa4b1a6e1e62df45b173@pvna.com.au
CREATED:20170701T154700Z
DESCRIPTION:2017 Autumn Section:17&Under\nRound:Rnd 2
LAST-MODIFIED:20170701T154700Z
LOCATION:Court: 3
SEQUENCE:0
STATUS:CONFIRMED
SUMMARY:17&U-Rnd 2: Black Panthers (3) vs V.S.Connected II (33)
TRANSP:OPAQUE
END:VEVENT
BEGIN:VEVENT
DTSTART:20170218T093000
DTEND:20170218T101000
DTSTAMP:20170701T154700Z
UID:a7429da0f762f78ab9162fda2a196497@pvna.com.au
CREATED:20170701T154700Z
DESCRIPTION:2017 Autumn Section:17&Under\nRound:Rnd 3
LAST-MODIFIED:20170701T154700Z
LOCATION:Court: 1
SEQUENCE:0
STATUS:CONFIRMED
SUMMARY:17&U-Rnd 3: Phoenix (50) vs Black Panthers (6)
TRANSP:OPAQUE
END:VEVENT
BEGIN:VEVENT
DTSTART:20170225T101500
DTEND:20170225T105500
DTSTAMP:20170701T154700Z
UID:f0c0e4424d909723a22e1f3bb93a7a46@pvna.com.au
CREATED:20170701T154700Z
DESCRIPTION:2017 Autumn Section:17&Under\nRound:Rnd 4
LAST-MODIFIED:20170701T154700Z
LOCATION:Court: 1
SEQUENCE:0
STATUS:CONFIRMED
SUMMARY:17&U-Rnd 4: 19s (18) vs Black Panthers (9)
TRANSP:OPAQUE
END:VEVENT
BEGIN:VEVENT
DTSTART:20170304T131500
DTEND:20170304T135500
DTSTAMP:20170701T154700Z
UID:6ae564687db224a70afe3eca9945a9b2@pvna.com.au
CREATED:20170701T154700Z
DESCRIPTION:2017 Autumn Section:17&Under\nRound:Rnd 5
LAST-MODIFIED:20170701T154700Z
LOCATION:Court: 2
SEQUENCE:0
STATUS:CONFIRMED
SUMMARY:17&U-Rnd 5: Black Panthers (14) vs Force (39)
TRANSP:OPAQUE
END:VEVENT
BEGIN:VEVENT
DTSTART:20170318T114500
DTEND:20170318T122500
DTSTAMP:20170701T154700Z
UID:00e5b6e258df0647de67d70436e30381@pvna.com.au
CREATED:20170701T154700Z
DESCRIPTION:2017 Autumn Section:17&Under\nRound:Rnd 6
LAST-MODIFIED:20170701T154700Z
LOCATION:Court: 2
SEQUENCE:0
STATUS:CONFIRMED
SUMMARY:17&U-Rnd 6: Black Panthers (11) vs Shooting Stars Magic (28)
TRANSP:OPAQUE
END:VEVENT
BEGIN:VEVENT
DTSTART:20170325T093000
DTEND:20170325T101000
DTSTAMP:20170701T154700Z
UID:6e59b16089cda4705b54d887055e40f8@pvna.com.au
CREATED:20170701T154700Z
DESCRIPTION:2017 Autumn Section:17&Under\nRound:Rnd 7
LAST-MODIFIED:20170701T154700Z
LOCATION:Court: 2
SEQUENCE:0
STATUS:CONFIRMED
SUMMARY:17&U-Rnd 7: Black Panthers (12) vs Fireflyz (27)
TRANSP:OPAQUE
END:VEVENT
BEGIN:VEVENT
DTSTART:20170401T110000
DTEND:20170401T114500
DTSTAMP:20170701T154700Z
UID:87e3884c15ed16f03886ada250b78e5a@pvna.com.au
CREATED:20170701T154700Z
DESCRIPTION:2017 Autumn Section:17&Under\nRound:Rnd 8
LAST-MODIFIED:20170701T154700Z
LOCATION:Court: 1
SEQUENCE:0
STATUS:CONFIRMED
SUMMARY:17&U-Rnd 8: Black Panthers (18) vs Blazers (31)
TRANSP:OPAQUE
END:VEVENT
BEGIN:VEVENT
DTSTART:20170422T084500
DTEND:20170422T092500
DTSTAMP:20170701T154700Z
UID:a6cd8ed49b6c34374781f8ac13d4e5fe@pvna.com.au
CREATED:20170701T154700Z
DESCRIPTION:2017 Autumn Section:17&Under\nRound:Rnd 9
LAST-MODIFIED:20170701T154700Z
LOCATION:Court: 2
SEQUENCE:0
STATUS:CONFIRMED
SUMMARY:17&U-Rnd 9: Black Panthers (2) vs V.S.Connected II (51)
TRANSP:OPAQUE
END:VEVENT
BEGIN:VEVENT
DTSTART:20170429T123000
DTEND:20170429T131000
DTSTAMP:20170701T154700Z
UID:a39e87cf4df4fd74eb810ec1a60a0ba3@pvna.com.au
CREATED:20170701T154700Z
DESCRIPTION:2017 Autumn Section:17&Under\nRound:Rnd 10
LAST-MODIFIED:20170701T154700Z
LOCATION:Court: 3
SEQUENCE:0
STATUS:CONFIRMED
SUMMARY:17&U-Rnd 10: Phoenix (52) vs Black Panthers (11)
TRANSP:OPAQUE
END:VEVENT
BEGIN:VEVENT
DTSTART:20170506T114500
DTEND:20170506T122500
DTSTAMP:20170701T154700Z
UID:e612011f20e49e9840a8c66e3d9579d2@pvna.com.au
CREATED:20170701T154700Z
DESCRIPTION:2017 Autumn Section:17&Under\nRound:Rnd 11
LAST-MODIFIED:20170701T154700Z
LOCATION:Court: 99
SEQUENCE:0
STATUS:CONFIRMED
SUMMARY:17&U-Rnd 11: Black Panthers vs BYE
TRANSP:OPAQUE
END:VEVENT
BEGIN:VEVENT
DTSTART:20170513T123000
DTEND:20170513T131000
DTSTAMP:20170701T154700Z
UID:3debfa84256286d2010d887a70fda524@pvna.com.au
CREATED:20170701T154700Z
DESCRIPTION:2017 Autumn Section:17&Under\nRound:Rnd 12
LAST-MODIFIED:20170701T154700Z
LOCATION:Court: 2
SEQUENCE:0
STATUS:CONFIRMED
SUMMARY:17&U-Rnd 12: Black Panthers (15) vs Force (34)
TRANSP:OPAQUE
END:VEVENT
BEGIN:VEVENT
DTSTART:20170520T114500
DTEND:20170520T122500
DTSTAMP:20170701T154700Z
UID:279cd90c5c185127fe0adc0f8bb36e9c@pvna.com.au
CREATED:20170701T154700Z
DESCRIPTION:2017 Autumn Section:17&Under\nRound:Rnd 13
LAST-MODIFIED:20170701T154700Z
LOCATION:Court: 1
SEQUENCE:0
STATUS:CONFIRMED
SUMMARY:17&U-Rnd 13: Black Panthers (8) vs Shooting Stars Magic (26)
TRANSP:OPAQUE
END:VEVENT
BEGIN:VEVENT
DTSTART:20170527T084500
DTEND:20170527T092500
DTSTAMP:20170701T154700Z
UID:6516be0ece9230ec5071d5c603212ce6@pvna.com.au
CREATED:20170701T154700Z
DESCRIPTION:2017 Autumn Section:17&Under\nRound:Rnd 14
LAST-MODIFIED:20170701T154700Z
LOCATION:Court: 1
SEQUENCE:0
STATUS:CONFIRMED
SUMMARY:17&U-Rnd 14: Fireflyz (0) vs Black Panthers (10)
TRANSP:OPAQUE
END:VEVENT
BEGIN:VEVENT
DTSTART:20170603T110000
DTEND:20170603T114500
DTSTAMP:20170701T154700Z
UID:d01f0a1e18d6241d40f22c9c963531cf@pvna.com.au
CREATED:20170701T154700Z
DESCRIPTION:2017 Autumn Section:17&Under\nRound:Rnd 15
LAST-MODIFIED:20170701T154700Z
LOCATION:Court: 2
SEQUENCE:0
STATUS:CONFIRMED
SUMMARY:17&U-Rnd 15: Black Panthers (14) vs Blazers (36)
TRANSP:OPAQUE
END:VEVENT
END:VCALENDAR
