BEGIN:VCALENDAR
PRODID:-//Google Inc//Google Calendar 70.9054//EN
VERSION:2.0
CALSCALE:GREGORIAN
METHOD:PUBLISH
X-WR-CALNAME:PV Comets Bluebirds
X-WR-TIMEZONE:Australia/Sydney
X-WR-CALDESC:PV Comets Parkville Calendars
BEGIN:VEVENT
DTSTART:20170722T101500
DTEND:20170722T105500
DTSTAMP:20171209T065844Z
UID:0aebe231d3ccc0b555b79f64b9f02c5a@pvna.com.au
CREATED:20171209T065844Z
DESCRIPTION:2017 Spring Section:11&Under\nRound:Rnd 1
LAST-MODIFIED:20171209T065844Z
LOCATION:Court: 2
SEQUENCE:0
STATUS:CONFIRMED
SUMMARY:11&U-Rnd 1: Bluebirds (6) vs Falcons (14)
TRANSP:OPAQUE
END:VEVENT
BEGIN:VEVENT
DTSTART:20170729T114500
DTEND:20170729T122500
DTSTAMP:20171209T065844Z
UID:a5f95bfc93384ad31004d663b7a3eae0@pvna.com.au
CREATED:20171209T065844Z
DESCRIPTION:2017 Spring Section:11&Under\nRound:Rnd 2
LAST-MODIFIED:20171209T065844Z
LOCATION:Court: 2
SEQUENCE:0
STATUS:CONFIRMED
SUMMARY:11&U-Rnd 2: Awesome Angels 11s1 (7) vs Bluebirds (5)
TRANSP:OPAQUE
END:VEVENT
BEGIN:VEVENT
DTSTART:20170805T084500
DTEND:20170805T092500
DTSTAMP:20171209T065844Z
UID:0b5bd635296de16716908787f68c1757@pvna.com.au
CREATED:20171209T065844Z
DESCRIPTION:2017 Spring Section:11&Under\nRound:Rnd 3
LAST-MODIFIED:20171209T065844Z
LOCATION:Court: 5
SEQUENCE:0
STATUS:CONFIRMED
SUMMARY:11&U-Rnd 3: Bluebirds (5) vs Neon Nightmares 11s (4)
TRANSP:OPAQUE
END:VEVENT
BEGIN:VEVENT
DTSTART:20170812T131500
DTEND:20170812T135500
DTSTAMP:20171209T065844Z
UID:031afd03a7246abdb40d72a15258ec5e@pvna.com.au
CREATED:20171209T065844Z
DESCRIPTION:2017 Spring Section:11&Under\nRound:Rnd 4
LAST-MODIFIED:20171209T065844Z
LOCATION:Court: 99
SEQUENCE:0
STATUS:CONFIRMED
SUMMARY:11&U-Rnd 4: Bluebirds vs BYE
TRANSP:OPAQUE
END:VEVENT
BEGIN:VEVENT
DTSTART:20170819T084500
DTEND:20170819T092500
DTSTAMP:20171209T065844Z
UID:abbcc85880cfbd6ded9d54ec81ffa41d@pvna.com.au
CREATED:20171209T065844Z
DESCRIPTION:2017 Spring Section:11&Under\nRound:Rnd 5
LAST-MODIFIED:20171209T065844Z
LOCATION:Court: 4
SEQUENCE:0
STATUS:CONFIRMED
SUMMARY:11&U-Rnd 5: Bluebirds (13) vs Waterlillies (3)
TRANSP:OPAQUE
END:VEVENT
BEGIN:VEVENT
DTSTART:20170826T093000
DTEND:20170826T101000
DTSTAMP:20171209T065844Z
UID:e270813b4154dbcfdf1b371576dbc8eb@pvna.com.au
CREATED:20171209T065844Z
DESCRIPTION:2017 Spring Section:11&Under\nRound:Rnd 6
LAST-MODIFIED:20171209T065844Z
LOCATION:Court: 4
SEQUENCE:0
STATUS:CONFIRMED
SUMMARY:11&U-Rnd 6: Northern Blues Cubs (2) vs Bluebirds (4)
TRANSP:OPAQUE
END:VEVENT
BEGIN:VEVENT
DTSTART:20170902T110000
DTEND:20170902T114500
DTSTAMP:20171209T065844Z
UID:865bf6c59a9f19c77a0de22f1297f410@pvna.com.au
CREATED:20171209T065844Z
DESCRIPTION:2017 Spring Section:11&Under\nRound:Rnd 7
LAST-MODIFIED:20171209T065844Z
LOCATION:Court: 5
SEQUENCE:0
STATUS:CONFIRMED
SUMMARY:11&U-Rnd 7: All Starz Jnr (17) vs Bluebirds (6)
TRANSP:OPAQUE
END:VEVENT
BEGIN:VEVENT
DTSTART:20170909T084500
DTEND:20170909T092500
DTSTAMP:20171209T065844Z
UID:19ea305ecb8b71b47a3f2778d8006d8e@pvna.com.au
CREATED:20171209T065844Z
DESCRIPTION:2017 Spring Section:11&Under\nRound:Rnd 8
LAST-MODIFIED:20171209T065844Z
LOCATION:Court: 4
SEQUENCE:0
STATUS:CONFIRMED
SUMMARY:11&U-Rnd 8: Bluebirds (11) vs Falcons (22)
TRANSP:OPAQUE
END:VEVENT
BEGIN:VEVENT
DTSTART:20170916T093000
DTEND:20170916T101000
DTSTAMP:20171209T065844Z
UID:f4d0edf59d189ae8ed81c0a5a61a75b2@pvna.com.au
CREATED:20171209T065844Z
DESCRIPTION:2017 Spring Section:11&Under\nRound:Rnd 9
LAST-MODIFIED:20171209T065844Z
LOCATION:Court: 4
SEQUENCE:0
STATUS:CONFIRMED
SUMMARY:11&U-Rnd 9: Awesome Angels 11s1 (1) vs Bluebirds (7)
TRANSP:OPAQUE
END:VEVENT
BEGIN:VEVENT
DTSTART:20170923T084500
DTEND:20170923T092500
DTSTAMP:20171209T065844Z
UID:eb98bdee3594b4b899b9e93595602a0f@pvna.com.au
CREATED:20171209T065844Z
DESCRIPTION:2017 Spring Section:11&Under\nRound:Rnd 10
LAST-MODIFIED:20171209T065844Z
LOCATION:Court: 3
SEQUENCE:0
STATUS:CONFIRMED
SUMMARY:11&U-Rnd 10: Bluebirds (4) vs Neon Nightmares 11s (10)
TRANSP:OPAQUE
END:VEVENT
BEGIN:VEVENT
DTSTART:20171014T131500
DTEND:20171014T135500
DTSTAMP:20171209T065844Z
UID:aa76e5f168ca1946ee7cff985ae607d0@pvna.com.au
CREATED:20171209T065844Z
DESCRIPTION:2017 Spring Section:11&Under\nRound:Rnd 11
LAST-MODIFIED:20171209T065844Z
LOCATION:Court: 99
SEQUENCE:0
STATUS:CONFIRMED
SUMMARY:11&U-Rnd 11: Bluebirds vs BYE
TRANSP:OPAQUE
END:VEVENT
BEGIN:VEVENT
DTSTART:20171021T084500
DTEND:20171021T092500
DTSTAMP:20171209T065844Z
UID:7001cf65b938a7ba968757254c62a178@pvna.com.au
CREATED:20171209T065844Z
DESCRIPTION:2017 Spring Section:11&Under\nRound:Rnd 12
LAST-MODIFIED:20171209T065844Z
LOCATION:Court: 4
SEQUENCE:0
STATUS:CONFIRMED
SUMMARY:11&U-Rnd 12: Bluebirds (15) vs Waterlillies (2)
TRANSP:OPAQUE
END:VEVENT
BEGIN:VEVENT
DTSTART:20171028T084500
DTEND:20171028T092500
DTSTAMP:20171209T065844Z
UID:e1d2b271f737ab45e7f466e663cf0bcf@pvna.com.au
CREATED:20171209T065844Z
DESCRIPTION:2017 Spring Section:11&Under\nRound:Rnd 13
LAST-MODIFIED:20171209T065844Z
LOCATION:Court: 4
SEQUENCE:0
STATUS:CONFIRMED
SUMMARY:11&U-Rnd 13: Northern Blues Cubs (13) vs Bluebirds (4)
TRANSP:OPAQUE
END:VEVENT
BEGIN:VEVENT
DTSTART:20171111T101500
DTEND:20171111T105500
DTSTAMP:20171209T065844Z
UID:901e82c4a03be46903b63915642b6eae@pvna.com.au
CREATED:20171209T065844Z
DESCRIPTION:2017 Spring Section:11&Under\nRound:Rnd 14
LAST-MODIFIED:20171209T065844Z
LOCATION:Court: 3
SEQUENCE:0
STATUS:CONFIRMED
SUMMARY:11&U-Rnd 14: All Starz Jnr (16) vs Bluebirds (5)
TRANSP:OPAQUE
END:VEVENT
BEGIN:VEVENT
DTSTART:20171118T101500
DTEND:20171118T105500
DTSTAMP:20171209T065844Z
UID:44131ab068bd886b29ad2c9b79496192@pvna.com.au
CREATED:20171209T065844Z
DESCRIPTION:2017 Spring Section:11&Under\nRound:Rnd 15
LAST-MODIFIED:20171209T065844Z
LOCATION:Court: 4
SEQUENCE:0
STATUS:CONFIRMED
SUMMARY:11&U-Rnd 15: Falcons (11) vs Bluebirds (2)
TRANSP:OPAQUE
END:VEVENT
BEGIN:VEVENT
DTSTART:20171125T095000
DTEND:20171125T105500
DTSTAMP:20171209T065844Z
UID:c03fa7f5ed0f32f40d4c1972dd6ec74c@pvna.com.au
CREATED:20171209T065844Z
DESCRIPTION:2017 Spring Section:11&Under\nRound:Rnd 16
LAST-MODIFIED:20171209T065844Z
LOCATION:Court: 4
SEQUENCE:0
STATUS:CONFIRMED
SUMMARY:11&U-Rnd 16: Awesome Angels 11s1 (6) vs Bluebirds (9)
TRANSP:OPAQUE
END:VEVENT
BEGIN:VEVENT
DTSTART:20171202T110000
DTEND:20171202T114500
DTSTAMP:20171209T065844Z
UID:4a766bf2b4c2331b1be48a595389984b@pvna.com.au
CREATED:20171209T065844Z
DESCRIPTION:2017 Spring Section:11&Under\nRound:Rnd 17
LAST-MODIFIED:20171209T065844Z
LOCATION:Court: 1
SEQUENCE:0
STATUS:CONFIRMED
SUMMARY:11&U-Rnd 17: Bluebirds vs Northern Blues Cubs
TRANSP:OPAQUE
END:VEVENT
END:VCALENDAR
