BEGIN:VCALENDAR
PRODID:-//Google Inc//Google Calendar 70.9054//EN
VERSION:2.0
CALSCALE:GREGORIAN
METHOD:PUBLISH
X-WR-CALNAME:PV Comets Cruisers
X-WR-TIMEZONE:Australia/Sydney
X-WR-CALDESC:PV Comets Parkville Calendars
BEGIN:VEVENT
DTSTART:20170204T093000
DTEND:20170204T101000
DTSTAMP:20170701T154700Z
UID:7a59f448cfd68ad124863bd4a8cee99c@pvna.com.au
CREATED:20170701T154700Z
DESCRIPTION:2017 Autumn Section:19&Under\nRound:Rnd 1
LAST-MODIFIED:20170701T154700Z
LOCATION:Court: 1
SEQUENCE:0
STATUS:CONFIRMED
SUMMARY:19&U-Rnd 1: Dynamite (31) vs Cruisers (4)
TRANSP:OPAQUE
END:VEVENT
BEGIN:VEVENT
DTSTART:20170211T093000
DTEND:20170211T101000
DTSTAMP:20170701T154700Z
UID:fe63a44b0aef54310acd1933bb7cceb0@pvna.com.au
CREATED:20170701T154700Z
DESCRIPTION:2017 Autumn Section:19&Under\nRound:Rnd 2
LAST-MODIFIED:20170701T154700Z
LOCATION:Court: 2
SEQUENCE:0
STATUS:CONFIRMED
SUMMARY:19&U-Rnd 2: Cruisers (21) vs Northern Blues Tigers (13)
TRANSP:OPAQUE
END:VEVENT
BEGIN:VEVENT
DTSTART:20170218T084500
DTEND:20170218T092500
DTSTAMP:20170701T154700Z
UID:8111f083e698524e252bd6b64b9a2684@pvna.com.au
CREATED:20170701T154700Z
DESCRIPTION:2017 Autumn Section:19&Under\nRound:Rnd 3
LAST-MODIFIED:20170701T154700Z
LOCATION:Court: 1
SEQUENCE:0
STATUS:CONFIRMED
SUMMARY:19&U-Rnd 3: Cruisers (1) vs Northern Blues Lions (14)
TRANSP:OPAQUE
END:VEVENT
BEGIN:VEVENT
DTSTART:20170225T101500
DTEND:20170225T105500
DTSTAMP:20170701T154700Z
UID:d8438e86ca4eaa55d6c14643038b8616@pvna.com.au
CREATED:20170701T154700Z
DESCRIPTION:2017 Autumn Section:19&Under\nRound:Rnd 4
LAST-MODIFIED:20170701T154700Z
LOCATION:Court: 1
SEQUENCE:0
STATUS:CONFIRMED
SUMMARY:19&U-Rnd 4: Cruisers (18) vs 17s (9)
TRANSP:OPAQUE
END:VEVENT
BEGIN:VEVENT
DTSTART:20170304T101500
DTEND:20170304T105500
DTSTAMP:20170701T154700Z
UID:2676effb07a7c23023cd90926594d49d@pvna.com.au
CREATED:20170701T154700Z
DESCRIPTION:2017 Autumn Section:19&Under\nRound:Rnd 5
LAST-MODIFIED:20170701T154700Z
LOCATION:Court: 3
SEQUENCE:0
STATUS:CONFIRMED
SUMMARY:19&U-Rnd 5: V.S.Connected I (40) vs Cruisers (7)
TRANSP:OPAQUE
END:VEVENT
BEGIN:VEVENT
DTSTART:20170318T093000
DTEND:20170318T101000
DTSTAMP:20170701T154700Z
UID:079149787fa205d60ea8fba64cc46ae9@pvna.com.au
CREATED:20170701T154700Z
DESCRIPTION:2017 Autumn Section:19&Under\nRound:Rnd 6
LAST-MODIFIED:20170701T154700Z
LOCATION:Court: 1
SEQUENCE:0
STATUS:CONFIRMED
SUMMARY:19&U-Rnd 6: Cruisers (16) vs Northern Blues Tigers (19)
TRANSP:OPAQUE
END:VEVENT
BEGIN:VEVENT
DTSTART:20170325T084500
DTEND:20170325T092500
DTSTAMP:20170701T154700Z
UID:6a41fddc41ad7713d4848a18b75ad13d@pvna.com.au
CREATED:20170701T154700Z
DESCRIPTION:2017 Autumn Section:19&Under\nRound:Rnd 7
LAST-MODIFIED:20170701T154700Z
LOCATION:Court: 2
SEQUENCE:0
STATUS:CONFIRMED
SUMMARY:19&U-Rnd 7: Cruisers (13) vs Blaze Jnr (30)
TRANSP:OPAQUE
END:VEVENT
BEGIN:VEVENT
DTSTART:20170401T093000
DTEND:20170401T101000
DTSTAMP:20170701T154700Z
UID:43e4e160cc6a97e47bbbec4efd129dbb@pvna.com.au
CREATED:20170701T154700Z
DESCRIPTION:2017 Autumn Section:19&Under\nRound:Rnd 8
LAST-MODIFIED:20170701T154700Z
LOCATION:Court: 3
SEQUENCE:0
STATUS:CONFIRMED
SUMMARY:19&U-Rnd 8: Rush (8) vs Cruisers (18)
TRANSP:OPAQUE
END:VEVENT
BEGIN:VEVENT
DTSTART:20170422T101500
DTEND:20170422T105500
DTSTAMP:20170701T154700Z
UID:513d4541bc2cedbfc6efac46405e3080@pvna.com.au
CREATED:20170701T154700Z
DESCRIPTION:2017 Autumn Section:19&Under\nRound:Rnd 9
LAST-MODIFIED:20170701T154700Z
LOCATION:Court: 1
SEQUENCE:0
STATUS:CONFIRMED
SUMMARY:19&U-Rnd 9: Cruisers (6) vs Superstars (40)
TRANSP:OPAQUE
END:VEVENT
BEGIN:VEVENT
DTSTART:20170429T101500
DTEND:20170429T105500
DTSTAMP:20170701T154700Z
UID:c25cfca3a9d21c5b7daafe7491e8c2c7@pvna.com.au
CREATED:20170701T154700Z
DESCRIPTION:2017 Autumn Section:19&U Res\nRound:Rnd 10
LAST-MODIFIED:20170701T154700Z
LOCATION:Court: 2
SEQUENCE:0
STATUS:CONFIRMED
SUMMARY:19&U-Rnd 10: Cruisers (12) vs Rush (21)
TRANSP:OPAQUE
END:VEVENT
BEGIN:VEVENT
DTSTART:20170506T123000
DTEND:20170506T131000
DTSTAMP:20170701T154700Z
UID:c9f8a9f0f9ef9410e6f0223b849ca294@pvna.com.au
CREATED:20170701T154700Z
DESCRIPTION:2017 Autumn Section:19&U Res\nRound:Rnd 11
LAST-MODIFIED:20170701T154700Z
LOCATION:Court: 99
SEQUENCE:0
STATUS:CONFIRMED
SUMMARY:19&U-Rnd 11: Cruisers vs BYE
TRANSP:OPAQUE
END:VEVENT
BEGIN:VEVENT
DTSTART:20170513T110000
DTEND:20170513T114500
DTSTAMP:20170701T154700Z
UID:7c45214fe1d6664f8d271327ed7586de@pvna.com.au
CREATED:20170701T154700Z
DESCRIPTION:2017 Autumn Section:19&U Res\nRound:Rnd 12
LAST-MODIFIED:20170701T154700Z
LOCATION:Court: 5
SEQUENCE:0
STATUS:CONFIRMED
SUMMARY:19&U-Rnd 12: Northern Blues Lions (10) vs Cruisers (0)
TRANSP:OPAQUE
END:VEVENT
BEGIN:VEVENT
DTSTART:20170520T084500
DTEND:20170520T092500
DTSTAMP:20170701T154700Z
UID:8c10e178fe8daaad6c33d1dcef21aa23@pvna.com.au
CREATED:20170701T154700Z
DESCRIPTION:2017 Autumn Section:19&U Res\nRound:Rnd 13
LAST-MODIFIED:20170701T154700Z
LOCATION:Court: 2
SEQUENCE:0
STATUS:CONFIRMED
SUMMARY:19&U-Rnd 13: Cruisers (10) vs Blaze Jnr (26)
TRANSP:OPAQUE
END:VEVENT
BEGIN:VEVENT
DTSTART:20170527T114500
DTEND:20170527T122500
DTSTAMP:20170701T154700Z
UID:c5e58d215d675efb79c657dc86fb11ac@pvna.com.au
CREATED:20170701T154700Z
DESCRIPTION:2017 Autumn Section:19&U Res\nRound:Rnd 14
LAST-MODIFIED:20170701T154700Z
LOCATION:Court: 1
SEQUENCE:0
STATUS:CONFIRMED
SUMMARY:19&U-Rnd 14: Cruisers (14) vs Northern Blues Tigers (25)
TRANSP:OPAQUE
END:VEVENT
BEGIN:VEVENT
DTSTART:20170603T084500
DTEND:20170603T092500
DTSTAMP:20170701T154700Z
UID:2ab4882ddaae13a2a4325fdd0eee3803@pvna.com.au
CREATED:20170701T154700Z
DESCRIPTION:2017 Autumn Section:19&U Res\nRound:Rnd 15
LAST-MODIFIED:20170701T154700Z
LOCATION:Court: 1
SEQUENCE:0
STATUS:CONFIRMED
SUMMARY:19&U-Rnd 15: Cruisers (20) vs Rush (11)
TRANSP:OPAQUE
END:VEVENT
END:VCALENDAR
