BEGIN:VCALENDAR
PRODID:-//Google Inc//Google Calendar 70.9054//EN
VERSION:2.0
CALSCALE:GREGORIAN
METHOD:PUBLISH
X-WR-CALNAME:PV Comets Devils
X-WR-TIMEZONE:Australia/Sydney
X-WR-CALDESC:PV Comets Parkville Calendars
BEGIN:VEVENT
DTSTART:20170722T110000
DTEND:20170722T114500
DTSTAMP:20171209T065844Z
UID:941f6dc83d385f58b226bbc6e72da2cf@pvna.com.au
CREATED:20171209T065844Z
DESCRIPTION:2017 Spring Section:15&Under\nRound:Rnd 1
LAST-MODIFIED:20171209T065844Z
LOCATION:Court: 1
SEQUENCE:0
STATUS:CONFIRMED
SUMMARY:15&U-Rnd 1: Northern Blues Cheetahs (19) vs Devils (18)
TRANSP:OPAQUE
END:VEVENT
BEGIN:VEVENT
DTSTART:20170729T110000
DTEND:20170729T114500
DTSTAMP:20171209T065844Z
UID:906bad2ecc5cc311ba3f16c70c9311ea@pvna.com.au
CREATED:20171209T065844Z
DESCRIPTION:2017 Spring Section:15&Under\nRound:Rnd 2
LAST-MODIFIED:20171209T065844Z
LOCATION:Court: 1
SEQUENCE:0
STATUS:CONFIRMED
SUMMARY:15&U-Rnd 2: Devils (10) vs Roxy (26)
TRANSP:OPAQUE
END:VEVENT
BEGIN:VEVENT
DTSTART:20170805T084500
DTEND:20170805T092500
DTSTAMP:20171209T065844Z
UID:fe78d9177a15490bd2b87874ed718f15@pvna.com.au
CREATED:20171209T065844Z
DESCRIPTION:2017 Spring Section:15&Under\nRound:Rnd 3
LAST-MODIFIED:20171209T065844Z
LOCATION:Court: 3
SEQUENCE:0
STATUS:CONFIRMED
SUMMARY:15&U-Rnd 3: Devils (17) vs SS Saphires (12)
TRANSP:OPAQUE
END:VEVENT
BEGIN:VEVENT
DTSTART:20170812T114500
DTEND:20170812T122500
DTSTAMP:20171209T065844Z
UID:2291ebc9cc60b8d26033375a1c613ded@pvna.com.au
CREATED:20171209T065844Z
DESCRIPTION:2017 Spring Section:15&Under\nRound:Rnd 4
LAST-MODIFIED:20171209T065844Z
LOCATION:Court: 2
SEQUENCE:0
STATUS:CONFIRMED
SUMMARY:15&U-Rnd 4: Devils (36) vs SS Sparks (16)
TRANSP:OPAQUE
END:VEVENT
BEGIN:VEVENT
DTSTART:20170819T101500
DTEND:20170819T105500
DTSTAMP:20171209T065844Z
UID:5bceaf9d24b3e9c4225747178599488b@pvna.com.au
CREATED:20171209T065844Z
DESCRIPTION:2017 Spring Section:15&Under\nRound:Rnd 5
LAST-MODIFIED:20171209T065844Z
LOCATION:Court: 2
SEQUENCE:0
STATUS:CONFIRMED
SUMMARY:15&U-Rnd 5: Devils (42) vs Awesome Angels 15s1 (7)
TRANSP:OPAQUE
END:VEVENT
BEGIN:VEVENT
DTSTART:20170826T114500
DTEND:20170826T122500
DTSTAMP:20171209T065844Z
UID:07b5112b37f917763b4bbda65f8e6085@pvna.com.au
CREATED:20171209T065844Z
DESCRIPTION:2017 Spring Section:15&Under\nRound:Rnd 6
LAST-MODIFIED:20171209T065844Z
LOCATION:Court: 2
SEQUENCE:0
STATUS:CONFIRMED
SUMMARY:15&U-Rnd 6: Devils (16) vs Ravens (7)
TRANSP:OPAQUE
END:VEVENT
BEGIN:VEVENT
DTSTART:20170902T101500
DTEND:20170902T105500
DTSTAMP:20171209T065844Z
UID:bdf187782022744b1646e95c6ad47594@pvna.com.au
CREATED:20171209T065844Z
DESCRIPTION:2017 Spring Section:15&Under\nRound:Rnd 7
LAST-MODIFIED:20171209T065844Z
LOCATION:Court: 1
SEQUENCE:0
STATUS:CONFIRMED
SUMMARY:15&U-Rnd 7: Devils (8) vs Roxy (46)
TRANSP:OPAQUE
END:VEVENT
BEGIN:VEVENT
DTSTART:20170909T110000
DTEND:20170909T114500
DTSTAMP:20171209T065844Z
UID:59c23b6492cb27c11b7e91d7f8e19e92@pvna.com.au
CREATED:20171209T065844Z
DESCRIPTION:2017 Spring Section:15&Under\nRound:Rnd 8
LAST-MODIFIED:20171209T065844Z
LOCATION:Court: 2
SEQUENCE:0
STATUS:CONFIRMED
SUMMARY:15&U-Rnd 8: Northern Blues Cheetahs (27) vs Devils (8)
TRANSP:OPAQUE
END:VEVENT
BEGIN:VEVENT
DTSTART:20170916T084500
DTEND:20170916T092500
DTSTAMP:20171209T065844Z
UID:9e57616359599569d96c240e4fd71d56@pvna.com.au
CREATED:20171209T065844Z
DESCRIPTION:2017 Spring Section:15&Under\nRound:Rnd 9
LAST-MODIFIED:20171209T065844Z
LOCATION:Court: 2
SEQUENCE:0
STATUS:CONFIRMED
SUMMARY:15&U-Rnd 9: Devils (32) vs Northern Blues Kangas (15)
TRANSP:OPAQUE
END:VEVENT
BEGIN:VEVENT
DTSTART:20170923T084500
DTEND:20170923T092500
DTSTAMP:20171209T065844Z
UID:c566f779d6778bbcd1a302392ab62c0e@pvna.com.au
CREATED:20171209T065844Z
DESCRIPTION:2017 Spring Section:15&Under\nRound:Rnd 10
LAST-MODIFIED:20171209T065844Z
LOCATION:Court: 4
SEQUENCE:0
STATUS:CONFIRMED
SUMMARY:15&U-Rnd 10: SS Sparks (24) vs Devils (20)
TRANSP:OPAQUE
END:VEVENT
BEGIN:VEVENT
DTSTART:20171014T101500
DTEND:20171014T105500
DTSTAMP:20171209T065844Z
UID:d0100a7d531596ce554b5c3c7225f457@pvna.com.au
CREATED:20171209T065844Z
DESCRIPTION:2017 Spring Section:15&Under\nRound:Rnd 11
LAST-MODIFIED:20171209T065844Z
LOCATION:Court: 1
SEQUENCE:0
STATUS:CONFIRMED
SUMMARY:15&U-Rnd 11: Devils (13) vs Roxy (47)
TRANSP:OPAQUE
END:VEVENT
BEGIN:VEVENT
DTSTART:20171021T110000
DTEND:20171021T114500
DTSTAMP:20171209T065844Z
UID:a418eea82a94bca8dca3bbe5c0e71406@pvna.com.au
CREATED:20171209T065844Z
DESCRIPTION:2017 Spring Section:15&Under\nRound:Rnd 12
LAST-MODIFIED:20171209T065844Z
LOCATION:Court: 4
SEQUENCE:0
STATUS:CONFIRMED
SUMMARY:15&U-Rnd 12: Devils (16) vs Northern Blues Cheetahs (21)
TRANSP:OPAQUE
END:VEVENT
BEGIN:VEVENT
DTSTART:20171028T110000
DTEND:20171028T114500
DTSTAMP:20171209T065844Z
UID:2d3022bb5c2e0705655a3409fc72d5e9@pvna.com.au
CREATED:20171209T065844Z
DESCRIPTION:2017 Spring Section:15&Under\nRound:Rnd 13
LAST-MODIFIED:20171209T065844Z
LOCATION:Court: 2
SEQUENCE:0
STATUS:CONFIRMED
SUMMARY:15&U-Rnd 13: SS Sparks (14) vs Devils (25)
TRANSP:OPAQUE
END:VEVENT
BEGIN:VEVENT
DTSTART:20171111T110000
DTEND:20171111T114500
DTSTAMP:20171209T065844Z
UID:8bf5a3ea239d219418e64e959532d2bc@pvna.com.au
CREATED:20171209T065844Z
DESCRIPTION:2017 Spring Section:15&Under\nRound:Rnd 14
LAST-MODIFIED:20171209T065844Z
LOCATION:Court: 4
SEQUENCE:0
STATUS:CONFIRMED
SUMMARY:15&U-Rnd 14: Roxy (37) vs Devils (17)
TRANSP:OPAQUE
END:VEVENT
BEGIN:VEVENT
DTSTART:20171118T093000
DTEND:20171118T101000
DTSTAMP:20171209T065844Z
UID:a51b87eef65691f287f9b0c47ad5e426@pvna.com.au
CREATED:20171209T065844Z
DESCRIPTION:2017 Spring Section:15&Under\nRound:Rnd 15
LAST-MODIFIED:20171209T065844Z
LOCATION:Court: 3
SEQUENCE:0
STATUS:CONFIRMED
SUMMARY:15&U-Rnd 15: Northern Blues Cheetahs (27) vs Devils (17)
TRANSP:OPAQUE
END:VEVENT
BEGIN:VEVENT
DTSTART:20171125T104000
DTEND:20171125T101000
DTSTAMP:20171209T065844Z
UID:71baddf747587090cdc09ccc860855ee@pvna.com.au
CREATED:20171209T065844Z
DESCRIPTION:2017 Spring Section:15&Under\nRound:Semi
LAST-MODIFIED:20171209T065844Z
LOCATION:Court: 2
SEQUENCE:0
STATUS:CONFIRMED
SUMMARY:15&U-Semi: SS Sparks (16) vs Devils (23)
TRANSP:OPAQUE
END:VEVENT
BEGIN:VEVENT
DTSTART:20171202T090000
DTEND:20171202T094000
DTSTAMP:20171209T065844Z
UID:f06be8fe21ee64c7278840f02fdbf9e0@pvna.com.au
CREATED:20171209T065844Z
DESCRIPTION:2017 Spring Section:15&Under\nRound:Prelim
LAST-MODIFIED:20171209T065844Z
LOCATION:Court: 1
SEQUENCE:0
STATUS:CONFIRMED
SUMMARY:15&U-Prelim: Northern Blues Cheetahs (26) vs Devils (27)
TRANSP:OPAQUE
END:VEVENT
BEGIN:VEVENT
DTSTART:20171209T110000
DTEND:20171209T114500
DTSTAMP:20171209T065844Z
UID:efdc8da77cebc86938ee4f55bc01382e@pvna.com.au
CREATED:20171209T065844Z
DESCRIPTION:2017 Spring Section:15&Under\nRound:Grand
LAST-MODIFIED:20171209T065844Z
LOCATION:Court: 1
SEQUENCE:0
STATUS:CONFIRMED
SUMMARY:15&U-Grand: Roxy (39) vs Devils (16)
TRANSP:OPAQUE
END:VEVENT
END:VCALENDAR
