BEGIN:VCALENDAR
PRODID:-//Google Inc//Google Calendar 70.9054//EN
VERSION:2.0
CALSCALE:GREGORIAN
METHOD:PUBLISH
X-WR-CALNAME:PV Comets Dolphins
X-WR-TIMEZONE:Australia/Sydney
X-WR-CALDESC:PV Comets Parkville Calendars
BEGIN:VEVENT
DTSTART:20170204T123000
DTEND:20170204T131000
DTSTAMP:20170508T131501Z
UID:fb99aa1e64e24524793d92865cdd1826@pvna.com.au
CREATED:20170508T131501Z
DESCRIPTION:2017 Autumn Section:13&Under\nRound:Rnd 1
LAST-MODIFIED:20170508T131501Z
LOCATION:Court: 3
SEQUENCE:0
STATUS:CONFIRMED
SUMMARY:13&U-Rnd 1: Dolphins (15) vs Neon Nightmares 13s (4)
TRANSP:OPAQUE
END:VEVENT
BEGIN:VEVENT
DTSTART:20170211T131500
DTEND:20170211T135500
DTSTAMP:20170508T131501Z
UID:11985d8e2b0a1981d1e1697ade0b15b5@pvna.com.au
CREATED:20170508T131501Z
DESCRIPTION:2017 Autumn Section:13&Under\nRound:Rnd 2
LAST-MODIFIED:20170508T131501Z
LOCATION:Court: 3
SEQUENCE:0
STATUS:CONFIRMED
SUMMARY:13&U-Rnd 2: Awesome Angels 13s2 (5) vs Dolphins (23)
TRANSP:OPAQUE
END:VEVENT
BEGIN:VEVENT
DTSTART:20170218T101500
DTEND:20170218T105500
DTSTAMP:20170508T131501Z
UID:0168a69b86f408e063014a9e1ee4e7d1@pvna.com.au
CREATED:20170508T131501Z
DESCRIPTION:2017 Autumn Section:13&Under\nRound:Rnd 3
LAST-MODIFIED:20170508T131501Z
LOCATION:Court: 1
SEQUENCE:0
STATUS:CONFIRMED
SUMMARY:13&U-Rnd 3: Dolphins (40) vs Storm (6)
TRANSP:OPAQUE
END:VEVENT
BEGIN:VEVENT
DTSTART:20170225T110000
DTEND:20170225T114500
DTSTAMP:20170508T131501Z
UID:095429ef0da6160e46e8c1e26b547153@pvna.com.au
CREATED:20170508T131501Z
DESCRIPTION:2017 Autumn Section:13&Under\nRound:Rnd 4
LAST-MODIFIED:20170508T131501Z
LOCATION:Court: 4
SEQUENCE:0
STATUS:CONFIRMED
SUMMARY:13&U-Rnd 4: Firestorm (14) vs Dolphins (21)
TRANSP:OPAQUE
END:VEVENT
BEGIN:VEVENT
DTSTART:20170304T110000
DTEND:20170304T114500
DTSTAMP:20170508T131501Z
UID:bcbf382458e5814b4cf4b6e85b4d5ee8@pvna.com.au
CREATED:20170508T131501Z
DESCRIPTION:2017 Autumn Section:13&Under\nRound:Rnd 5
LAST-MODIFIED:20170508T131501Z
LOCATION:Court: 2
SEQUENCE:0
STATUS:CONFIRMED
SUMMARY:13&U-Rnd 5: Northern Blues Joeys (0) vs Dolphins (25)
TRANSP:OPAQUE
END:VEVENT
BEGIN:VEVENT
DTSTART:20170318T123000
DTEND:20170318T131000
DTSTAMP:20170508T131501Z
UID:3de07d60987de3c49c11571f1831519d@pvna.com.au
CREATED:20170508T131501Z
DESCRIPTION:2017 Autumn Section:13&Under\nRound:Rnd 6
LAST-MODIFIED:20170508T131501Z
LOCATION:Court: 2
SEQUENCE:0
STATUS:CONFIRMED
SUMMARY:13&U-Rnd 6: Dolphins (20) vs Northern Blues Koalas (15)
TRANSP:OPAQUE
END:VEVENT
BEGIN:VEVENT
DTSTART:20170325T110000
DTEND:20170325T114500
DTSTAMP:20170508T131501Z
UID:47b021a8d74141f053b440ebe0fa19f5@pvna.com.au
CREATED:20170508T131501Z
DESCRIPTION:2017 Autumn Section:13&Under\nRound:Rnd 7
LAST-MODIFIED:20170508T131501Z
LOCATION:Court: 1
SEQUENCE:0
STATUS:CONFIRMED
SUMMARY:13&U-Rnd 7: Thunderbolts (11) vs Dolphins (23)
TRANSP:OPAQUE
END:VEVENT
BEGIN:VEVENT
DTSTART:20170401T131500
DTEND:20170401T135500
DTSTAMP:20170508T131501Z
UID:08022b707ab0303ae99932cefaad5387@pvna.com.au
CREATED:20170508T131501Z
DESCRIPTION:2017 Autumn Section:13&Under\nRound:Rnd 8
LAST-MODIFIED:20170508T131501Z
LOCATION:Court: 2
SEQUENCE:0
STATUS:CONFIRMED
SUMMARY:13&U-Rnd 8: Dolphins (7) vs Power (16)
TRANSP:OPAQUE
END:VEVENT
BEGIN:VEVENT
DTSTART:20170422T114500
DTEND:20170422T122500
DTSTAMP:20170508T131501Z
UID:117557b0d76a7bf990aeb3151c7fc7a9@pvna.com.au
CREATED:20170508T131501Z
DESCRIPTION:2017 Autumn Section:13&Under\nRound:Rnd 9
LAST-MODIFIED:20170508T131501Z
LOCATION:Court: 4
SEQUENCE:0
STATUS:CONFIRMED
SUMMARY:13&U-Rnd 9: Firestorm (23) vs Dolphins (6)
TRANSP:OPAQUE
END:VEVENT
BEGIN:VEVENT
DTSTART:20170429T110000
DTEND:20170429T114500
DTSTAMP:20170508T131501Z
UID:6a5e3994ea7919564e65d778e3091c6f@pvna.com.au
CREATED:20170508T131501Z
DESCRIPTION:2017 Autumn Section:13&Under\nRound:Rnd 10
LAST-MODIFIED:20170508T131501Z
LOCATION:Court: 4
SEQUENCE:0
STATUS:CONFIRMED
SUMMARY:13&U-Rnd 10: Strikers (15) vs Dolphins (11)
TRANSP:OPAQUE
END:VEVENT
BEGIN:VEVENT
DTSTART:20170506T110000
DTEND:20170506T114500
DTSTAMP:20170508T131501Z
UID:9364480388b24695d61561c2b6f2cd61@pvna.com.au
CREATED:20170508T131501Z
DESCRIPTION:2017 Autumn Section:13&Under\nRound:Rnd 11
LAST-MODIFIED:20170508T131501Z
LOCATION:Court: 1
SEQUENCE:0
STATUS:CONFIRMED
SUMMARY:13&U-Rnd 11: Awesome Angels 13s1 (21) vs Dolphins (17)
TRANSP:OPAQUE
END:VEVENT
BEGIN:VEVENT
DTSTART:20170513T114500
DTEND:20170513T122500
DTSTAMP:20170508T131503Z
UID:03ecd539849732a7c83a697754ab0e1d@pvna.com.au
CREATED:20170508T131503Z
DESCRIPTION:2017 Autumn Section:13&Under\nRound:Rnd 12\n\nCurrent Ladder:\nTeam            P  W  L  D  Pts\nPower           11 10 1  0  40\nRoyal Sapphires 11 9  2  0  36\nAwesome Angels 13s1 11 9  2  0  36\nDolphins        11 7  4  0  28\nFirestorm       11 7  4  0  28\nThunderbolts    11 6  5  0  24\nStrikers        11 4  7  0  16\nNorthern Blues Koalas 11 3  8  0  12\nAll Starz Jnr   1  1  0  0  4 \nNeon Nightmares 13s 5  1  4  0  4 \nStorm           5  1  4  0  4 \nNorthern Blues Monkeys 5  1  4  0  4 \nAwesome Angels 13s2 5  1  4  0  4 \nNorthern Blues Joeys 5  0  5  0  0 \n
LAST-MODIFIED:20170508T131503Z
LOCATION:Court: 2
SEQUENCE:0
STATUS:CONFIRMED
SUMMARY:13&U-Rnd 12: Dolphins vs Royal Sapphires
TRANSP:OPAQUE
END:VEVENT
BEGIN:VEVENT
DTSTART:20170520T131500
DTEND:20170520T135500
DTSTAMP:20170508T131503Z
UID:50a93156d78eca49aed70bb94a2d8023@pvna.com.au
CREATED:20170508T131503Z
DESCRIPTION:2017 Autumn Section:13&Under\nRound:Rnd 13
LAST-MODIFIED:20170508T131503Z
LOCATION:Court: 2
SEQUENCE:0
STATUS:CONFIRMED
SUMMARY:13&U-Rnd 13: Dolphins vs Northern Blues Koalas
TRANSP:OPAQUE
END:VEVENT
BEGIN:VEVENT
DTSTART:20170527T084500
DTEND:20170527T092500
DTSTAMP:20170508T131503Z
UID:6c67be6f95e767a703f6b09d882adb45@pvna.com.au
CREATED:20170508T131503Z
DESCRIPTION:2017 Autumn Section:13&Under\nRound:Rnd 14
LAST-MODIFIED:20170508T131503Z
LOCATION:Court: 2
SEQUENCE:0
STATUS:CONFIRMED
SUMMARY:13&U-Rnd 14: Dolphins vs Thunderbolts
TRANSP:OPAQUE
END:VEVENT
BEGIN:VEVENT
DTSTART:20170603T123000
DTEND:20170603T131000
DTSTAMP:20170508T131503Z
UID:7593d86f7dfde1c00a21f4602ad79083@pvna.com.au
CREATED:20170508T131503Z
DESCRIPTION:2017 Autumn Section:13&Under\nRound:Rnd 15
LAST-MODIFIED:20170508T131503Z
LOCATION:Court: 2
SEQUENCE:0
STATUS:CONFIRMED
SUMMARY:13&U-Rnd 15: Dolphins vs Power
TRANSP:OPAQUE
END:VEVENT
END:VCALENDAR
