BEGIN:VCALENDAR
PRODID:-//Google Inc//Google Calendar 70.9054//EN
VERSION:2.0
CALSCALE:GREGORIAN
METHOD:PUBLISH
X-WR-CALNAME:PV Comets Dynamite
X-WR-TIMEZONE:Australia/Sydney
X-WR-CALDESC:PV Comets Parkville Calendars
BEGIN:VEVENT
DTSTART:20170722T095000
DTEND:20170722T114500
DTSTAMP:20171209T065844Z
UID:68b97324e105816b52d47066b6f69f6a@pvna.com.au
CREATED:20171209T065844Z
DESCRIPTION:2017 Spring Section:19&Under\nRound:Rnd 1
LAST-MODIFIED:20171209T065844Z
LOCATION:Court: 4
SEQUENCE:0
STATUS:CONFIRMED
SUMMARY:19&U-Rnd 1: V.S.Connected I (44) vs Dynamite (31)
TRANSP:OPAQUE
END:VEVENT
BEGIN:VEVENT
DTSTART:20170729T084500
DTEND:20170729T092500
DTSTAMP:20171209T065844Z
UID:c1135adc697fb5cc09025aa9350c0c38@pvna.com.au
CREATED:20171209T065844Z
DESCRIPTION:2017 Spring Section:19&Under\nRound:Rnd 2
LAST-MODIFIED:20171209T065844Z
LOCATION:Court: 4
SEQUENCE:0
STATUS:CONFIRMED
SUMMARY:19&U-Rnd 2: Dynamite (42) vs The Jets (24)
TRANSP:OPAQUE
END:VEVENT
BEGIN:VEVENT
DTSTART:20170805T095000
DTEND:20170805T092500
DTSTAMP:20171209T065844Z
UID:f975846308b5ba7d53e43ad481466770@pvna.com.au
CREATED:20171209T065844Z
DESCRIPTION:2017 Spring Section:19&Under\nRound:Rnd 3
LAST-MODIFIED:20171209T065844Z
LOCATION:Court: 1
SEQUENCE:0
STATUS:CONFIRMED
SUMMARY:19&U-Rnd 3: Dynamite (37) vs Rush (16)
TRANSP:OPAQUE
END:VEVENT
BEGIN:VEVENT
DTSTART:20170812T131500
DTEND:20170812T135500
DTSTAMP:20171209T065844Z
UID:1b1ad05e3b5f6540ca54632e670bc787@pvna.com.au
CREATED:20171209T065844Z
DESCRIPTION:2017 Spring Section:19&Under\nRound:Rnd 4
LAST-MODIFIED:20171209T065844Z
LOCATION:Court: 99
SEQUENCE:0
STATUS:CONFIRMED
SUMMARY:19&U-Rnd 4: Dynamite vs BYE
TRANSP:OPAQUE
END:VEVENT
BEGIN:VEVENT
DTSTART:20170819T093000
DTEND:20170819T101000
DTSTAMP:20171209T065844Z
UID:73a7157f13a89e8d355756fec8a9d6b1@pvna.com.au
CREATED:20171209T065844Z
DESCRIPTION:2017 Spring Section:19&Under\nRound:Rnd 5
LAST-MODIFIED:20171209T065844Z
LOCATION:Court: 1
SEQUENCE:0
STATUS:CONFIRMED
SUMMARY:19&U-Rnd 5: Dynamite (27) vs Blaze Jnr (9)
TRANSP:OPAQUE
END:VEVENT
BEGIN:VEVENT
DTSTART:20170826T101500
DTEND:20170826T105500
DTSTAMP:20171209T065844Z
UID:1e63b9f93b8059f78f57d43f7db7cd72@pvna.com.au
CREATED:20171209T065844Z
DESCRIPTION:2017 Spring Section:19&Under\nRound:Rnd 6
LAST-MODIFIED:20171209T065844Z
LOCATION:Court: 3
SEQUENCE:0
STATUS:CONFIRMED
SUMMARY:19&U-Rnd 6: Dynamite (36) vs Northern Blues Tigers (12)
TRANSP:OPAQUE
END:VEVENT
BEGIN:VEVENT
DTSTART:20170902T101500
DTEND:20170902T105500
DTSTAMP:20171209T065844Z
UID:fa30a395f15b38282245eb97edbd05f9@pvna.com.au
CREATED:20171209T065844Z
DESCRIPTION:2017 Spring Section:19&Under\nRound:Rnd 7
LAST-MODIFIED:20171209T065844Z
LOCATION:Court: 2
SEQUENCE:0
STATUS:CONFIRMED
SUMMARY:19&U-Rnd 7: Dynamite (21) vs Northern Blues Lions (22)
TRANSP:OPAQUE
END:VEVENT
BEGIN:VEVENT
DTSTART:20170909T093000
DTEND:20170909T101000
DTSTAMP:20171209T065844Z
UID:b55b339362af5eae0643b5351e4afa19@pvna.com.au
CREATED:20171209T065844Z
DESCRIPTION:2017 Spring Section:19&Under\nRound:Rnd 8
LAST-MODIFIED:20171209T065844Z
LOCATION:Court: 2
SEQUENCE:0
STATUS:CONFIRMED
SUMMARY:19&U-Rnd 8: V.S.Connected I (21) vs Dynamite (23)
TRANSP:OPAQUE
END:VEVENT
BEGIN:VEVENT
DTSTART:20170916T101500
DTEND:20170916T105500
DTSTAMP:20171209T065844Z
UID:61d02e523404cc21b39b44f4d04c8c37@pvna.com.au
CREATED:20171209T065844Z
DESCRIPTION:2017 Spring Section:19&Under\nRound:Rnd 9
LAST-MODIFIED:20171209T065844Z
LOCATION:Court: 1
SEQUENCE:0
STATUS:CONFIRMED
SUMMARY:19&U-Rnd 9: Dynamite (13) vs The Jets (21)
TRANSP:OPAQUE
END:VEVENT
BEGIN:VEVENT
DTSTART:20170923T093000
DTEND:20170923T101000
DTSTAMP:20171209T065844Z
UID:99f4b623e46069320e67c36091722bc9@pvna.com.au
CREATED:20171209T065844Z
DESCRIPTION:2017 Spring Section:19&Under\nRound:Rnd 10
LAST-MODIFIED:20171209T065844Z
LOCATION:Court: 2
SEQUENCE:0
STATUS:CONFIRMED
SUMMARY:19&U-Rnd 10: Dynamite (48) vs Rush (8)
TRANSP:OPAQUE
END:VEVENT
BEGIN:VEVENT
DTSTART:20171014T131500
DTEND:20171014T135500
DTSTAMP:20171209T065844Z
UID:23210d9c75f941fe14beba9141e2f51d@pvna.com.au
CREATED:20171209T065844Z
DESCRIPTION:2017 Spring Section:19&Under\nRound:Rnd 11
LAST-MODIFIED:20171209T065844Z
LOCATION:Court: 99
SEQUENCE:0
STATUS:CONFIRMED
SUMMARY:19&U-Rnd 11: Dynamite vs BYE
TRANSP:OPAQUE
END:VEVENT
BEGIN:VEVENT
DTSTART:20171021T101500
DTEND:20171021T105500
DTSTAMP:20171209T065844Z
UID:e4e703a3864aed1f62103e6a0a2292c1@pvna.com.au
CREATED:20171209T065844Z
DESCRIPTION:2017 Spring Section:19&Under\nRound:Rnd 12
LAST-MODIFIED:20171209T065844Z
LOCATION:Court: 3
SEQUENCE:0
STATUS:CONFIRMED
SUMMARY:19&U-Rnd 12: Dynamite (29) vs Blaze Jnr (9)
TRANSP:OPAQUE
END:VEVENT
BEGIN:VEVENT
DTSTART:20171028T093000
DTEND:20171028T101000
DTSTAMP:20171209T065844Z
UID:eb25055a4d4c8baa2b00e6f75dd615aa@pvna.com.au
CREATED:20171209T065844Z
DESCRIPTION:2017 Spring Section:19&Under\nRound:Rnd 13
LAST-MODIFIED:20171209T065844Z
LOCATION:Court: 2
SEQUENCE:0
STATUS:CONFIRMED
SUMMARY:19&U-Rnd 13: Dynamite (49) vs Northern Blues Tigers (2)
TRANSP:OPAQUE
END:VEVENT
BEGIN:VEVENT
DTSTART:20171111T101500
DTEND:20171111T105500
DTSTAMP:20171209T065844Z
UID:8c1244d87b5a42fbd285b4de7e1c9414@pvna.com.au
CREATED:20171209T065844Z
DESCRIPTION:2017 Spring Section:19&Under\nRound:Rnd 14
LAST-MODIFIED:20171209T065844Z
LOCATION:Court: 2
SEQUENCE:0
STATUS:CONFIRMED
SUMMARY:19&U-Rnd 14: Dynamite (13) vs Northern Blues Lions (10)
TRANSP:OPAQUE
END:VEVENT
BEGIN:VEVENT
DTSTART:20171118T084500
DTEND:20171118T092500
DTSTAMP:20171209T065844Z
UID:37a3d3f3ac7155be372d9020299a6f90@pvna.com.au
CREATED:20171209T065844Z
DESCRIPTION:2017 Spring Section:19&Under\nRound:Rnd 15
LAST-MODIFIED:20171209T065844Z
LOCATION:Court: 1
SEQUENCE:0
STATUS:CONFIRMED
SUMMARY:19&U-Rnd 15: V.S.Connected I (26) vs Dynamite (22)
TRANSP:OPAQUE
END:VEVENT
BEGIN:VEVENT
DTSTART:20171125T090000
DTEND:20171125T094000
DTSTAMP:20171209T065844Z
UID:94542a7e60add02118e1231aa1391fa9@pvna.com.au
CREATED:20171209T065844Z
DESCRIPTION:2017 Spring Section:19&Under\nRound:Semi
LAST-MODIFIED:20171209T065844Z
LOCATION:Court: 1
SEQUENCE:0
STATUS:CONFIRMED
SUMMARY:19&U-Semi: V.S.Connected I (26) vs Dynamite (15)
TRANSP:OPAQUE
END:VEVENT
BEGIN:VEVENT
DTSTART:20171202T100000
DTEND:20171202T094000
DTSTAMP:20171209T065844Z
UID:37c809142f24986f34703b2431c9383c@pvna.com.au
CREATED:20171209T065844Z
DESCRIPTION:2017 Spring Section:19&Under\nRound:Prelim
LAST-MODIFIED:20171209T065844Z
LOCATION:Court: 1
SEQUENCE:0
STATUS:CONFIRMED
SUMMARY:19&U-Prelim: Dynamite (15) vs Northern Blues Lions (41)
TRANSP:OPAQUE
END:VEVENT
END:VCALENDAR
