BEGIN:VCALENDAR
PRODID:-//Google Inc//Google Calendar 70.9054//EN
VERSION:2.0
CALSCALE:GREGORIAN
METHOD:PUBLISH
X-WR-CALNAME:PV Comets Fireflyz
X-WR-TIMEZONE:Australia/Sydney
X-WR-CALDESC:PV Comets Parkville Calendars
BEGIN:VEVENT
DTSTART:20170923T114500
DTEND:20170923T122500
DTSTAMP:20170826T091658Z
UID:44573e2db1abc98aeb7d5638d1c6b692@pvna.com.au
CREATED:20170826T091658Z
DESCRIPTION:2017 Spring Section:17&Under\nRound:Rnd 10
LAST-MODIFIED:20170826T091658Z
LOCATION:Court: 4
SEQUENCE:0
STATUS:CONFIRMED
SUMMARY:17&U-Rnd 10: Fireflyz vs Blazers
TRANSP:OPAQUE
END:VEVENT
BEGIN:VEVENT
DTSTART:20171021T114500
DTEND:20171021T122500
DTSTAMP:20170826T091658Z
UID:9f3c748cc990e7c4f959713aedd24d7f@pvna.com.au
CREATED:20170826T091658Z
DESCRIPTION:2017 Spring Section:17&Under\nRound:Rnd 12
LAST-MODIFIED:20170826T091658Z
LOCATION:Court: 2
SEQUENCE:0
STATUS:CONFIRMED
SUMMARY:17&U-Rnd 12: SS Magic vs Fireflyz
TRANSP:OPAQUE
END:VEVENT
BEGIN:VEVENT
DTSTART:20171028T114500
DTEND:20171028T122500
DTSTAMP:20170826T091658Z
UID:d1931bf5a329aef794c5ca37f18c6011@pvna.com.au
CREATED:20170826T091658Z
DESCRIPTION:2017 Spring Section:17&Under\nRound:Rnd 13
LAST-MODIFIED:20170826T091658Z
LOCATION:Court: 2
SEQUENCE:0
STATUS:CONFIRMED
SUMMARY:17&U-Rnd 13: Fireflyz vs Force
TRANSP:OPAQUE
END:VEVENT
BEGIN:VEVENT
DTSTART:20171111T114500
DTEND:20171111T122500
DTSTAMP:20170826T091658Z
UID:41cec8cbd48ec2a9851be1fe744f3437@pvna.com.au
CREATED:20170826T091658Z
DESCRIPTION:2017 Spring Section:17&Under\nRound:Rnd 14
LAST-MODIFIED:20170826T091658Z
LOCATION:Court: 2
SEQUENCE:0
STATUS:CONFIRMED
SUMMARY:17&U-Rnd 14: Fireflyz vs V.S.Connected II
TRANSP:OPAQUE
END:VEVENT
BEGIN:VEVENT
DTSTART:20171118T084500
DTEND:20171118T092500
DTSTAMP:20170826T091658Z
UID:4019511477b8ffa5f72cd08ae78393c8@pvna.com.au
CREATED:20170826T091658Z
DESCRIPTION:2017 Spring Section:17&Under\nRound:Rnd 15
LAST-MODIFIED:20170826T091658Z
LOCATION:Court: 99
SEQUENCE:0
STATUS:CONFIRMED
SUMMARY:17&U-Rnd 15: Fireflyz vs Phoenix
TRANSP:OPAQUE
END:VEVENT
BEGIN:VEVENT
DTSTART:20171125T114500
DTEND:20171125T122500
DTSTAMP:20170826T091658Z
UID:877841d8a9d519ba06484be07305c276@pvna.com.au
CREATED:20170826T091658Z
DESCRIPTION:2017 Spring Section:17&Under\nRound:Rnd 16
LAST-MODIFIED:20170826T091658Z
LOCATION:Court: 4
SEQUENCE:0
STATUS:CONFIRMED
SUMMARY:17&U-Rnd 16: Fireflyz vs Blazers
TRANSP:OPAQUE
END:VEVENT
END:VCALENDAR
