BEGIN:VCALENDAR
PRODID:-//Google Inc//Google Calendar 70.9054//EN
VERSION:2.0
CALSCALE:GREGORIAN
METHOD:PUBLISH
X-WR-CALNAME:PV Comets Golden Girls
X-WR-TIMEZONE:Australia/Sydney
X-WR-CALDESC:PV Comets Parkville Calendars
BEGIN:VEVENT
DTSTART:20170722T131500
DTEND:20170722T135500
DTSTAMP:20171209T065844Z
UID:17274dfd03f4b8afe28ce9320138db88@pvna.com.au
CREATED:20171209T065844Z
DESCRIPTION:2017 Spring Section:8-10s\nRound:Rnd 1
LAST-MODIFIED:20171209T065844Z
LOCATION:Court: 2
SEQUENCE:0
STATUS:CONFIRMED
SUMMARY:8-10-Rnd 1: Golden Girls (3) vs Northern Blues Chicks (10)
TRANSP:OPAQUE
END:VEVENT
BEGIN:VEVENT
DTSTART:20170729T084500
DTEND:20170729T092500
DTSTAMP:20171209T065844Z
UID:2dad062a370acf06148402ca6d5bedc9@pvna.com.au
CREATED:20171209T065844Z
DESCRIPTION:2017 Spring Section:8-10s\nRound:Rnd 2
LAST-MODIFIED:20171209T065844Z
LOCATION:Court: 1
SEQUENCE:0
STATUS:CONFIRMED
SUMMARY:8-10-Rnd 2: Awesome Angels 8-10s2 (4) vs Golden Girls (7)
TRANSP:OPAQUE
END:VEVENT
BEGIN:VEVENT
DTSTART:20170805T131500
DTEND:20170805T135500
DTSTAMP:20171209T065844Z
UID:c00ed882bac3a6c0f5d7bc95fafd5f43@pvna.com.au
CREATED:20171209T065844Z
DESCRIPTION:2017 Spring Section:8-10s\nRound:Rnd 3
LAST-MODIFIED:20171209T065844Z
LOCATION:Court: 3
SEQUENCE:0
STATUS:CONFIRMED
SUMMARY:8-10-Rnd 3: Golden Girls (22) vs Little Dolphins (0)
TRANSP:OPAQUE
END:VEVENT
BEGIN:VEVENT
DTSTART:20170812T114500
DTEND:20170812T122500
DTSTAMP:20171209T065844Z
UID:26dc373b8bb4324aaf1ebe1f1eabdff4@pvna.com.au
CREATED:20171209T065844Z
DESCRIPTION:2017 Spring Section:8-10s\nRound:Rnd 4
LAST-MODIFIED:20171209T065844Z
LOCATION:Court: 1
SEQUENCE:0
STATUS:CONFIRMED
SUMMARY:8-10-Rnd 4: Awesome Angels 8-10s1 (10) vs Golden Girls (5)
TRANSP:OPAQUE
END:VEVENT
BEGIN:VEVENT
DTSTART:20170819T131500
DTEND:20170819T135500
DTSTAMP:20171209T065844Z
UID:716c25d273fe251d3b3f35a72c0938a1@pvna.com.au
CREATED:20171209T065844Z
DESCRIPTION:2017 Spring Section:8-10s\nRound:Rnd 5
LAST-MODIFIED:20171209T065844Z
LOCATION:Court: 99
SEQUENCE:0
STATUS:CONFIRMED
SUMMARY:8-10-Rnd 5: Golden Girls vs BYE
TRANSP:OPAQUE
END:VEVENT
BEGIN:VEVENT
DTSTART:20170826T123000
DTEND:20170826T131000
DTSTAMP:20171209T065844Z
UID:47833ca456e859aed927dbabcb2b1652@pvna.com.au
CREATED:20171209T065844Z
DESCRIPTION:2017 Spring Section:8-10s\nRound:Rnd 6
LAST-MODIFIED:20171209T065844Z
LOCATION:Court: 1
SEQUENCE:0
STATUS:CONFIRMED
SUMMARY:8-10-Rnd 6: Northern Blues Chicks (5) vs Golden Girls (5)
TRANSP:OPAQUE
END:VEVENT
BEGIN:VEVENT
DTSTART:20170902T114500
DTEND:20170902T122500
DTSTAMP:20171209T065844Z
UID:6817f4770c53a19609730d2caf234b38@pvna.com.au
CREATED:20171209T065844Z
DESCRIPTION:2017 Spring Section:8-10s\nRound:Rnd 7
LAST-MODIFIED:20171209T065844Z
LOCATION:Court: 5
SEQUENCE:0
STATUS:CONFIRMED
SUMMARY:8-10-Rnd 7: Awesome Angels 8-10s2 (1) vs Golden Girls (8)
TRANSP:OPAQUE
END:VEVENT
BEGIN:VEVENT
DTSTART:20170909T114500
DTEND:20170909T122500
DTSTAMP:20171209T065844Z
UID:0d820962680aa970b6800ea76a7e403c@pvna.com.au
CREATED:20171209T065844Z
DESCRIPTION:2017 Spring Section:8-10s\nRound:Rnd 8
LAST-MODIFIED:20171209T065844Z
LOCATION:Court: 4
SEQUENCE:0
STATUS:CONFIRMED
SUMMARY:8-10-Rnd 8: Golden Girls (22) vs Little Dolphins (0)
TRANSP:OPAQUE
END:VEVENT
BEGIN:VEVENT
DTSTART:20170916T123000
DTEND:20170916T131000
DTSTAMP:20171209T065844Z
UID:b7669f6715618abae521f79edb7ff5a5@pvna.com.au
CREATED:20171209T065844Z
DESCRIPTION:2017 Spring Section:8-10s\nRound:Rnd 9
LAST-MODIFIED:20171209T065844Z
LOCATION:Court: 3
SEQUENCE:0
STATUS:CONFIRMED
SUMMARY:8-10-Rnd 9: Golden Girls (4) vs Awesome Angels 8-10s1 (14)
TRANSP:OPAQUE
END:VEVENT
BEGIN:VEVENT
DTSTART:20170923T131500
DTEND:20170923T135500
DTSTAMP:20171209T065844Z
UID:55ab0a9bd6ab1ae32a8010a10679a469@pvna.com.au
CREATED:20171209T065844Z
DESCRIPTION:2017 Spring Section:8-10s\nRound:Rnd 10
LAST-MODIFIED:20171209T065844Z
LOCATION:Court: 99
SEQUENCE:0
STATUS:CONFIRMED
SUMMARY:8-10-Rnd 10: Golden Girls vs BYE
TRANSP:OPAQUE
END:VEVENT
BEGIN:VEVENT
DTSTART:20171014T101500
DTEND:20171014T105500
DTSTAMP:20171209T065844Z
UID:f1043f979f1405b9e10b748ad0f7cdf7@pvna.com.au
CREATED:20171209T065844Z
DESCRIPTION:2017 Spring Section:8-10s\nRound:Rnd 11
LAST-MODIFIED:20171209T065844Z
LOCATION:Court: 4
SEQUENCE:0
STATUS:CONFIRMED
SUMMARY:8-10-Rnd 11: Golden Girls (9) vs Northern Blues Chicks (4)
TRANSP:OPAQUE
END:VEVENT
BEGIN:VEVENT
DTSTART:20171021T114500
DTEND:20171021T122500
DTSTAMP:20171209T065844Z
UID:336f31e8e23e29f0642b0926fef82925@pvna.com.au
CREATED:20171209T065844Z
DESCRIPTION:2017 Spring Section:8-10s\nRound:Rnd 12
LAST-MODIFIED:20171209T065844Z
LOCATION:Court: 1
SEQUENCE:0
STATUS:CONFIRMED
SUMMARY:8-10-Rnd 12: Awesome Angels 8-10s2 (0) vs Golden Girls (6)
TRANSP:OPAQUE
END:VEVENT
BEGIN:VEVENT
DTSTART:20171028T114500
DTEND:20171028T122500
DTSTAMP:20171209T065844Z
UID:03043a902593556f5ad6aaff465d3bbb@pvna.com.au
CREATED:20171209T065844Z
DESCRIPTION:2017 Spring Section:8-10s\nRound:Rnd 13
LAST-MODIFIED:20171209T065844Z
LOCATION:Court: 4
SEQUENCE:0
STATUS:CONFIRMED
SUMMARY:8-10-Rnd 13: Little Dolphins (1) vs Golden Girls (13)
TRANSP:OPAQUE
END:VEVENT
BEGIN:VEVENT
DTSTART:20171111T084500
DTEND:20171111T092500
DTSTAMP:20171209T065844Z
UID:090f28124c32a2f09f46c57563efb446@pvna.com.au
CREATED:20171209T065844Z
DESCRIPTION:2017 Spring Section:8-10s\nRound:Rnd 14
LAST-MODIFIED:20171209T065844Z
LOCATION:Court: 1
SEQUENCE:0
STATUS:CONFIRMED
SUMMARY:8-10-Rnd 14: Golden Girls (8) vs Awesome Angels 8-10s1 (12)
TRANSP:OPAQUE
END:VEVENT
BEGIN:VEVENT
DTSTART:20171118T131500
DTEND:20171118T135500
DTSTAMP:20171209T065844Z
UID:c611341241c7d5119c6395524e991aad@pvna.com.au
CREATED:20171209T065844Z
DESCRIPTION:2017 Spring Section:8-10s\nRound:Rnd 15
LAST-MODIFIED:20171209T065844Z
LOCATION:Court: 99
SEQUENCE:0
STATUS:CONFIRMED
SUMMARY:8-10-Rnd 15: Golden Girls vs BYE
TRANSP:OPAQUE
END:VEVENT
BEGIN:VEVENT
DTSTART:20171125T122000
DTEND:20171125T135500
DTSTAMP:20171209T065844Z
UID:3ae74a1a213f69b72f08d7fd8b2ab4a9@pvna.com.au
CREATED:20171209T065844Z
DESCRIPTION:2017 Spring Section:8-10s\nRound:Rnd 16
LAST-MODIFIED:20171209T065844Z
LOCATION:Court: 1
SEQUENCE:0
STATUS:CONFIRMED
SUMMARY:8-10-Rnd 16: Golden Girls (15) vs Northern Blues Chicks (5)
TRANSP:OPAQUE
END:VEVENT
BEGIN:VEVENT
DTSTART:20171202T122000
DTEND:20171202T135500
DTSTAMP:20171209T065844Z
UID:9cddf419dab38ac421f13e3371ddea68@pvna.com.au
CREATED:20171209T065844Z
DESCRIPTION:2017 Spring Section:8-10s\nRound:Rnd 17
LAST-MODIFIED:20171209T065844Z
LOCATION:Court: 2
SEQUENCE:0
STATUS:CONFIRMED
SUMMARY:8-10-Rnd 17: Awesome Angels 8-10s2 (2) vs Golden Girls (2)
TRANSP:OPAQUE
END:VEVENT
BEGIN:VEVENT
DTSTART:20171202T122000
DTEND:20171202T135500
DTSTAMP:20171209T065844Z
UID:583889a9597ebbf06f1f800013b300bb@pvna.com.au
CREATED:20171209T065844Z
DESCRIPTION:2017 Spring Section:8-10s\nRound:Rnd 17
LAST-MODIFIED:20171209T065844Z
LOCATION:Court: 5
SEQUENCE:0
STATUS:CONFIRMED
SUMMARY:8-10-Rnd 17: Northern Blues Chicks (5) vs Golden Girls (2)
TRANSP:OPAQUE
END:VEVENT
END:VCALENDAR
