BEGIN:VCALENDAR
PRODID:-//Google Inc//Google Calendar 70.9054//EN
VERSION:2.0
CALSCALE:GREGORIAN
METHOD:PUBLISH
X-WR-CALNAME:PV Comets Lightning Bolts
X-WR-TIMEZONE:Australia/Sydney
X-WR-CALDESC:PV Comets Parkville Calendars
BEGIN:VEVENT
DTSTART:20170204T114500
DTEND:20170204T122500
DTSTAMP:20170701T154700Z
UID:05837a4722d4105eff2620b8288e3ce0@pvna.com.au
CREATED:20170701T154700Z
DESCRIPTION:2017 Autumn Section:15&Under\nRound:Rnd 1
LAST-MODIFIED:20170701T154700Z
LOCATION:Court: 1
SEQUENCE:0
STATUS:CONFIRMED
SUMMARY:15&U-Rnd 1: Northern Blues Kangas (7) vs Lightning Bolts (19)
TRANSP:OPAQUE
END:VEVENT
BEGIN:VEVENT
DTSTART:20170211T123000
DTEND:20170211T131000
DTSTAMP:20170701T154700Z
UID:d4b6e86c1a5201829a621f61a55066b7@pvna.com.au
CREATED:20170701T154700Z
DESCRIPTION:2017 Autumn Section:15&Under\nRound:Rnd 2
LAST-MODIFIED:20170701T154700Z
LOCATION:Court: 2
SEQUENCE:0
STATUS:CONFIRMED
SUMMARY:15&U-Rnd 2: Lightning Bolts (12) vs Roxy (25)
TRANSP:OPAQUE
END:VEVENT
BEGIN:VEVENT
DTSTART:20170218T123000
DTEND:20170218T131000
DTSTAMP:20170701T154700Z
UID:ed8de522d786746f2b142b5408a373b9@pvna.com.au
CREATED:20170701T154700Z
DESCRIPTION:2017 Autumn Section:15&Under\nRound:Rnd 3
LAST-MODIFIED:20170701T154700Z
LOCATION:Court: 4
SEQUENCE:0
STATUS:CONFIRMED
SUMMARY:15&U-Rnd 3: Mystix Jnr (4) vs Lightning Bolts (38)
TRANSP:OPAQUE
END:VEVENT
BEGIN:VEVENT
DTSTART:20170225T123000
DTEND:20170225T131000
DTSTAMP:20170701T154700Z
UID:18fdcd5d06fed2ce4b21cf91bc8284e6@pvna.com.au
CREATED:20170701T154700Z
DESCRIPTION:2017 Autumn Section:15&Under\nRound:Rnd 4
LAST-MODIFIED:20170701T154700Z
LOCATION:Court: 1
SEQUENCE:0
STATUS:CONFIRMED
SUMMARY:15&U-Rnd 4: Devils (19) vs Lightning Bolts (38)
TRANSP:OPAQUE
END:VEVENT
BEGIN:VEVENT
DTSTART:20170304T131500
DTEND:20170304T135500
DTSTAMP:20170701T154700Z
UID:25895c28943f6f6e01002db282d14499@pvna.com.au
CREATED:20170701T154700Z
DESCRIPTION:2017 Autumn Section:15&Under\nRound:Rnd 5
LAST-MODIFIED:20170701T154700Z
LOCATION:Court: 1
SEQUENCE:0
STATUS:CONFIRMED
SUMMARY:15&U-Rnd 5: Lightning Bolts (9) vs Northern Blues Leopards (29)
TRANSP:OPAQUE
END:VEVENT
BEGIN:VEVENT
DTSTART:20170318T093000
DTEND:20170318T101000
DTSTAMP:20170701T154700Z
UID:3001132213bdafd9b167788c1591dd32@pvna.com.au
CREATED:20170701T154700Z
DESCRIPTION:2017 Autumn Section:15&Under\nRound:Rnd 6
LAST-MODIFIED:20170701T154700Z
LOCATION:Court: 3
SEQUENCE:0
STATUS:CONFIRMED
SUMMARY:15&U-Rnd 6: Lightning Bolts (14) vs V.S.Connected III (31)
TRANSP:OPAQUE
END:VEVENT
BEGIN:VEVENT
DTSTART:20170325T131500
DTEND:20170325T135500
DTSTAMP:20170701T154700Z
UID:969a32d6b9f64556e777365a03bb1d03@pvna.com.au
CREATED:20170701T154700Z
DESCRIPTION:2017 Autumn Section:15&Under\nRound:Rnd 7
LAST-MODIFIED:20170701T154700Z
LOCATION:Court: 3
SEQUENCE:0
STATUS:CONFIRMED
SUMMARY:15&U-Rnd 7: Lightning Bolts (37) vs Shooting Stars Sparks (11)
TRANSP:OPAQUE
END:VEVENT
BEGIN:VEVENT
DTSTART:20170401T101500
DTEND:20170401T105500
DTSTAMP:20170701T154700Z
UID:d200e1914652e423fbd2c36cd725b030@pvna.com.au
CREATED:20170701T154700Z
DESCRIPTION:2017 Autumn Section:15&Under\nRound:Rnd 8
LAST-MODIFIED:20170701T154700Z
LOCATION:Court: 3
SEQUENCE:0
STATUS:CONFIRMED
SUMMARY:15&U-Rnd 8: Northern Blues Leopards (28) vs Lightning Bolts (22)
TRANSP:OPAQUE
END:VEVENT
BEGIN:VEVENT
DTSTART:20170422T084500
DTEND:20170422T092500
DTSTAMP:20170701T154700Z
UID:ce3f0392ad77496ea812fe24deaa6f5e@pvna.com.au
CREATED:20170701T154700Z
DESCRIPTION:2017 Autumn Section:15&Under\nRound:Rnd 9
LAST-MODIFIED:20170701T154700Z
LOCATION:Court: 4
SEQUENCE:0
STATUS:CONFIRMED
SUMMARY:15&U-Rnd 9: Northern Blues Cheetahs (10) vs Lightning Bolts (20)
TRANSP:OPAQUE
END:VEVENT
BEGIN:VEVENT
DTSTART:20170429T110000
DTEND:20170429T114500
DTSTAMP:20170701T154700Z
UID:a66d96ec80078061df3abe057553b65b@pvna.com.au
CREATED:20170701T154700Z
DESCRIPTION:2017 Autumn Section:15&Under\nRound:Rnd 10
LAST-MODIFIED:20170701T154700Z
LOCATION:Court: 2
SEQUENCE:0
STATUS:CONFIRMED
SUMMARY:15&U-Rnd 10: Lightning Bolts (19) vs Roxy (34)
TRANSP:OPAQUE
END:VEVENT
BEGIN:VEVENT
DTSTART:20170506T093000
DTEND:20170506T101000
DTSTAMP:20170701T154700Z
UID:094f8e7952a06d42fd49dfc68fe6cfab@pvna.com.au
CREATED:20170701T154700Z
DESCRIPTION:2017 Autumn Section:15&Under\nRound:Rnd 11
LAST-MODIFIED:20170701T154700Z
LOCATION:Court: 1
SEQUENCE:0
STATUS:CONFIRMED
SUMMARY:15&U-Rnd 11: Lightning Bolts (28) vs V.S.Connected III (14)
TRANSP:OPAQUE
END:VEVENT
BEGIN:VEVENT
DTSTART:20170513T114500
DTEND:20170513T122500
DTSTAMP:20170701T154700Z
UID:cd6337c32a08be2e78b2a6992f19ede3@pvna.com.au
CREATED:20170701T154700Z
DESCRIPTION:2017 Autumn Section:15&Under\nRound:Rnd 12
LAST-MODIFIED:20170701T154700Z
LOCATION:Court: 1
SEQUENCE:0
STATUS:CONFIRMED
SUMMARY:15&U-Rnd 12: Shooting Stars Sparks (23) vs Lightning Bolts (32)
TRANSP:OPAQUE
END:VEVENT
BEGIN:VEVENT
DTSTART:20170520T123000
DTEND:20170520T131000
DTSTAMP:20170701T154700Z
UID:01881dd5e6c854bce8afc093d0451ffc@pvna.com.au
CREATED:20170701T154700Z
DESCRIPTION:2017 Autumn Section:15&Under\nRound:Rnd 13
LAST-MODIFIED:20170701T154700Z
LOCATION:Court: 1
SEQUENCE:0
STATUS:CONFIRMED
SUMMARY:15&U-Rnd 13: Northern Blues Leopards (40) vs Lightning Bolts (11)
TRANSP:OPAQUE
END:VEVENT
BEGIN:VEVENT
DTSTART:20170527T084500
DTEND:20170527T092500
DTSTAMP:20170701T154700Z
UID:f07fe6bdcb7d92b5d7d1166c3088f0eb@pvna.com.au
CREATED:20170701T154700Z
DESCRIPTION:2017 Autumn Section:15&Under\nRound:Rnd 14
LAST-MODIFIED:20170701T154700Z
LOCATION:Court: 4
SEQUENCE:0
STATUS:CONFIRMED
SUMMARY:15&U-Rnd 14: Northern Blues Cheetahs (12) vs Lightning Bolts (31)
TRANSP:OPAQUE
END:VEVENT
BEGIN:VEVENT
DTSTART:20170603T114500
DTEND:20170603T122500
DTSTAMP:20170701T154700Z
UID:3dc9643cfe9ceb556be7e0e2c7f64b11@pvna.com.au
CREATED:20170701T154700Z
DESCRIPTION:2017 Autumn Section:15&Under\nRound:Rnd 15
LAST-MODIFIED:20170701T154700Z
LOCATION:Court: 2
SEQUENCE:0
STATUS:CONFIRMED
SUMMARY:15&U-Rnd 15: Lightning Bolts (19) vs Roxy (32)
TRANSP:OPAQUE
END:VEVENT
BEGIN:VEVENT
DTSTART:20170617T110000
DTEND:20170617T114500
DTSTAMP:20170701T154700Z
UID:f4fcda9c0f832a642516bf08c518a38f@pvna.com.au
CREATED:20170701T154700Z
DESCRIPTION:2017 Autumn Section:15&Under\nRound:Semi
LAST-MODIFIED:20170701T154700Z
LOCATION:Court: 2
SEQUENCE:0
STATUS:CONFIRMED
SUMMARY:15&U-Semi: Northern Blues Leopards (26) vs Lightning Bolts (29)
TRANSP:OPAQUE
END:VEVENT
BEGIN:VEVENT
DTSTART:20170624T104000
DTEND:20170624T114500
DTSTAMP:20170701T154700Z
UID:3e5fd12380dbd5db0766deeefb16167d@pvna.com.au
CREATED:20170701T154700Z
DESCRIPTION:2017 Autumn Section:15&Under\nRound:Prelim
LAST-MODIFIED:20170701T154700Z
LOCATION:Court: 2
SEQUENCE:0
STATUS:CONFIRMED
SUMMARY:15&U-Prelim: Roxy (39) vs Lightning Bolts (4)
TRANSP:OPAQUE
END:VEVENT
END:VCALENDAR
