BEGIN:VCALENDAR
PRODID:-//Google Inc//Google Calendar 70.9054//EN
VERSION:2.0
CALSCALE:GREGORIAN
METHOD:PUBLISH
X-WR-CALNAME:PV Comets Mystix Jnr
X-WR-TIMEZONE:Australia/Sydney
X-WR-CALDESC:PV Comets Parkville Calendars
BEGIN:VEVENT
DTSTART:20170204T131500
DTEND:20170204T135500
DTSTAMP:20170701T154700Z
UID:e9563098005db388abb7d9baf95d4151@pvna.com.au
CREATED:20170701T154700Z
DESCRIPTION:2017 Autumn Section:15&Under\nRound:Rnd 1
LAST-MODIFIED:20170701T154700Z
LOCATION:Court: 2
SEQUENCE:0
STATUS:CONFIRMED
SUMMARY:15&U-Rnd 1: Mystix Jnr (8) vs Devils (44)
TRANSP:OPAQUE
END:VEVENT
BEGIN:VEVENT
DTSTART:20170211T114500
DTEND:20170211T122500
DTSTAMP:20170701T154700Z
UID:ffdc6f4843812fe5af78b95496092ea6@pvna.com.au
CREATED:20170701T154700Z
DESCRIPTION:2017 Autumn Section:15&Under\nRound:Rnd 2
LAST-MODIFIED:20170701T154700Z
LOCATION:Court: 1
SEQUENCE:0
STATUS:CONFIRMED
SUMMARY:15&U-Rnd 2: Mystix Jnr (10) vs Northern Blues Kangas (21)
TRANSP:OPAQUE
END:VEVENT
BEGIN:VEVENT
DTSTART:20170218T123000
DTEND:20170218T131000
DTSTAMP:20170701T154700Z
UID:2821d436d1dbe0e6e9dc1ecd03794a4e@pvna.com.au
CREATED:20170701T154700Z
DESCRIPTION:2017 Autumn Section:15&Under\nRound:Rnd 3
LAST-MODIFIED:20170701T154700Z
LOCATION:Court: 4
SEQUENCE:0
STATUS:CONFIRMED
SUMMARY:15&U-Rnd 3: Mystix Jnr (4) vs Lightning Bolts (38)
TRANSP:OPAQUE
END:VEVENT
BEGIN:VEVENT
DTSTART:20170225T131500
DTEND:20170225T135500
DTSTAMP:20170701T154700Z
UID:61caf630fcb20634693f3f9ec377e5fe@pvna.com.au
CREATED:20170701T154700Z
DESCRIPTION:2017 Autumn Section:15&Under\nRound:Rnd 4
LAST-MODIFIED:20170701T154700Z
LOCATION:Court: 1
SEQUENCE:0
STATUS:CONFIRMED
SUMMARY:15&U-Rnd 4: Mystix Jnr (2) vs Northern Blues Leopards (30)
TRANSP:OPAQUE
END:VEVENT
BEGIN:VEVENT
DTSTART:20170304T110000
DTEND:20170304T114500
DTSTAMP:20170701T154700Z
UID:a2e5e1b3ca4940cb5ae84463c16d75a8@pvna.com.au
CREATED:20170701T154700Z
DESCRIPTION:2017 Autumn Section:15&Under\nRound:Rnd 5
LAST-MODIFIED:20170701T154700Z
LOCATION:Court: 1
SEQUENCE:0
STATUS:CONFIRMED
SUMMARY:15&U-Rnd 5: Mystix Jnr (1) vs Roxy (50)
TRANSP:OPAQUE
END:VEVENT
END:VCALENDAR
