BEGIN:VCALENDAR
PRODID:-//Google Inc//Google Calendar 70.9054//EN
VERSION:2.0
CALSCALE:GREGORIAN
METHOD:PUBLISH
X-WR-CALNAME:PV Comets Neon Nightmares 11s
X-WR-TIMEZONE:Australia/Sydney
X-WR-CALDESC:PV Comets Parkville Calendars
BEGIN:VEVENT
DTSTART:20170722T101500
DTEND:20170722T105500
DTSTAMP:20171209T065844Z
UID:0f82613c59dba8bd78d801896eb5eb78@pvna.com.au
CREATED:20171209T065844Z
DESCRIPTION:2017 Spring Section:11&Under\nRound:Rnd 1
LAST-MODIFIED:20171209T065844Z
LOCATION:Court: 1
SEQUENCE:0
STATUS:CONFIRMED
SUMMARY:11&U-Rnd 1: Neon Nightmares 11s (4) vs Northern Blues Cubs (5)
TRANSP:OPAQUE
END:VEVENT
BEGIN:VEVENT
DTSTART:20170729T084500
DTEND:20170729T092500
DTSTAMP:20171209T065844Z
UID:be849d89e51c4d07f3ee55f3f9bda3bf@pvna.com.au
CREATED:20171209T065844Z
DESCRIPTION:2017 Spring Section:11&Under\nRound:Rnd 2
LAST-MODIFIED:20171209T065844Z
LOCATION:Court: 3
SEQUENCE:0
STATUS:CONFIRMED
SUMMARY:11&U-Rnd 2: Falcons (15) vs Neon Nightmares 11s (2)
TRANSP:OPAQUE
END:VEVENT
BEGIN:VEVENT
DTSTART:20170805T084500
DTEND:20170805T092500
DTSTAMP:20171209T065844Z
UID:516d77807d6a3bdaa32352410eefcf8a@pvna.com.au
CREATED:20171209T065844Z
DESCRIPTION:2017 Spring Section:11&Under\nRound:Rnd 3
LAST-MODIFIED:20171209T065844Z
LOCATION:Court: 5
SEQUENCE:0
STATUS:CONFIRMED
SUMMARY:11&U-Rnd 3: Bluebirds (5) vs Neon Nightmares 11s (4)
TRANSP:OPAQUE
END:VEVENT
BEGIN:VEVENT
DTSTART:20170812T093000
DTEND:20170812T101000
DTSTAMP:20171209T065844Z
UID:3ab2cd0d57d11870e3d2bc7193433dc8@pvna.com.au
CREATED:20171209T065844Z
DESCRIPTION:2017 Spring Section:11&Under\nRound:Rnd 4
LAST-MODIFIED:20171209T065844Z
LOCATION:Court: 1
SEQUENCE:0
STATUS:CONFIRMED
SUMMARY:11&U-Rnd 4: All Starz Jnr (19) vs Neon Nightmares 11s (4)
TRANSP:OPAQUE
END:VEVENT
BEGIN:VEVENT
DTSTART:20170819T131500
DTEND:20170819T135500
DTSTAMP:20171209T065844Z
UID:536098300dc566457c6720483310af86@pvna.com.au
CREATED:20171209T065844Z
DESCRIPTION:2017 Spring Section:11&Under\nRound:Rnd 5
LAST-MODIFIED:20171209T065844Z
LOCATION:Court: 99
SEQUENCE:0
STATUS:CONFIRMED
SUMMARY:11&U-Rnd 5: Neon Nightmares 11s vs BYE
TRANSP:OPAQUE
END:VEVENT
BEGIN:VEVENT
DTSTART:20170826T101500
DTEND:20170826T105500
DTSTAMP:20171209T065844Z
UID:a468ee427a7eb5996be19b60b43afb00@pvna.com.au
CREATED:20171209T065844Z
DESCRIPTION:2017 Spring Section:11&Under\nRound:Rnd 6
LAST-MODIFIED:20171209T065844Z
LOCATION:Court: 4
SEQUENCE:0
STATUS:CONFIRMED
SUMMARY:11&U-Rnd 6: Waterlillies (0) vs Neon Nightmares 11s (19)
TRANSP:OPAQUE
END:VEVENT
BEGIN:VEVENT
DTSTART:20170902T084500
DTEND:20170902T092500
DTSTAMP:20171209T065844Z
UID:99f60f970ed7f00b204a9023eae6401e@pvna.com.au
CREATED:20171209T065844Z
DESCRIPTION:2017 Spring Section:11&Under\nRound:Rnd 7
LAST-MODIFIED:20171209T065844Z
LOCATION:Court: 5
SEQUENCE:0
STATUS:CONFIRMED
SUMMARY:11&U-Rnd 7: Awesome Angels 11s1 (14) vs Neon Nightmares 11s (5)
TRANSP:OPAQUE
END:VEVENT
BEGIN:VEVENT
DTSTART:20170909T110000
DTEND:20170909T114500
DTSTAMP:20171209T065844Z
UID:da9e65cef94b863b6917063092b40862@pvna.com.au
CREATED:20171209T065844Z
DESCRIPTION:2017 Spring Section:11&Under\nRound:Rnd 8
LAST-MODIFIED:20171209T065844Z
LOCATION:Court: 4
SEQUENCE:0
STATUS:CONFIRMED
SUMMARY:11&U-Rnd 8: Neon Nightmares 11s (0) vs Northern Blues Cubs (7)
TRANSP:OPAQUE
END:VEVENT
BEGIN:VEVENT
DTSTART:20170916T110000
DTEND:20170916T114500
DTSTAMP:20171209T065844Z
UID:373c30769303bd27f407a23abc263287@pvna.com.au
CREATED:20171209T065844Z
DESCRIPTION:2017 Spring Section:11&Under\nRound:Rnd 9
LAST-MODIFIED:20171209T065844Z
LOCATION:Court: 4
SEQUENCE:0
STATUS:CONFIRMED
SUMMARY:11&U-Rnd 9: Falcons (19) vs Neon Nightmares 11s (5)
TRANSP:OPAQUE
END:VEVENT
BEGIN:VEVENT
DTSTART:20170923T084500
DTEND:20170923T092500
DTSTAMP:20171209T065844Z
UID:3b39501eebc4af61c2e9a248a35b1a88@pvna.com.au
CREATED:20171209T065844Z
DESCRIPTION:2017 Spring Section:11&Under\nRound:Rnd 10
LAST-MODIFIED:20171209T065844Z
LOCATION:Court: 3
SEQUENCE:0
STATUS:CONFIRMED
SUMMARY:11&U-Rnd 10: Bluebirds (4) vs Neon Nightmares 11s (10)
TRANSP:OPAQUE
END:VEVENT
BEGIN:VEVENT
DTSTART:20171014T110000
DTEND:20171014T114500
DTSTAMP:20171209T065844Z
UID:dfe3ccae2a63d519a64a6052305b3879@pvna.com.au
CREATED:20171209T065844Z
DESCRIPTION:2017 Spring Section:11&Under\nRound:Rnd 11
LAST-MODIFIED:20171209T065844Z
LOCATION:Court: 4
SEQUENCE:0
STATUS:CONFIRMED
SUMMARY:11&U-Rnd 11: All Starz Jnr (13) vs Neon Nightmares 11s (1)
TRANSP:OPAQUE
END:VEVENT
BEGIN:VEVENT
DTSTART:20171021T131500
DTEND:20171021T135500
DTSTAMP:20171209T065844Z
UID:bff86dcc6fb92dd9d459f5af28a99287@pvna.com.au
CREATED:20171209T065844Z
DESCRIPTION:2017 Spring Section:11&Under\nRound:Rnd 12
LAST-MODIFIED:20171209T065844Z
LOCATION:Court: 99
SEQUENCE:0
STATUS:CONFIRMED
SUMMARY:11&U-Rnd 12: Neon Nightmares 11s vs BYE
TRANSP:OPAQUE
END:VEVENT
BEGIN:VEVENT
DTSTART:20171028T123000
DTEND:20171028T131000
DTSTAMP:20171209T065844Z
UID:7f2011b5b5e18a4efb5788a26eedb858@pvna.com.au
CREATED:20171209T065844Z
DESCRIPTION:2017 Spring Section:11&Under\nRound:Rnd 13
LAST-MODIFIED:20171209T065844Z
LOCATION:Court: 1
SEQUENCE:0
STATUS:CONFIRMED
SUMMARY:11&U-Rnd 13: Neon Nightmares 11s (17) vs Waterlillies (0)
TRANSP:OPAQUE
END:VEVENT
BEGIN:VEVENT
DTSTART:20171111T123000
DTEND:20171111T131000
DTSTAMP:20171209T065844Z
UID:e2ef7537893ce6eae137523f9a3b02af@pvna.com.au
CREATED:20171209T065844Z
DESCRIPTION:2017 Spring Section:11&Under\nRound:Rnd 14
LAST-MODIFIED:20171209T065844Z
LOCATION:Court: 3
SEQUENCE:0
STATUS:CONFIRMED
SUMMARY:11&U-Rnd 14: Awesome Angels 11s1 (7) vs Neon Nightmares 11s (10)
TRANSP:OPAQUE
END:VEVENT
BEGIN:VEVENT
DTSTART:20171118T114500
DTEND:20171118T122500
DTSTAMP:20171209T065844Z
UID:48ebb187bd175fd39aed1399bb3fec08@pvna.com.au
CREATED:20171209T065844Z
DESCRIPTION:2017 Spring Section:11&Under\nRound:Rnd 15
LAST-MODIFIED:20171209T065844Z
LOCATION:Court: 2
SEQUENCE:0
STATUS:CONFIRMED
SUMMARY:11&U-Rnd 15: Neon Nightmares 11s (4) vs Northern Blues Cubs (5)
TRANSP:OPAQUE
END:VEVENT
BEGIN:VEVENT
DTSTART:20171125T113000
DTEND:20171125T122500
DTSTAMP:20171209T065844Z
UID:6eabaedcc99e68dcfbc002c54284b89b@pvna.com.au
CREATED:20171209T065844Z
DESCRIPTION:2017 Spring Section:11&Under\nRound:Rnd 16
LAST-MODIFIED:20171209T065844Z
LOCATION:Court: 4
SEQUENCE:0
STATUS:CONFIRMED
SUMMARY:11&U-Rnd 16: Falcons (18) vs Neon Nightmares 11s (6)
TRANSP:OPAQUE
END:VEVENT
END:VCALENDAR
