BEGIN:VCALENDAR
PRODID:-//Google Inc//Google Calendar 70.9054//EN
VERSION:2.0
CALSCALE:GREGORIAN
METHOD:PUBLISH
X-WR-CALNAME:PV Comets Neon Nightmares 13s
X-WR-TIMEZONE:Australia/Sydney
X-WR-CALDESC:PV Comets Parkville Calendars
BEGIN:VEVENT
DTSTART:20170722T093000
DTEND:20170722T101000
DTSTAMP:20171209T065844Z
UID:37bf0b6b6f78c78cb68bc93ef68e0502@pvna.com.au
CREATED:20171209T065844Z
DESCRIPTION:2017 Spring Section:13&U Res\nRound:Rnd 1
LAST-MODIFIED:20171209T065844Z
LOCATION:Court: 1
SEQUENCE:0
STATUS:CONFIRMED
SUMMARY:13&U-Rnd 1: Storm (17) vs Neon Nightmares 13s (24)
TRANSP:OPAQUE
END:VEVENT
BEGIN:VEVENT
DTSTART:20170729T101500
DTEND:20170729T105500
DTSTAMP:20171209T065844Z
UID:5ecb824c740baa6bf22c643b470b4162@pvna.com.au
CREATED:20171209T065844Z
DESCRIPTION:2017 Spring Section:13&U Res\nRound:Rnd 2
LAST-MODIFIED:20171209T065844Z
LOCATION:Court: 1
SEQUENCE:0
STATUS:CONFIRMED
SUMMARY:13&U-Rnd 2: Neon Nightmares 13s (17) vs Awesome Angels 13s2 (9)
TRANSP:OPAQUE
END:VEVENT
BEGIN:VEVENT
DTSTART:20170805T093000
DTEND:20170805T101000
DTSTAMP:20171209T065844Z
UID:a6dc5cf196656b0ba2fc765f3456f99f@pvna.com.au
CREATED:20171209T065844Z
DESCRIPTION:2017 Spring Section:13&U Res\nRound:Rnd 3
LAST-MODIFIED:20171209T065844Z
LOCATION:Court: 5
SEQUENCE:0
STATUS:CONFIRMED
SUMMARY:13&U-Rnd 3: Neon Nightmares 13s (18) vs SS Rubies (2)
TRANSP:OPAQUE
END:VEVENT
BEGIN:VEVENT
DTSTART:20170812T123000
DTEND:20170812T131000
DTSTAMP:20171209T065844Z
UID:027f6f5f881eea3207d1f005b76b0785@pvna.com.au
CREATED:20171209T065844Z
DESCRIPTION:2017 Spring Section:13&U Res\nRound:Rnd 4
LAST-MODIFIED:20171209T065844Z
LOCATION:Court: 1
SEQUENCE:0
STATUS:CONFIRMED
SUMMARY:13&U-Rnd 4: Neon Nightmares 13s (22) vs Northern Blues Wallabies (11)
TRANSP:OPAQUE
END:VEVENT
BEGIN:VEVENT
DTSTART:20170819T084500
DTEND:20170819T092500
DTSTAMP:20171209T065844Z
UID:bf6e4acd244c854333d7aa3fa9d3d1ca@pvna.com.au
CREATED:20171209T065844Z
DESCRIPTION:2017 Spring Section:13&U Res\nRound:Rnd 5
LAST-MODIFIED:20171209T065844Z
LOCATION:Court: 5
SEQUENCE:0
STATUS:CONFIRMED
SUMMARY:13&U-Rnd 5: Neon Nightmares 13s (10) vs Northern Blues Joeys (0)
TRANSP:OPAQUE
END:VEVENT
BEGIN:VEVENT
DTSTART:20170826T110000
DTEND:20170826T114500
DTSTAMP:20171209T065844Z
UID:857c870cc4a501c7bd837284a539abba@pvna.com.au
CREATED:20171209T065844Z
DESCRIPTION:2017 Spring Section:13&U Res\nRound:Rnd 6
LAST-MODIFIED:20171209T065844Z
LOCATION:Court: 4
SEQUENCE:0
STATUS:CONFIRMED
SUMMARY:13&U-Rnd 6: Neon Nightmares 13s (19) vs SS Diamonds (13)
TRANSP:OPAQUE
END:VEVENT
BEGIN:VEVENT
DTSTART:20170902T093000
DTEND:20170902T101000
DTSTAMP:20171209T065844Z
UID:8afc67bd50aa8c630b4fc9f647d732e1@pvna.com.au
CREATED:20171209T065844Z
DESCRIPTION:2017 Spring Section:13&U Res\nRound:Rnd 7
LAST-MODIFIED:20171209T065844Z
LOCATION:Court: 5
SEQUENCE:0
STATUS:CONFIRMED
SUMMARY:13&U-Rnd 7: Neon Nightmares 13s (6) vs 13s (8)
TRANSP:OPAQUE
END:VEVENT
BEGIN:VEVENT
DTSTART:20170909T101500
DTEND:20170909T105500
DTSTAMP:20171209T065844Z
UID:dfaf6d11c7c825a55670c99bdfbb15cb@pvna.com.au
CREATED:20171209T065844Z
DESCRIPTION:2017 Spring Section:13&U Res\nRound:Rnd 8
LAST-MODIFIED:20171209T065844Z
LOCATION:Court: 2
SEQUENCE:0
STATUS:CONFIRMED
SUMMARY:13&U-Rnd 8: Storm (24) vs Neon Nightmares 13s (13)
TRANSP:OPAQUE
END:VEVENT
BEGIN:VEVENT
DTSTART:20170916T114500
DTEND:20170916T122500
DTSTAMP:20171209T065844Z
UID:66251fc9f2a8dc19dbc88ebee6ae9248@pvna.com.au
CREATED:20171209T065844Z
DESCRIPTION:2017 Spring Section:13&U Res\nRound:Rnd 9
LAST-MODIFIED:20171209T065844Z
LOCATION:Court: 4
SEQUENCE:0
STATUS:CONFIRMED
SUMMARY:13&U-Rnd 9: Neon Nightmares 13s (15) vs Awesome Angels 13s2 (15)
TRANSP:OPAQUE
END:VEVENT
BEGIN:VEVENT
DTSTART:20170923T101500
DTEND:20170923T105500
DTSTAMP:20171209T065844Z
UID:ae905958c6cda1273f7334c56d432af6@pvna.com.au
CREATED:20171209T065844Z
DESCRIPTION:2017 Spring Section:13&U Res\nRound:Rnd 10
LAST-MODIFIED:20171209T065844Z
LOCATION:Court: 1
SEQUENCE:0
STATUS:CONFIRMED
SUMMARY:13&U-Rnd 10: Neon Nightmares 13s (26) vs SS Rubies (7)
TRANSP:OPAQUE
END:VEVENT
BEGIN:VEVENT
DTSTART:20171014T123000
DTEND:20171014T131000
DTSTAMP:20171209T065844Z
UID:95f382f988f96ed8512853c5ae5000b1@pvna.com.au
CREATED:20171209T065844Z
DESCRIPTION:2017 Spring Section:13&U Res\nRound:Rnd 11
LAST-MODIFIED:20171209T065844Z
LOCATION:Court: 3
SEQUENCE:0
STATUS:CONFIRMED
SUMMARY:13&U-Rnd 11: Neon Nightmares 13s (37) vs Northern Blues Wallabies (8)
TRANSP:OPAQUE
END:VEVENT
BEGIN:VEVENT
DTSTART:20171021T123000
DTEND:20171021T131000
DTSTAMP:20171209T065844Z
UID:2cb354c8670f67b5e888cfad21d786a9@pvna.com.au
CREATED:20171209T065844Z
DESCRIPTION:2017 Spring Section:13&U Res\nRound:Rnd 12
LAST-MODIFIED:20171209T065844Z
LOCATION:Court: 3
SEQUENCE:0
STATUS:CONFIRMED
SUMMARY:13&U-Rnd 12: Neon Nightmares 13s (26) vs Northern Blues Joeys (17)
TRANSP:OPAQUE
END:VEVENT
BEGIN:VEVENT
DTSTART:20171028T114500
DTEND:20171028T122500
DTSTAMP:20171209T065844Z
UID:9a2bad55219777a1d2ce417201d54dd2@pvna.com.au
CREATED:20171209T065844Z
DESCRIPTION:2017 Spring Section:13&U Res\nRound:Rnd 13
LAST-MODIFIED:20171209T065844Z
LOCATION:Court: 2
SEQUENCE:0
STATUS:CONFIRMED
SUMMARY:13&U-Rnd 13: Neon Nightmares 13s (18) vs SS Diamonds (9)
TRANSP:OPAQUE
END:VEVENT
BEGIN:VEVENT
DTSTART:20171111T123000
DTEND:20171111T131000
DTSTAMP:20171209T065844Z
UID:c4441f7bd9302cde3cab78a17a901e22@pvna.com.au
CREATED:20171209T065844Z
DESCRIPTION:2017 Spring Section:13&U Res\nRound:Rnd 14
LAST-MODIFIED:20171209T065844Z
LOCATION:Court: 2
SEQUENCE:0
STATUS:CONFIRMED
SUMMARY:13&U-Rnd 14: Neon Nightmares 13s (13) vs 13s (15)
TRANSP:OPAQUE
END:VEVENT
BEGIN:VEVENT
DTSTART:20171118T101500
DTEND:20171118T105500
DTSTAMP:20171209T065844Z
UID:42c3109772b988e0a0585a2ac0f9b910@pvna.com.au
CREATED:20171209T065844Z
DESCRIPTION:2017 Spring Section:13&U Res\nRound:Rnd 15
LAST-MODIFIED:20171209T065844Z
LOCATION:Court: 3
SEQUENCE:0
STATUS:CONFIRMED
SUMMARY:13&U-Rnd 15: Storm (17) vs Neon Nightmares 13s (15)
TRANSP:OPAQUE
END:VEVENT
BEGIN:VEVENT
DTSTART:20171125T104000
DTEND:20171125T105500
DTSTAMP:20171209T065844Z
UID:a5ac71b78e95b099bc62771e463c2ac6@pvna.com.au
CREATED:20171209T065844Z
DESCRIPTION:2017 Spring Section:13&U Res\nRound:Semi
LAST-MODIFIED:20171209T065844Z
LOCATION:Court: 3
SEQUENCE:0
STATUS:CONFIRMED
SUMMARY:13&U-Semi: Neon Nightmares 13s (15) vs Storm (28)
TRANSP:OPAQUE
END:VEVENT
BEGIN:VEVENT
DTSTART:20171202T090000
DTEND:20171202T094000
DTSTAMP:20171209T065844Z
UID:1decfe79d9a744778450992c8b25c287@pvna.com.au
CREATED:20171209T065844Z
DESCRIPTION:2017 Spring Section:13&U Res\nRound:Prelim
LAST-MODIFIED:20171209T065844Z
LOCATION:Court: 3
SEQUENCE:0
STATUS:CONFIRMED
SUMMARY:13&U-Prelim: Neon Nightmares 13s (24) vs Northern Blues Joeys (16)
TRANSP:OPAQUE
END:VEVENT
BEGIN:VEVENT
DTSTART:20171209T090000
DTEND:20171209T094000
DTSTAMP:20171209T065844Z
UID:e3b9d53334c3201514cbc724c8915e4c@pvna.com.au
CREATED:20171209T065844Z
DESCRIPTION:2017 Spring Section:13&U Res\nRound:Grand
LAST-MODIFIED:20171209T065844Z
LOCATION:Court: 2
SEQUENCE:0
STATUS:CONFIRMED
SUMMARY:13&U-Grand: Storm (22) vs Neon Nightmares 13s (17)
TRANSP:OPAQUE
END:VEVENT
END:VCALENDAR
