BEGIN:VCALENDAR
PRODID:-//Google Inc//Google Calendar 70.9054//EN
VERSION:2.0
CALSCALE:GREGORIAN
METHOD:PUBLISH
X-WR-CALNAME:PV Comets Netta
X-WR-TIMEZONE:Australia/Sydney
X-WR-CALDESC:PV Comets Parkville Calendars
BEGIN:VEVENT
DTSTART:20170722T113000
DTEND:20170722T094000
DTSTAMP:20171209T065844Z
UID:2a276f22765d6f3532c88019edcc8c1c@pvna.com.au
CREATED:20171209T065844Z
DESCRIPTION:2017 Spring Section:Net-Set-Go\nRound:Rnd 1
LAST-MODIFIED:20171209T065844Z
LOCATION:Court: 3
SEQUENCE:0
STATUS:CONFIRMED
SUMMARY:Net--Rnd 1: NetSetGo! vs Netta
TRANSP:OPAQUE
END:VEVENT
BEGIN:VEVENT
DTSTART:20170729T113000
DTEND:20170729T094000
DTSTAMP:20171209T065844Z
UID:2b6b9af7717d3b3eba3cebcbd3f06dd5@pvna.com.au
CREATED:20171209T065844Z
DESCRIPTION:2017 Spring Section:Net-Set-Go\nRound:Rnd 2
LAST-MODIFIED:20171209T065844Z
LOCATION:Court: 3
SEQUENCE:0
STATUS:CONFIRMED
SUMMARY:Net--Rnd 2: NetSetGo! vs Netta
TRANSP:OPAQUE
END:VEVENT
BEGIN:VEVENT
DTSTART:20170805T113000
DTEND:20170805T094000
DTSTAMP:20171209T065844Z
UID:3cd6de0794aab7c7f995327762507e01@pvna.com.au
CREATED:20171209T065844Z
DESCRIPTION:2017 Spring Section:Net-Set-Go\nRound:Rnd 3
LAST-MODIFIED:20171209T065844Z
LOCATION:Court: 3
SEQUENCE:0
STATUS:CONFIRMED
SUMMARY:Net--Rnd 3: Netta vs NetSetGo!
TRANSP:OPAQUE
END:VEVENT
BEGIN:VEVENT
DTSTART:20170812T113000
DTEND:20170812T094000
DTSTAMP:20171209T065844Z
UID:b390c80ffb83265564f862f5eeda3138@pvna.com.au
CREATED:20171209T065844Z
DESCRIPTION:2017 Spring Section:Net-Set-Go\nRound:Rnd 4
LAST-MODIFIED:20171209T065844Z
LOCATION:Court: 3
SEQUENCE:0
STATUS:CONFIRMED
SUMMARY:Net--Rnd 4: NetSetGo! vs Netta
TRANSP:OPAQUE
END:VEVENT
BEGIN:VEVENT
DTSTART:20170819T113000
DTEND:20170819T094000
DTSTAMP:20171209T065844Z
UID:19ef4dffc223cfba94769910043e14ab@pvna.com.au
CREATED:20171209T065844Z
DESCRIPTION:2017 Spring Section:Net-Set-Go\nRound:Rnd 5
LAST-MODIFIED:20171209T065844Z
LOCATION:Court: 3
SEQUENCE:0
STATUS:CONFIRMED
SUMMARY:Net--Rnd 5: Netta vs NetSetGo!
TRANSP:OPAQUE
END:VEVENT
BEGIN:VEVENT
DTSTART:20170826T113000
DTEND:20170826T094000
DTSTAMP:20171209T065844Z
UID:bbb91c8400cc5a5ab2a73464091ba6ac@pvna.com.au
CREATED:20171209T065844Z
DESCRIPTION:2017 Spring Section:Net-Set-Go\nRound:Rnd 6
LAST-MODIFIED:20171209T065844Z
LOCATION:Court: 3
SEQUENCE:0
STATUS:CONFIRMED
SUMMARY:Net--Rnd 6: NetSetGo! vs Netta
TRANSP:OPAQUE
END:VEVENT
BEGIN:VEVENT
DTSTART:20170902T113000
DTEND:20170902T094000
DTSTAMP:20171209T065844Z
UID:5f0920d98d4880131fe8efad430a9ecf@pvna.com.au
CREATED:20171209T065844Z
DESCRIPTION:2017 Spring Section:Net-Set-Go\nRound:Rnd 7
LAST-MODIFIED:20171209T065844Z
LOCATION:Court: 3
SEQUENCE:0
STATUS:CONFIRMED
SUMMARY:Net--Rnd 7: Netta vs NetSetGo!
TRANSP:OPAQUE
END:VEVENT
BEGIN:VEVENT
DTSTART:20170909T113000
DTEND:20170909T094000
DTSTAMP:20171209T065844Z
UID:9eef3eaaa859355d2bd9d3154ffefcdc@pvna.com.au
CREATED:20171209T065844Z
DESCRIPTION:2017 Spring Section:Net-Set-Go\nRound:Rnd 8
LAST-MODIFIED:20171209T065844Z
LOCATION:Court: 3
SEQUENCE:0
STATUS:CONFIRMED
SUMMARY:Net--Rnd 8: NetSetGo! vs Netta
TRANSP:OPAQUE
END:VEVENT
BEGIN:VEVENT
DTSTART:20170916T113000
DTEND:20170916T094000
DTSTAMP:20171209T065844Z
UID:35cd9fd74319c4b7146a9c59c41b45bb@pvna.com.au
CREATED:20171209T065844Z
DESCRIPTION:2017 Spring Section:Net-Set-Go\nRound:Rnd 9
LAST-MODIFIED:20171209T065844Z
LOCATION:Court: 3
SEQUENCE:0
STATUS:CONFIRMED
SUMMARY:Net--Rnd 9: Netta vs NetSetGo!
TRANSP:OPAQUE
END:VEVENT
BEGIN:VEVENT
DTSTART:20170923T113000
DTEND:20170923T094000
DTSTAMP:20171209T065844Z
UID:a40e0f660912e487ab40228730ae7761@pvna.com.au
CREATED:20171209T065844Z
DESCRIPTION:2017 Spring Section:Net-Set-Go\nRound:Rnd 10
LAST-MODIFIED:20171209T065844Z
LOCATION:Court: 3
SEQUENCE:0
STATUS:CONFIRMED
SUMMARY:Net--Rnd 10: NetSetGo! vs Netta
TRANSP:OPAQUE
END:VEVENT
BEGIN:VEVENT
DTSTART:20171014T113000
DTEND:20171014T094000
DTSTAMP:20171209T065844Z
UID:f2147907cf11b94dd484f99be6d63943@pvna.com.au
CREATED:20171209T065844Z
DESCRIPTION:2017 Spring Section:Net-Set-Go\nRound:Rnd 11
LAST-MODIFIED:20171209T065844Z
LOCATION:Court: 3
SEQUENCE:0
STATUS:CONFIRMED
SUMMARY:Net--Rnd 11: Netta vs NetSetGo!
TRANSP:OPAQUE
END:VEVENT
BEGIN:VEVENT
DTSTART:20171021T113000
DTEND:20171021T094000
DTSTAMP:20171209T065844Z
UID:93cb43825d7cdb8b1559d132be32cd9a@pvna.com.au
CREATED:20171209T065844Z
DESCRIPTION:2017 Spring Section:Net-Set-Go\nRound:Rnd 12
LAST-MODIFIED:20171209T065844Z
LOCATION:Court: 3
SEQUENCE:0
STATUS:CONFIRMED
SUMMARY:Net--Rnd 12: NetSetGo! vs Netta
TRANSP:OPAQUE
END:VEVENT
BEGIN:VEVENT
DTSTART:20171028T113000
DTEND:20171028T094000
DTSTAMP:20171209T065844Z
UID:9d2b92df2b736b7176ea68ef221f0cbe@pvna.com.au
CREATED:20171209T065844Z
DESCRIPTION:2017 Spring Section:Net-Set-Go\nRound:Rnd 13
LAST-MODIFIED:20171209T065844Z
LOCATION:Court: 3
SEQUENCE:0
STATUS:CONFIRMED
SUMMARY:Net--Rnd 13: Netta vs NetSetGo!
TRANSP:OPAQUE
END:VEVENT
BEGIN:VEVENT
DTSTART:20171111T113000
DTEND:20171111T094000
DTSTAMP:20171209T065844Z
UID:d38a333bc67849f41b6deddc7084aad9@pvna.com.au
CREATED:20171209T065844Z
DESCRIPTION:2017 Spring Section:Net-Set-Go\nRound:Rnd 14
LAST-MODIFIED:20171209T065844Z
LOCATION:Court: 3
SEQUENCE:0
STATUS:CONFIRMED
SUMMARY:Net--Rnd 14: NetSetGo! vs Netta
TRANSP:OPAQUE
END:VEVENT
BEGIN:VEVENT
DTSTART:20171118T113000
DTEND:20171118T094000
DTSTAMP:20171209T065844Z
UID:538310e0e4437f8f65b5cad3cbb1175b@pvna.com.au
CREATED:20171209T065844Z
DESCRIPTION:2017 Spring Section:Net-Set-Go\nRound:Rnd 15
LAST-MODIFIED:20171209T065844Z
LOCATION:Court: 3
SEQUENCE:0
STATUS:CONFIRMED
SUMMARY:Net--Rnd 15: Netta vs NetSetGo!
TRANSP:OPAQUE
END:VEVENT
BEGIN:VEVENT
DTSTART:20171125T113000
DTEND:20171125T094000
DTSTAMP:20171209T065844Z
UID:30c5132ba744c3bc4d1b510f1b9e9266@pvna.com.au
CREATED:20171209T065844Z
DESCRIPTION:2017 Spring Section:Net-Set-Go\nRound:Rnd 16
LAST-MODIFIED:20171209T065844Z
LOCATION:Court: 3
SEQUENCE:0
STATUS:CONFIRMED
SUMMARY:Net--Rnd 16: NetSetGo! vs Netta
TRANSP:OPAQUE
END:VEVENT
BEGIN:VEVENT
DTSTART:20171202T113000
DTEND:20171202T094000
DTSTAMP:20171209T065844Z
UID:a38348403e28b78643bda72b63c41894@pvna.com.au
CREATED:20171209T065844Z
DESCRIPTION:2017 Spring Section:Net-Set-Go\nRound:Rnd 17
LAST-MODIFIED:20171209T065844Z
LOCATION:Court: 3
SEQUENCE:0
STATUS:CONFIRMED
SUMMARY:Net--Rnd 17: Netta vs NetSetGo!
TRANSP:OPAQUE
END:VEVENT
END:VCALENDAR
