BEGIN:VCALENDAR
PRODID:-//Google Inc//Google Calendar 70.9054//EN
VERSION:2.0
CALSCALE:GREGORIAN
METHOD:PUBLISH
X-WR-CALNAME:PV Comets NewTeam8_10s
X-WR-TIMEZONE:Australia/Sydney
X-WR-CALDESC:PV Comets Parkville Calendars
BEGIN:VEVENT
DTSTART:20170204T123000
DTEND:20170204T131000
DTSTAMP:20170129T120954Z
UID:4d3a78221e1025375b7233b468a929a1@pvna.com.au
CREATED:20170129T120954Z
DESCRIPTION:2017 Autumn Section:8-10s\nRound:Rnd 1
LAST-MODIFIED:20170129T120954Z
LOCATION:Court: 5
SEQUENCE:0
STATUS:CONFIRMED
SUMMARY:8-10-Rnd 1: Awesome Angels 8-10s2 vs NewTeam8_10s
TRANSP:OPAQUE
END:VEVENT
BEGIN:VEVENT
DTSTART:20170211T131500
DTEND:20170211T135500
DTSTAMP:20170129T120955Z
UID:62bc5e22867b2c0ecfeeb7991a2ed03e@pvna.com.au
CREATED:20170129T120955Z
DESCRIPTION:2017 Autumn Section:8-10s\nRound:Rnd 2\n\nCurrent Ladder:\nTeam            P  W  L  D  Pts\nAwesome Angels 8-10s1 0  0  0  0  0 \nNewTeam8_10s    0  0  0  0  0 \nAwesome Angels 8-10s2 0  0  0  0  0 \nNorthern Blues Chicks 0  0  0  0  0 \n
LAST-MODIFIED:20170129T120955Z
LOCATION:Court: 4
SEQUENCE:0
STATUS:CONFIRMED
SUMMARY:8-10-Rnd 2: NewTeam8_10s vs Northern Blues Chicks
TRANSP:OPAQUE
END:VEVENT
BEGIN:VEVENT
DTSTART:20170218T084500
DTEND:20170218T092500
DTSTAMP:20170129T120955Z
UID:4f98257bb69d716216c88e0dc63e6544@pvna.com.au
CREATED:20170129T120955Z
DESCRIPTION:2017 Autumn Section:8-10s\nRound:Rnd 3
LAST-MODIFIED:20170129T120955Z
LOCATION:Court: 4
SEQUENCE:0
STATUS:CONFIRMED
SUMMARY:8-10-Rnd 3: NewTeam8_10s vs Awesome Angels 8-10s1
TRANSP:OPAQUE
END:VEVENT
BEGIN:VEVENT
DTSTART:20170225T084500
DTEND:20170225T092500
DTSTAMP:20170129T120955Z
UID:c50bebc8aaac65341b16f174a02a4ace@pvna.com.au
CREATED:20170129T120955Z
DESCRIPTION:2017 Autumn Section:8-10s\nRound:Rnd 4
LAST-MODIFIED:20170129T120955Z
LOCATION:Court: 2
SEQUENCE:0
STATUS:CONFIRMED
SUMMARY:8-10-Rnd 4: Awesome Angels 8-10s2 vs NewTeam8_10s
TRANSP:OPAQUE
END:VEVENT
BEGIN:VEVENT
DTSTART:20170304T084500
DTEND:20170304T092500
DTSTAMP:20170129T120955Z
UID:30d969eda9374326f78d595dcb4e3d86@pvna.com.au
CREATED:20170129T120955Z
DESCRIPTION:2017 Autumn Section:8-10s\nRound:Rnd 5
LAST-MODIFIED:20170129T120955Z
LOCATION:Court: 2
SEQUENCE:0
STATUS:CONFIRMED
SUMMARY:8-10-Rnd 5: NewTeam8_10s vs Northern Blues Chicks
TRANSP:OPAQUE
END:VEVENT
BEGIN:VEVENT
DTSTART:20170311T084500
DTEND:20170311T092500
DTSTAMP:20170129T120955Z
UID:486445ee5a57a1813ee6ea4827ed4a4d@pvna.com.au
CREATED:20170129T120955Z
DESCRIPTION:2017 Autumn Section:8-10s\nRound:Rnd 6
LAST-MODIFIED:20170129T120955Z
LOCATION:Court: 2
SEQUENCE:0
STATUS:CONFIRMED
SUMMARY:8-10-Rnd 6: NewTeam8_10s vs Awesome Angels 8-10s1
TRANSP:OPAQUE
END:VEVENT
BEGIN:VEVENT
DTSTART:20170325T084500
DTEND:20170325T092500
DTSTAMP:20170129T120955Z
UID:fe103ca8210f2e7331231ed0e9e12219@pvna.com.au
CREATED:20170129T120955Z
DESCRIPTION:2017 Autumn Section:8-10s\nRound:Rnd 8
LAST-MODIFIED:20170129T120955Z
LOCATION:Court: 2
SEQUENCE:0
STATUS:CONFIRMED
SUMMARY:8-10-Rnd 8: Awesome Angels 8-10s2 vs NewTeam8_10s
TRANSP:OPAQUE
END:VEVENT
BEGIN:VEVENT
DTSTART:20170401T084500
DTEND:20170401T092500
DTSTAMP:20170129T120955Z
UID:5d233f083916316bc86cbdd9dc8d8041@pvna.com.au
CREATED:20170129T120955Z
DESCRIPTION:2017 Autumn Section:8-10s\nRound:Rnd 9
LAST-MODIFIED:20170129T120955Z
LOCATION:Court: 2
SEQUENCE:0
STATUS:CONFIRMED
SUMMARY:8-10-Rnd 9: NewTeam8_10s vs Northern Blues Chicks
TRANSP:OPAQUE
END:VEVENT
BEGIN:VEVENT
DTSTART:20170408T084500
DTEND:20170408T092500
DTSTAMP:20170129T120955Z
UID:1066e8f545da5cfebc36f9f8ffc96786@pvna.com.au
CREATED:20170129T120955Z
DESCRIPTION:2017 Autumn Section:8-10s\nRound:Rnd 10
LAST-MODIFIED:20170129T120955Z
LOCATION:Court: 2
SEQUENCE:0
STATUS:CONFIRMED
SUMMARY:8-10-Rnd 10: NewTeam8_10s vs Awesome Angels 8-10s1
TRANSP:OPAQUE
END:VEVENT
BEGIN:VEVENT
DTSTART:20170422T084500
DTEND:20170422T092500
DTSTAMP:20170129T120955Z
UID:03e1d2b200a3018543e20a578e040d40@pvna.com.au
CREATED:20170129T120955Z
DESCRIPTION:2017 Autumn Section:8-10s\nRound:Rnd 12
LAST-MODIFIED:20170129T120955Z
LOCATION:Court: 2
SEQUENCE:0
STATUS:CONFIRMED
SUMMARY:8-10-Rnd 12: Awesome Angels 8-10s2 vs NewTeam8_10s
TRANSP:OPAQUE
END:VEVENT
BEGIN:VEVENT
DTSTART:20170429T084500
DTEND:20170429T092500
DTSTAMP:20170129T120955Z
UID:a228c201288dcba74828ffff3e5e600c@pvna.com.au
CREATED:20170129T120955Z
DESCRIPTION:2017 Autumn Section:8-10s\nRound:Rnd 13
LAST-MODIFIED:20170129T120955Z
LOCATION:Court: 2
SEQUENCE:0
STATUS:CONFIRMED
SUMMARY:8-10-Rnd 13: NewTeam8_10s vs Northern Blues Chicks
TRANSP:OPAQUE
END:VEVENT
BEGIN:VEVENT
DTSTART:20170506T084500
DTEND:20170506T092500
DTSTAMP:20170129T120955Z
UID:1e5add1be40658698e86abdab4cafc83@pvna.com.au
CREATED:20170129T120955Z
DESCRIPTION:2017 Autumn Section:8-10s\nRound:Rnd 14
LAST-MODIFIED:20170129T120955Z
LOCATION:Court: 2
SEQUENCE:0
STATUS:CONFIRMED
SUMMARY:8-10-Rnd 14: NewTeam8_10s vs Awesome Angels 8-10s1
TRANSP:OPAQUE
END:VEVENT
BEGIN:VEVENT
DTSTART:20170520T084500
DTEND:20170520T092500
DTSTAMP:20170129T120955Z
UID:de6d447916ee38164e0a7f25d0c319c8@pvna.com.au
CREATED:20170129T120955Z
DESCRIPTION:2017 Autumn Section:8-10s\nRound:Rnd 16
LAST-MODIFIED:20170129T120955Z
LOCATION:Court: 2
SEQUENCE:0
STATUS:CONFIRMED
SUMMARY:8-10-Rnd 16: Awesome Angels 8-10s2 vs NewTeam8_10s
TRANSP:OPAQUE
END:VEVENT
BEGIN:VEVENT
DTSTART:20170527T084500
DTEND:20170527T092500
DTSTAMP:20170129T120955Z
UID:4c6beac185c049d048b3189c43c405c5@pvna.com.au
CREATED:20170129T120955Z
DESCRIPTION:2017 Autumn Section:8-10s\nRound:Rnd 17
LAST-MODIFIED:20170129T120955Z
LOCATION:Court: 2
SEQUENCE:0
STATUS:CONFIRMED
SUMMARY:8-10-Rnd 17: NewTeam8_10s vs Northern Blues Chicks
TRANSP:OPAQUE
END:VEVENT
BEGIN:VEVENT
DTSTART:20170603T084500
DTEND:20170603T092500
DTSTAMP:20170129T120955Z
UID:074e7c8415d6bd74e4ae5fd4a5f855f2@pvna.com.au
CREATED:20170129T120955Z
DESCRIPTION:2017 Autumn Section:8-10s\nRound:Rnd 18
LAST-MODIFIED:20170129T120955Z
LOCATION:Court: 2
SEQUENCE:0
STATUS:CONFIRMED
SUMMARY:8-10-Rnd 18: NewTeam8_10s vs Awesome Angels 8-10s1
TRANSP:OPAQUE
END:VEVENT
BEGIN:VEVENT
DTSTART:20170617T084500
DTEND:20170617T092500
DTSTAMP:20170129T120955Z
UID:9f1775a1074ad175ca81720e5e8a11af@pvna.com.au
CREATED:20170129T120955Z
DESCRIPTION:2017 Autumn Section:8-10s\nRound:Rnd 20
LAST-MODIFIED:20170129T120955Z
LOCATION:Court: 2
SEQUENCE:0
STATUS:CONFIRMED
SUMMARY:8-10-Rnd 20: Awesome Angels 8-10s2 vs NewTeam8_10s
TRANSP:OPAQUE
END:VEVENT
END:VCALENDAR
