BEGIN:VCALENDAR
PRODID:-//Google Inc//Google Calendar 70.9054//EN
VERSION:2.0
CALSCALE:GREGORIAN
METHOD:PUBLISH
X-WR-CALNAME:PV Comets Northern Blues Cats
X-WR-TIMEZONE:Australia/Sydney
X-WR-CALDESC:PV Comets Parkville Calendars
BEGIN:VEVENT
DTSTART:20170204T084500
DTEND:20170204T092500
DTSTAMP:20170701T154700Z
UID:504810cac19da87ac8d76307c9af1732@pvna.com.au
CREATED:20170701T154700Z
DESCRIPTION:2017 Autumn Section:17&Under\nRound:Rnd 1
LAST-MODIFIED:20170701T154700Z
LOCATION:Court: 99
SEQUENCE:0
STATUS:CONFIRMED
SUMMARY:17&U-Rnd 1: Northern Blues Cats vs BYE
TRANSP:OPAQUE
END:VEVENT
END:VCALENDAR
