BEGIN:VCALENDAR
PRODID:-//Google Inc//Google Calendar 70.9054//EN
VERSION:2.0
CALSCALE:GREGORIAN
METHOD:PUBLISH
X-WR-CALNAME:PV Comets Northern Blues Cheetahs
X-WR-TIMEZONE:Australia/Sydney
X-WR-CALDESC:PV Comets Parkville Calendars
BEGIN:VEVENT
DTSTART:20170722T110000
DTEND:20170722T114500
DTSTAMP:20171209T065844Z
UID:59d46e4b854b1ada7ebaf3ce901a36d4@pvna.com.au
CREATED:20171209T065844Z
DESCRIPTION:2017 Spring Section:15&Under\nRound:Rnd 1
LAST-MODIFIED:20171209T065844Z
LOCATION:Court: 1
SEQUENCE:0
STATUS:CONFIRMED
SUMMARY:15&U-Rnd 1: Northern Blues Cheetahs (19) vs Devils (18)
TRANSP:OPAQUE
END:VEVENT
BEGIN:VEVENT
DTSTART:20170729T123000
DTEND:20170729T131000
DTSTAMP:20171209T065844Z
UID:a0166389298b36666eb7bef0b298bce6@pvna.com.au
CREATED:20171209T065844Z
DESCRIPTION:2017 Spring Section:15&Under\nRound:Rnd 2
LAST-MODIFIED:20171209T065844Z
LOCATION:Court: 3
SEQUENCE:0
STATUS:CONFIRMED
SUMMARY:15&U-Rnd 2: Northern Blues Kangas (15) vs Northern Blues Cheetahs (21)
TRANSP:OPAQUE
END:VEVENT
BEGIN:VEVENT
DTSTART:20170805T131500
DTEND:20170805T135500
DTSTAMP:20171209T065844Z
UID:9d1ad334ba8bcc7632318659c3d04ecc@pvna.com.au
CREATED:20171209T065844Z
DESCRIPTION:2017 Spring Section:15&Under\nRound:Rnd 3
LAST-MODIFIED:20171209T065844Z
LOCATION:Court: 2
SEQUENCE:0
STATUS:CONFIRMED
SUMMARY:15&U-Rnd 3: Northern Blues Cheetahs (25) vs Ravens (3)
TRANSP:OPAQUE
END:VEVENT
BEGIN:VEVENT
DTSTART:20170812T093000
DTEND:20170812T101000
DTSTAMP:20171209T065844Z
UID:25045b745168862fc85125aa8e3a6adf@pvna.com.au
CREATED:20171209T065844Z
DESCRIPTION:2017 Spring Section:15&Under\nRound:Rnd 4
LAST-MODIFIED:20171209T065844Z
LOCATION:Court: 2
SEQUENCE:0
STATUS:CONFIRMED
SUMMARY:15&U-Rnd 4: Northern Blues Cheetahs (26) vs SS Saphires (9)
TRANSP:OPAQUE
END:VEVENT
BEGIN:VEVENT
DTSTART:20170819T110000
DTEND:20170819T114500
DTSTAMP:20171209T065844Z
UID:9c0a9def35831c67deec71e0c8395711@pvna.com.au
CREATED:20171209T065844Z
DESCRIPTION:2017 Spring Section:15&Under\nRound:Rnd 5
LAST-MODIFIED:20171209T065844Z
LOCATION:Court: 1
SEQUENCE:0
STATUS:CONFIRMED
SUMMARY:15&U-Rnd 5: Northern Blues Cheetahs (12) vs Roxy (24)
TRANSP:OPAQUE
END:VEVENT
BEGIN:VEVENT
DTSTART:20170826T110000
DTEND:20170826T114500
DTSTAMP:20171209T065844Z
UID:6095a6cb322a07582708b642e0e4b220@pvna.com.au
CREATED:20171209T065844Z
DESCRIPTION:2017 Spring Section:15&Under\nRound:Rnd 6
LAST-MODIFIED:20171209T065844Z
LOCATION:Court: 2
SEQUENCE:0
STATUS:CONFIRMED
SUMMARY:15&U-Rnd 6: Northern Blues Cheetahs (35) vs Awesome Angels 15s1 (2)
TRANSP:OPAQUE
END:VEVENT
BEGIN:VEVENT
DTSTART:20170902T093000
DTEND:20170902T101000
DTSTAMP:20171209T065844Z
UID:53a5f9db64d70cbee467443efda8cc84@pvna.com.au
CREATED:20171209T065844Z
DESCRIPTION:2017 Spring Section:15&Under\nRound:Rnd 7
LAST-MODIFIED:20171209T065844Z
LOCATION:Court: 3
SEQUENCE:0
STATUS:CONFIRMED
SUMMARY:15&U-Rnd 7: Ravens (7) vs Northern Blues Cheetahs (32)
TRANSP:OPAQUE
END:VEVENT
BEGIN:VEVENT
DTSTART:20170909T110000
DTEND:20170909T114500
DTSTAMP:20171209T065844Z
UID:9f3000ffe524d1503745badd0e555648@pvna.com.au
CREATED:20171209T065844Z
DESCRIPTION:2017 Spring Section:15&Under\nRound:Rnd 8
LAST-MODIFIED:20171209T065844Z
LOCATION:Court: 2
SEQUENCE:0
STATUS:CONFIRMED
SUMMARY:15&U-Rnd 8: Northern Blues Cheetahs (27) vs Devils (8)
TRANSP:OPAQUE
END:VEVENT
BEGIN:VEVENT
DTSTART:20170916T114500
DTEND:20170916T122500
DTSTAMP:20171209T065844Z
UID:b50484b3a48151c81943e96f13cf723d@pvna.com.au
CREATED:20171209T065844Z
DESCRIPTION:2017 Spring Section:15&Under\nRound:Rnd 9
LAST-MODIFIED:20171209T065844Z
LOCATION:Court: 1
SEQUENCE:0
STATUS:CONFIRMED
SUMMARY:15&U-Rnd 9: SS Sparks (14) vs Northern Blues Cheetahs (35)
TRANSP:OPAQUE
END:VEVENT
BEGIN:VEVENT
DTSTART:20170923T101500
DTEND:20170923T105500
DTSTAMP:20171209T065844Z
UID:8ccd4b36468094e6b361c940ca574d8a@pvna.com.au
CREATED:20171209T065844Z
DESCRIPTION:2017 Spring Section:15&Under\nRound:Rnd 10
LAST-MODIFIED:20171209T065844Z
LOCATION:Court: 3
SEQUENCE:0
STATUS:CONFIRMED
SUMMARY:15&U-Rnd 10: Roxy (28) vs Northern Blues Cheetahs (19)
TRANSP:OPAQUE
END:VEVENT
BEGIN:VEVENT
DTSTART:20171014T084500
DTEND:20171014T092500
DTSTAMP:20171209T065844Z
UID:38fa7e587b7836f29e5d141cd4cb92df@pvna.com.au
CREATED:20171209T065844Z
DESCRIPTION:2017 Spring Section:15&Under\nRound:Rnd 11
LAST-MODIFIED:20171209T065844Z
LOCATION:Court: 2
SEQUENCE:0
STATUS:CONFIRMED
SUMMARY:15&U-Rnd 11: Northern Blues Cheetahs (20) vs SS Sparks (12)
TRANSP:OPAQUE
END:VEVENT
BEGIN:VEVENT
DTSTART:20171021T110000
DTEND:20171021T114500
DTSTAMP:20171209T065844Z
UID:277ba2895e4008c4353d29fb655b30a2@pvna.com.au
CREATED:20171209T065844Z
DESCRIPTION:2017 Spring Section:15&Under\nRound:Rnd 12
LAST-MODIFIED:20171209T065844Z
LOCATION:Court: 4
SEQUENCE:0
STATUS:CONFIRMED
SUMMARY:15&U-Rnd 12: Devils (16) vs Northern Blues Cheetahs (21)
TRANSP:OPAQUE
END:VEVENT
BEGIN:VEVENT
DTSTART:20171028T101500
DTEND:20171028T105500
DTSTAMP:20171209T065844Z
UID:4e3e786e1d6d447fef92dc9f51dfcec4@pvna.com.au
CREATED:20171209T065844Z
DESCRIPTION:2017 Spring Section:15&Under\nRound:Rnd 13
LAST-MODIFIED:20171209T065844Z
LOCATION:Court: 1
SEQUENCE:0
STATUS:CONFIRMED
SUMMARY:15&U-Rnd 13: Roxy (29) vs Northern Blues Cheetahs (16)
TRANSP:OPAQUE
END:VEVENT
BEGIN:VEVENT
DTSTART:20171111T110000
DTEND:20171111T114500
DTSTAMP:20171209T065844Z
UID:5c4a8cc4b66b59f9ed843853f3d129d7@pvna.com.au
CREATED:20171209T065844Z
DESCRIPTION:2017 Spring Section:15&Under\nRound:Rnd 14
LAST-MODIFIED:20171209T065844Z
LOCATION:Court: 2
SEQUENCE:0
STATUS:CONFIRMED
SUMMARY:15&U-Rnd 14: Northern Blues Cheetahs (23) vs SS Sparks (14)
TRANSP:OPAQUE
END:VEVENT
BEGIN:VEVENT
DTSTART:20171118T093000
DTEND:20171118T101000
DTSTAMP:20171209T065844Z
UID:6d37a365a2298752f0bd03f48e619908@pvna.com.au
CREATED:20171209T065844Z
DESCRIPTION:2017 Spring Section:15&Under\nRound:Rnd 15
LAST-MODIFIED:20171209T065844Z
LOCATION:Court: 3
SEQUENCE:0
STATUS:CONFIRMED
SUMMARY:15&U-Rnd 15: Northern Blues Cheetahs (27) vs Devils (17)
TRANSP:OPAQUE
END:VEVENT
BEGIN:VEVENT
DTSTART:20171125T104000
DTEND:20171125T101000
DTSTAMP:20171209T065844Z
UID:c195a3fe5fab450bf3a87d95c99b897f@pvna.com.au
CREATED:20171209T065844Z
DESCRIPTION:2017 Spring Section:15&Under\nRound:Semi
LAST-MODIFIED:20171209T065844Z
LOCATION:Court: 1
SEQUENCE:0
STATUS:CONFIRMED
SUMMARY:15&U-Semi: Roxy (35) vs Northern Blues Cheetahs (7)
TRANSP:OPAQUE
END:VEVENT
BEGIN:VEVENT
DTSTART:20171202T090000
DTEND:20171202T094000
DTSTAMP:20171209T065844Z
UID:43f9317a340e613ecdda4ceb57d0480a@pvna.com.au
CREATED:20171209T065844Z
DESCRIPTION:2017 Spring Section:15&Under\nRound:Prelim
LAST-MODIFIED:20171209T065844Z
LOCATION:Court: 1
SEQUENCE:0
STATUS:CONFIRMED
SUMMARY:15&U-Prelim: Northern Blues Cheetahs (26) vs Devils (27)
TRANSP:OPAQUE
END:VEVENT
END:VCALENDAR
