BEGIN:VCALENDAR
PRODID:-//Google Inc//Google Calendar 70.9054//EN
VERSION:2.0
CALSCALE:GREGORIAN
METHOD:PUBLISH
X-WR-CALNAME:PV Comets Northern Blues Chicks
X-WR-TIMEZONE:Australia/Sydney
X-WR-CALDESC:PV Comets Parkville Calendars
BEGIN:VEVENT
DTSTART:20170722T131500
DTEND:20170722T135500
DTSTAMP:20171209T065844Z
UID:9df192ea990b4c6489eb0949f059a3a5@pvna.com.au
CREATED:20171209T065844Z
DESCRIPTION:2017 Spring Section:8-10s\nRound:Rnd 1
LAST-MODIFIED:20171209T065844Z
LOCATION:Court: 2
SEQUENCE:0
STATUS:CONFIRMED
SUMMARY:8-10-Rnd 1: Golden Girls (3) vs Northern Blues Chicks (10)
TRANSP:OPAQUE
END:VEVENT
BEGIN:VEVENT
DTSTART:20170729T093000
DTEND:20170729T101000
DTSTAMP:20171209T065844Z
UID:ab5f89d0b4e02117b81b214ea3ae90ed@pvna.com.au
CREATED:20171209T065844Z
DESCRIPTION:2017 Spring Section:8-10s\nRound:Rnd 2
LAST-MODIFIED:20171209T065844Z
LOCATION:Court: 99
SEQUENCE:0
STATUS:CONFIRMED
SUMMARY:8-10-Rnd 2: Northern Blues Chicks vs BYE
TRANSP:OPAQUE
END:VEVENT
BEGIN:VEVENT
DTSTART:20170805T101500
DTEND:20170805T105500
DTSTAMP:20171209T065844Z
UID:768919cf151034acdd7a1274d5b7936b@pvna.com.au
CREATED:20171209T065844Z
DESCRIPTION:2017 Spring Section:8-10s\nRound:Rnd 3
LAST-MODIFIED:20171209T065844Z
LOCATION:Court: 5
SEQUENCE:0
STATUS:CONFIRMED
SUMMARY:8-10-Rnd 3: Northern Blues Chicks (6) vs Awesome Angels 8-10s2 (0)
TRANSP:OPAQUE
END:VEVENT
BEGIN:VEVENT
DTSTART:20170812T131500
DTEND:20170812T135500
DTSTAMP:20171209T065844Z
UID:3f1e822c5d5aa88adf4edbde692b729a@pvna.com.au
CREATED:20171209T065844Z
DESCRIPTION:2017 Spring Section:8-10s\nRound:Rnd 4
LAST-MODIFIED:20171209T065844Z
LOCATION:Court: 2
SEQUENCE:0
STATUS:CONFIRMED
SUMMARY:8-10-Rnd 4: Little Dolphins (1) vs Northern Blues Chicks (21)
TRANSP:OPAQUE
END:VEVENT
BEGIN:VEVENT
DTSTART:20170819T084500
DTEND:20170819T092500
DTSTAMP:20171209T065844Z
UID:636a6ce962e5ee7e6b6ba7b5f601e85d@pvna.com.au
CREATED:20171209T065844Z
DESCRIPTION:2017 Spring Section:8-10s\nRound:Rnd 5
LAST-MODIFIED:20171209T065844Z
LOCATION:Court: 3
SEQUENCE:0
STATUS:CONFIRMED
SUMMARY:8-10-Rnd 5: Northern Blues Chicks (4) vs Awesome Angels 8-10s1 (13)
TRANSP:OPAQUE
END:VEVENT
BEGIN:VEVENT
DTSTART:20170826T123000
DTEND:20170826T131000
DTSTAMP:20171209T065844Z
UID:e60433aa9a7c1554da320194b8fb4e00@pvna.com.au
CREATED:20171209T065844Z
DESCRIPTION:2017 Spring Section:8-10s\nRound:Rnd 6
LAST-MODIFIED:20171209T065844Z
LOCATION:Court: 1
SEQUENCE:0
STATUS:CONFIRMED
SUMMARY:8-10-Rnd 6: Northern Blues Chicks (5) vs Golden Girls (5)
TRANSP:OPAQUE
END:VEVENT
BEGIN:VEVENT
DTSTART:20170902T131500
DTEND:20170902T135500
DTSTAMP:20171209T065844Z
UID:9f2e23eb40c70531f1db1e18f7f02cf1@pvna.com.au
CREATED:20171209T065844Z
DESCRIPTION:2017 Spring Section:8-10s\nRound:Rnd 7
LAST-MODIFIED:20171209T065844Z
LOCATION:Court: 99
SEQUENCE:0
STATUS:CONFIRMED
SUMMARY:8-10-Rnd 7: Northern Blues Chicks vs BYE
TRANSP:OPAQUE
END:VEVENT
BEGIN:VEVENT
DTSTART:20170909T123000
DTEND:20170909T131000
DTSTAMP:20171209T065844Z
UID:18cc6fc67b558b7eacb2ad08fec52c41@pvna.com.au
CREATED:20171209T065844Z
DESCRIPTION:2017 Spring Section:8-10s\nRound:Rnd 8
LAST-MODIFIED:20171209T065844Z
LOCATION:Court: 1
SEQUENCE:0
STATUS:CONFIRMED
SUMMARY:8-10-Rnd 8: Northern Blues Chicks (7) vs Awesome Angels 8-10s2 (2)
TRANSP:OPAQUE
END:VEVENT
BEGIN:VEVENT
DTSTART:20170916T123000
DTEND:20170916T131000
DTSTAMP:20171209T065844Z
UID:fe66797aa3deba3e617e7d72954d5159@pvna.com.au
CREATED:20171209T065844Z
DESCRIPTION:2017 Spring Section:8-10s\nRound:Rnd 9
LAST-MODIFIED:20171209T065844Z
LOCATION:Court: 1
SEQUENCE:0
STATUS:CONFIRMED
SUMMARY:8-10-Rnd 9: Northern Blues Chicks (6) vs Little Dolphins (1)
TRANSP:OPAQUE
END:VEVENT
BEGIN:VEVENT
DTSTART:20170923T123000
DTEND:20170923T131000
DTSTAMP:20171209T065844Z
UID:38fb0e288c8c187d819c7f90dcc6dd17@pvna.com.au
CREATED:20171209T065844Z
DESCRIPTION:2017 Spring Section:8-10s\nRound:Rnd 10
LAST-MODIFIED:20171209T065844Z
LOCATION:Court: 2
SEQUENCE:0
STATUS:CONFIRMED
SUMMARY:8-10-Rnd 10: Awesome Angels 8-10s1 (11) vs Northern Blues Chicks (2)
TRANSP:OPAQUE
END:VEVENT
BEGIN:VEVENT
DTSTART:20171014T101500
DTEND:20171014T105500
DTSTAMP:20171209T065844Z
UID:fe9a438aa2142f853955e7de95a10834@pvna.com.au
CREATED:20171209T065844Z
DESCRIPTION:2017 Spring Section:8-10s\nRound:Rnd 11
LAST-MODIFIED:20171209T065844Z
LOCATION:Court: 4
SEQUENCE:0
STATUS:CONFIRMED
SUMMARY:8-10-Rnd 11: Golden Girls (9) vs Northern Blues Chicks (4)
TRANSP:OPAQUE
END:VEVENT
BEGIN:VEVENT
DTSTART:20171021T131500
DTEND:20171021T135500
DTSTAMP:20171209T065844Z
UID:06cfe799c4d6b205301ff7aad8af739c@pvna.com.au
CREATED:20171209T065844Z
DESCRIPTION:2017 Spring Section:8-10s\nRound:Rnd 12
LAST-MODIFIED:20171209T065844Z
LOCATION:Court: 99
SEQUENCE:0
STATUS:CONFIRMED
SUMMARY:8-10-Rnd 12: Northern Blues Chicks vs BYE
TRANSP:OPAQUE
END:VEVENT
BEGIN:VEVENT
DTSTART:20171028T101500
DTEND:20171028T105500
DTSTAMP:20171209T065844Z
UID:defa9533bc19ee9baec7611cc93a89bf@pvna.com.au
CREATED:20171209T065844Z
DESCRIPTION:2017 Spring Section:8-10s\nRound:Rnd 13
LAST-MODIFIED:20171209T065844Z
LOCATION:Court: 4
SEQUENCE:0
STATUS:CONFIRMED
SUMMARY:8-10-Rnd 13: Northern Blues Chicks (14) vs Awesome Angels 8-10s2 (1)
TRANSP:OPAQUE
END:VEVENT
BEGIN:VEVENT
DTSTART:20171111T093000
DTEND:20171111T101000
DTSTAMP:20171209T065844Z
UID:e61c0088dc081a006564ac8c638ddd2f@pvna.com.au
CREATED:20171209T065844Z
DESCRIPTION:2017 Spring Section:8-10s\nRound:Rnd 14
LAST-MODIFIED:20171209T065844Z
LOCATION:Court: 4
SEQUENCE:0
STATUS:CONFIRMED
SUMMARY:8-10-Rnd 14: Northern Blues Chicks (24) vs Little Dolphins (1)
TRANSP:OPAQUE
END:VEVENT
BEGIN:VEVENT
DTSTART:20171118T093000
DTEND:20171118T101000
DTSTAMP:20171209T065844Z
UID:ea4a80836686770bd2f4667d0b4a560f@pvna.com.au
CREATED:20171209T065844Z
DESCRIPTION:2017 Spring Section:8-10s\nRound:Rnd 15
LAST-MODIFIED:20171209T065844Z
LOCATION:Court: 4
SEQUENCE:0
STATUS:CONFIRMED
SUMMARY:8-10-Rnd 15: Awesome Angels 8-10s1 (7) vs Northern Blues Chicks (7)
TRANSP:OPAQUE
END:VEVENT
BEGIN:VEVENT
DTSTART:20171125T122000
DTEND:20171125T101000
DTSTAMP:20171209T065844Z
UID:714240b9e699fdc2e1706704ea4a6950@pvna.com.au
CREATED:20171209T065844Z
DESCRIPTION:2017 Spring Section:8-10s\nRound:Rnd 16
LAST-MODIFIED:20171209T065844Z
LOCATION:Court: 1
SEQUENCE:0
STATUS:CONFIRMED
SUMMARY:8-10-Rnd 16: Golden Girls (15) vs Northern Blues Chicks (5)
TRANSP:OPAQUE
END:VEVENT
BEGIN:VEVENT
DTSTART:20171202T122000
DTEND:20171202T101000
DTSTAMP:20171209T065844Z
UID:fab87fecaac106480aca8fb43f5802e1@pvna.com.au
CREATED:20171209T065844Z
DESCRIPTION:2017 Spring Section:8-10s\nRound:Rnd 17
LAST-MODIFIED:20171209T065844Z
LOCATION:Court: 3
SEQUENCE:0
STATUS:CONFIRMED
SUMMARY:8-10-Rnd 17: Northern Blues Chicks (5) vs Awesome Angels 8-10s2 (5)
TRANSP:OPAQUE
END:VEVENT
BEGIN:VEVENT
DTSTART:20171202T122000
DTEND:20171202T101000
DTSTAMP:20171209T065844Z
UID:026505b126b2daad249458b5febaa085@pvna.com.au
CREATED:20171209T065844Z
DESCRIPTION:2017 Spring Section:8-10s\nRound:Rnd 17
LAST-MODIFIED:20171209T065844Z
LOCATION:Court: 5
SEQUENCE:0
STATUS:CONFIRMED
SUMMARY:8-10-Rnd 17: Northern Blues Chicks (5) vs Golden Girls (2)
TRANSP:OPAQUE
END:VEVENT
END:VCALENDAR
