BEGIN:VCALENDAR
PRODID:-//Google Inc//Google Calendar 70.9054//EN
VERSION:2.0
CALSCALE:GREGORIAN
METHOD:PUBLISH
X-WR-CALNAME:PV Comets Northern Blues Cubs
X-WR-TIMEZONE:Australia/Sydney
X-WR-CALDESC:PV Comets Parkville Calendars
BEGIN:VEVENT
DTSTART:20170722T101500
DTEND:20170722T105500
DTSTAMP:20171209T065844Z
UID:3612c4f83e493b7f1e147eed67b9191d@pvna.com.au
CREATED:20171209T065844Z
DESCRIPTION:2017 Spring Section:11&Under\nRound:Rnd 1
LAST-MODIFIED:20171209T065844Z
LOCATION:Court: 1
SEQUENCE:0
STATUS:CONFIRMED
SUMMARY:11&U-Rnd 1: Neon Nightmares 11s (4) vs Northern Blues Cubs (5)
TRANSP:OPAQUE
END:VEVENT
BEGIN:VEVENT
DTSTART:20170729T093000
DTEND:20170729T101000
DTSTAMP:20171209T065844Z
UID:5099cc0de316ed806855daeda6e1223f@pvna.com.au
CREATED:20171209T065844Z
DESCRIPTION:2017 Spring Section:11&Under\nRound:Rnd 2
LAST-MODIFIED:20171209T065844Z
LOCATION:Court: 1
SEQUENCE:0
STATUS:CONFIRMED
SUMMARY:11&U-Rnd 2: Northern Blues Cubs (9) vs Northern Blues Wallabies (16)
TRANSP:OPAQUE
END:VEVENT
BEGIN:VEVENT
DTSTART:20170805T124500
DTEND:20170805T132500
DTSTAMP:20171209T065844Z
UID:7c9bac1e87435ca0a0b5880059a94c11@pvna.com.au
CREATED:20171209T065844Z
DESCRIPTION:2017 Spring Section:11&Under\nRound:Rnd 3
LAST-MODIFIED:20171209T065844Z
LOCATION:Court: 1
SEQUENCE:0
STATUS:CONFIRMED
SUMMARY:11&U-Rnd 3: Awesome Angels 11s1 (3) vs Northern Blues Cubs (4)
TRANSP:OPAQUE
END:VEVENT
BEGIN:VEVENT
DTSTART:20170812T101500
DTEND:20170812T105500
DTSTAMP:20171209T065844Z
UID:ba16c0bbf3431d16235392411798d84f@pvna.com.au
CREATED:20171209T065844Z
DESCRIPTION:2017 Spring Section:11&Under\nRound:Rnd 4
LAST-MODIFIED:20171209T065844Z
LOCATION:Court: 3
SEQUENCE:0
STATUS:CONFIRMED
SUMMARY:11&U-Rnd 4: Falcons (11) vs Northern Blues Cubs (3)
TRANSP:OPAQUE
END:VEVENT
BEGIN:VEVENT
DTSTART:20170819T093000
DTEND:20170819T101000
DTSTAMP:20171209T065844Z
UID:80fb234c2ad08fcc4eea7f6cfaa3d73e@pvna.com.au
CREATED:20171209T065844Z
DESCRIPTION:2017 Spring Section:11&Under\nRound:Rnd 5
LAST-MODIFIED:20171209T065844Z
LOCATION:Court: 4
SEQUENCE:0
STATUS:CONFIRMED
SUMMARY:11&U-Rnd 5: Northern Blues Cubs (2) vs All Starz Jnr (17)
TRANSP:OPAQUE
END:VEVENT
BEGIN:VEVENT
DTSTART:20170826T093000
DTEND:20170826T101000
DTSTAMP:20171209T065844Z
UID:de7de314ea679b4d62dad8abc270318b@pvna.com.au
CREATED:20171209T065844Z
DESCRIPTION:2017 Spring Section:11&Under\nRound:Rnd 6
LAST-MODIFIED:20171209T065844Z
LOCATION:Court: 4
SEQUENCE:0
STATUS:CONFIRMED
SUMMARY:11&U-Rnd 6: Northern Blues Cubs (2) vs Bluebirds (4)
TRANSP:OPAQUE
END:VEVENT
BEGIN:VEVENT
DTSTART:20170902T114500
DTEND:20170902T122500
DTSTAMP:20171209T065844Z
UID:c4d7228be0153546574a009bfae3ad84@pvna.com.au
CREATED:20171209T065844Z
DESCRIPTION:2017 Spring Section:11&Under\nRound:Rnd 7
LAST-MODIFIED:20171209T065844Z
LOCATION:Court: 2
SEQUENCE:0
STATUS:CONFIRMED
SUMMARY:11&U-Rnd 7: Northern Blues Cubs (11) vs Waterlillies (2)
TRANSP:OPAQUE
END:VEVENT
BEGIN:VEVENT
DTSTART:20170909T110000
DTEND:20170909T114500
DTSTAMP:20171209T065844Z
UID:0d9def074eda47a10ad3c8add9ff7696@pvna.com.au
CREATED:20171209T065844Z
DESCRIPTION:2017 Spring Section:11&Under\nRound:Rnd 8
LAST-MODIFIED:20171209T065844Z
LOCATION:Court: 4
SEQUENCE:0
STATUS:CONFIRMED
SUMMARY:11&U-Rnd 8: Neon Nightmares 11s (0) vs Northern Blues Cubs (7)
TRANSP:OPAQUE
END:VEVENT
BEGIN:VEVENT
DTSTART:20170916T101500
DTEND:20170916T105500
DTSTAMP:20171209T065844Z
UID:8a1fb57293fb12402a57db277923d5aa@pvna.com.au
CREATED:20171209T065844Z
DESCRIPTION:2017 Spring Section:11&Under\nRound:Rnd 9
LAST-MODIFIED:20171209T065844Z
LOCATION:Court: 2
SEQUENCE:0
STATUS:CONFIRMED
SUMMARY:11&U-Rnd 9: Northern Blues Cubs (9) vs 13s Res (5)
TRANSP:OPAQUE
END:VEVENT
BEGIN:VEVENT
DTSTART:20170923T110000
DTEND:20170923T114500
DTSTAMP:20171209T065844Z
UID:05c5b19771a64af7ad806ad050579d36@pvna.com.au
CREATED:20171209T065844Z
DESCRIPTION:2017 Spring Section:11&Under\nRound:Rnd 10
LAST-MODIFIED:20171209T065844Z
LOCATION:Court: 4
SEQUENCE:0
STATUS:CONFIRMED
SUMMARY:11&U-Rnd 10: Awesome Angels 11s1 (1) vs Northern Blues Cubs (12)
TRANSP:OPAQUE
END:VEVENT
BEGIN:VEVENT
DTSTART:20171014T093000
DTEND:20171014T101000
DTSTAMP:20171209T065844Z
UID:99e6458226bad7dcd52ab43f496e42c5@pvna.com.au
CREATED:20171209T065844Z
DESCRIPTION:2017 Spring Section:11&Under\nRound:Rnd 11
LAST-MODIFIED:20171209T065844Z
LOCATION:Court: 4
SEQUENCE:0
STATUS:CONFIRMED
SUMMARY:11&U-Rnd 11: Falcons (11) vs Northern Blues Cubs (12)
TRANSP:OPAQUE
END:VEVENT
BEGIN:VEVENT
DTSTART:20171021T101500
DTEND:20171021T105500
DTSTAMP:20171209T065844Z
UID:2d6277f094e382990f2771cd2b4f01e9@pvna.com.au
CREATED:20171209T065844Z
DESCRIPTION:2017 Spring Section:11&Under\nRound:Rnd 12
LAST-MODIFIED:20171209T065844Z
LOCATION:Court: 4
SEQUENCE:0
STATUS:CONFIRMED
SUMMARY:11&U-Rnd 12: Northern Blues Cubs (6) vs All Starz Jnr (10)
TRANSP:OPAQUE
END:VEVENT
BEGIN:VEVENT
DTSTART:20171028T084500
DTEND:20171028T092500
DTSTAMP:20171209T065844Z
UID:e7fdfdc9d824c49ef59a735a248cb81a@pvna.com.au
CREATED:20171209T065844Z
DESCRIPTION:2017 Spring Section:11&Under\nRound:Rnd 13
LAST-MODIFIED:20171209T065844Z
LOCATION:Court: 4
SEQUENCE:0
STATUS:CONFIRMED
SUMMARY:11&U-Rnd 13: Northern Blues Cubs (13) vs Bluebirds (4)
TRANSP:OPAQUE
END:VEVENT
BEGIN:VEVENT
DTSTART:20171111T114500
DTEND:20171111T122500
DTSTAMP:20171209T065844Z
UID:90749293287de3ad219091cafd0c1aa3@pvna.com.au
CREATED:20171209T065844Z
DESCRIPTION:2017 Spring Section:11&Under\nRound:Rnd 14
LAST-MODIFIED:20171209T065844Z
LOCATION:Court: 4
SEQUENCE:0
STATUS:CONFIRMED
SUMMARY:11&U-Rnd 14: Waterlillies (3) vs Northern Blues Cubs (20)
TRANSP:OPAQUE
END:VEVENT
BEGIN:VEVENT
DTSTART:20171118T114500
DTEND:20171118T122500
DTSTAMP:20171209T065844Z
UID:00d6a8067689ca9e001a938d8bd019fb@pvna.com.au
CREATED:20171209T065844Z
DESCRIPTION:2017 Spring Section:11&Under\nRound:Rnd 15
LAST-MODIFIED:20171209T065844Z
LOCATION:Court: 2
SEQUENCE:0
STATUS:CONFIRMED
SUMMARY:11&U-Rnd 15: Neon Nightmares 11s (4) vs Northern Blues Cubs (5)
TRANSP:OPAQUE
END:VEVENT
BEGIN:VEVENT
DTSTART:20171125T113000
DTEND:20171125T122500
DTSTAMP:20171209T065844Z
UID:8731a9cb676389f60d20c3f41810e09b@pvna.com.au
CREATED:20171209T065844Z
DESCRIPTION:2017 Spring Section:11&Under\nRound:Rnd 16
LAST-MODIFIED:20171209T065844Z
LOCATION:Court: 99
SEQUENCE:0
STATUS:CONFIRMED
SUMMARY:11&U-Rnd 16: Northern Blues Cubs vs BYE
TRANSP:OPAQUE
END:VEVENT
BEGIN:VEVENT
DTSTART:20171202T090000
DTEND:20171202T094000
DTSTAMP:20171209T065844Z
UID:1cfc083ba1c35822bd04842ad4b9c56e@pvna.com.au
CREATED:20171209T065844Z
DESCRIPTION:2017 Spring Section:11&Under\nRound:Rnd 17
LAST-MODIFIED:20171209T065844Z
LOCATION:Court: 99
SEQUENCE:0
STATUS:CONFIRMED
SUMMARY:11&U-Rnd 17: Falcons vs Northern Blues Cubs
TRANSP:OPAQUE
END:VEVENT
BEGIN:VEVENT
DTSTART:20171202T100000
DTEND:20171202T094000
DTSTAMP:20171209T065844Z
UID:08bab605d6953404c3cf48fc9e616e2a@pvna.com.au
CREATED:20171209T065844Z
DESCRIPTION:2017 Spring Section:11&Under\nRound:Rnd 17
LAST-MODIFIED:20171209T065844Z
LOCATION:Court: 99
SEQUENCE:0
STATUS:CONFIRMED
SUMMARY:11&U-Rnd 17: All Starz Jnr vs Northern Blues Cubs
TRANSP:OPAQUE
END:VEVENT
BEGIN:VEVENT
DTSTART:20171202T110000
DTEND:20171202T114500
DTSTAMP:20171209T065844Z
UID:4cdd101c645ed0d4104245aebd3daa92@pvna.com.au
CREATED:20171209T065844Z
DESCRIPTION:2017 Spring Section:11&Under\nRound:Rnd 17
LAST-MODIFIED:20171209T065844Z
LOCATION:Court: 1
SEQUENCE:0
STATUS:CONFIRMED
SUMMARY:11&U-Rnd 17: Bluebirds vs Northern Blues Cubs
TRANSP:OPAQUE
END:VEVENT
END:VCALENDAR
