BEGIN:VCALENDAR
PRODID:-//Google Inc//Google Calendar 70.9054//EN
VERSION:2.0
CALSCALE:GREGORIAN
METHOD:PUBLISH
X-WR-CALNAME:PV Comets Northern Blues Joeys
X-WR-TIMEZONE:Australia/Sydney
X-WR-CALDESC:PV Comets Parkville Calendars
BEGIN:VEVENT
DTSTART:20170722T123000
DTEND:20170722T131000
DTSTAMP:20171209T065844Z
UID:ac79782ba88eea301b1301f1f6d53730@pvna.com.au
CREATED:20171209T065844Z
DESCRIPTION:2017 Spring Section:13&U Res\nRound:Rnd 1
LAST-MODIFIED:20171209T065844Z
LOCATION:Court: 2
SEQUENCE:0
STATUS:CONFIRMED
SUMMARY:13&U-Rnd 1: Awesome Angels 13s2 (18) vs Northern Blues Joeys (1)
TRANSP:OPAQUE
END:VEVENT
BEGIN:VEVENT
DTSTART:20170729T131500
DTEND:20170729T135500
DTSTAMP:20171209T065844Z
UID:b41797892119439ad28d0107585f7966@pvna.com.au
CREATED:20171209T065844Z
DESCRIPTION:2017 Spring Section:13&U Res\nRound:Rnd 2
LAST-MODIFIED:20171209T065844Z
LOCATION:Court: 3
SEQUENCE:0
STATUS:CONFIRMED
SUMMARY:13&U-Rnd 2: Northern Blues Joeys (12) vs Northern Blues Monkeys (7)
TRANSP:OPAQUE
END:VEVENT
BEGIN:VEVENT
DTSTART:20170805T123000
DTEND:20170805T131000
DTSTAMP:20171209T065844Z
UID:8b48afc75a1a4cec5789ed44208c958e@pvna.com.au
CREATED:20171209T065844Z
DESCRIPTION:2017 Spring Section:13&U Res\nRound:Rnd 3
LAST-MODIFIED:20171209T065844Z
LOCATION:Court: 3
SEQUENCE:0
STATUS:CONFIRMED
SUMMARY:13&U-Rnd 3: Northern Blues Joeys (14) vs Northern Blues Wallabies (12)
TRANSP:OPAQUE
END:VEVENT
BEGIN:VEVENT
DTSTART:20170812T123000
DTEND:20170812T131000
DTSTAMP:20171209T065844Z
UID:167355006c62789e503b7d1f0678381b@pvna.com.au
CREATED:20171209T065844Z
DESCRIPTION:2017 Spring Section:13&U Res\nRound:Rnd 4
LAST-MODIFIED:20171209T065844Z
LOCATION:Court: 3
SEQUENCE:0
STATUS:CONFIRMED
SUMMARY:13&U-Rnd 4: Northern Blues Joeys (15) vs SS Rubies (13)
TRANSP:OPAQUE
END:VEVENT
BEGIN:VEVENT
DTSTART:20170819T084500
DTEND:20170819T092500
DTSTAMP:20171209T065844Z
UID:cbaf56bd30cf197455cd0765c77cb16d@pvna.com.au
CREATED:20171209T065844Z
DESCRIPTION:2017 Spring Section:13&U Res\nRound:Rnd 5
LAST-MODIFIED:20171209T065844Z
LOCATION:Court: 5
SEQUENCE:0
STATUS:CONFIRMED
SUMMARY:13&U-Rnd 5: Neon Nightmares 13s (10) vs Northern Blues Joeys (0)
TRANSP:OPAQUE
END:VEVENT
BEGIN:VEVENT
DTSTART:20170826T093000
DTEND:20170826T101000
DTSTAMP:20171209T065844Z
UID:080028f448a37134cbe319c14244d0d4@pvna.com.au
CREATED:20171209T065844Z
DESCRIPTION:2017 Spring Section:13&U Res\nRound:Rnd 6
LAST-MODIFIED:20171209T065844Z
LOCATION:Court: 1
SEQUENCE:0
STATUS:CONFIRMED
SUMMARY:13&U-Rnd 6: Northern Blues Joeys (4) vs Storm (27)
TRANSP:OPAQUE
END:VEVENT
BEGIN:VEVENT
DTSTART:20170902T101500
DTEND:20170902T105500
DTSTAMP:20171209T065844Z
UID:d25801ea3261018706106165a4146fc0@pvna.com.au
CREATED:20171209T065844Z
DESCRIPTION:2017 Spring Section:13&U Res\nRound:Rnd 7
LAST-MODIFIED:20171209T065844Z
LOCATION:Court: 5
SEQUENCE:0
STATUS:CONFIRMED
SUMMARY:13&U-Rnd 7: Northern Blues Joeys (10) vs SS Diamonds (10)
TRANSP:OPAQUE
END:VEVENT
BEGIN:VEVENT
DTSTART:20170909T123000
DTEND:20170909T131000
DTSTAMP:20171209T065844Z
UID:8db415605c01462822ba300159f71dfa@pvna.com.au
CREATED:20171209T065844Z
DESCRIPTION:2017 Spring Section:13&U Res\nRound:Rnd 8
LAST-MODIFIED:20171209T065844Z
LOCATION:Court: 2
SEQUENCE:0
STATUS:CONFIRMED
SUMMARY:13&U-Rnd 8: Awesome Angels 13s2 (20) vs Northern Blues Joeys (19)
TRANSP:OPAQUE
END:VEVENT
BEGIN:VEVENT
DTSTART:20170916T101500
DTEND:20170916T105500
DTSTAMP:20171209T065844Z
UID:565e1c44aa755cb6370dc640c5c5a960@pvna.com.au
CREATED:20171209T065844Z
DESCRIPTION:2017 Spring Section:13&U Res\nRound:Rnd 9
LAST-MODIFIED:20171209T065844Z
LOCATION:Court: 2
SEQUENCE:0
STATUS:CONFIRMED
SUMMARY:13&U-Rnd 9: 11s (9) vs Northern Blues Joeys (5)
TRANSP:OPAQUE
END:VEVENT
BEGIN:VEVENT
DTSTART:20170923T123000
DTEND:20170923T131000
DTSTAMP:20171209T065844Z
UID:7c23e5be64f8dbeb39cea78ccf80e70b@pvna.com.au
CREATED:20171209T065844Z
DESCRIPTION:2017 Spring Section:13&U Res\nRound:Rnd 10
LAST-MODIFIED:20171209T065844Z
LOCATION:Court: 3
SEQUENCE:0
STATUS:CONFIRMED
SUMMARY:13&U-Rnd 10: Northern Blues Joeys (22) vs Northern Blues Wallabies (10)
TRANSP:OPAQUE
END:VEVENT
BEGIN:VEVENT
DTSTART:20171014T110000
DTEND:20171014T114500
DTSTAMP:20171209T065844Z
UID:4b2bc297a6ada32029e3aeebe9719174@pvna.com.au
CREATED:20171209T065844Z
DESCRIPTION:2017 Spring Section:13&U Res\nRound:Rnd 11
LAST-MODIFIED:20171209T065844Z
LOCATION:Court: 2
SEQUENCE:0
STATUS:CONFIRMED
SUMMARY:13&U-Rnd 11: Northern Blues Joeys (13) vs SS Rubies (5)
TRANSP:OPAQUE
END:VEVENT
BEGIN:VEVENT
DTSTART:20171021T123000
DTEND:20171021T131000
DTSTAMP:20171209T065844Z
UID:47983c1f9cd149def1ffaef720a626c5@pvna.com.au
CREATED:20171209T065844Z
DESCRIPTION:2017 Spring Section:13&U Res\nRound:Rnd 12
LAST-MODIFIED:20171209T065844Z
LOCATION:Court: 3
SEQUENCE:0
STATUS:CONFIRMED
SUMMARY:13&U-Rnd 12: Neon Nightmares 13s (26) vs Northern Blues Joeys (17)
TRANSP:OPAQUE
END:VEVENT
BEGIN:VEVENT
DTSTART:20171028T114500
DTEND:20171028T122500
DTSTAMP:20171209T065844Z
UID:211efe4434c73c7877e6be7d91cb8639@pvna.com.au
CREATED:20171209T065844Z
DESCRIPTION:2017 Spring Section:13&U Res\nRound:Rnd 13
LAST-MODIFIED:20171209T065844Z
LOCATION:Court: 1
SEQUENCE:0
STATUS:CONFIRMED
SUMMARY:13&U-Rnd 13: Northern Blues Joeys (15) vs Storm (15)
TRANSP:OPAQUE
END:VEVENT
BEGIN:VEVENT
DTSTART:20171111T093000
DTEND:20171111T101000
DTSTAMP:20171209T065844Z
UID:22143534f0f9020156504a89afb59a51@pvna.com.au
CREATED:20171209T065844Z
DESCRIPTION:2017 Spring Section:13&U Res\nRound:Rnd 14
LAST-MODIFIED:20171209T065844Z
LOCATION:Court: 3
SEQUENCE:0
STATUS:CONFIRMED
SUMMARY:13&U-Rnd 14: Northern Blues Joeys (12) vs SS Diamonds (13)
TRANSP:OPAQUE
END:VEVENT
BEGIN:VEVENT
DTSTART:20171118T110000
DTEND:20171118T114500
DTSTAMP:20171209T065844Z
UID:7ebfa6a95f0945355d69a15a7710474c@pvna.com.au
CREATED:20171209T065844Z
DESCRIPTION:2017 Spring Section:13&U Res\nRound:Rnd 15
LAST-MODIFIED:20171209T065844Z
LOCATION:Court: 2
SEQUENCE:0
STATUS:CONFIRMED
SUMMARY:13&U-Rnd 15: Awesome Angels 13s2 (13) vs Northern Blues Joeys (19)
TRANSP:OPAQUE
END:VEVENT
BEGIN:VEVENT
DTSTART:20171125T090000
DTEND:20171125T094000
DTSTAMP:20171209T065844Z
UID:a901b2c7b783bb5764e23e86fa9c6877@pvna.com.au
CREATED:20171209T065844Z
DESCRIPTION:2017 Spring Section:13&U Res\nRound:Semi
LAST-MODIFIED:20171209T065844Z
LOCATION:Court: 3
SEQUENCE:0
STATUS:CONFIRMED
SUMMARY:13&U-Semi: SS Diamonds (11) vs Northern Blues Joeys (19)
TRANSP:OPAQUE
END:VEVENT
BEGIN:VEVENT
DTSTART:20171202T090000
DTEND:20171202T094000
DTSTAMP:20171209T065844Z
UID:5d2f442c2bcb481bacf2e3ad385665ad@pvna.com.au
CREATED:20171209T065844Z
DESCRIPTION:2017 Spring Section:13&U Res\nRound:Prelim
LAST-MODIFIED:20171209T065844Z
LOCATION:Court: 3
SEQUENCE:0
STATUS:CONFIRMED
SUMMARY:13&U-Prelim: Neon Nightmares 13s (24) vs Northern Blues Joeys (16)
TRANSP:OPAQUE
END:VEVENT
END:VCALENDAR
