BEGIN:VCALENDAR
PRODID:-//Google Inc//Google Calendar 70.9054//EN
VERSION:2.0
CALSCALE:GREGORIAN
METHOD:PUBLISH
X-WR-CALNAME:PV Comets Northern Blues Kangas
X-WR-TIMEZONE:Australia/Sydney
X-WR-CALDESC:PV Comets Parkville Calendars
BEGIN:VEVENT
DTSTART:20170722T110000
DTEND:20170722T114500
DTSTAMP:20171209T065844Z
UID:59ee5ef5db0344f40697672d2fabfc4e@pvna.com.au
CREATED:20171209T065844Z
DESCRIPTION:2017 Spring Section:15&Under\nRound:Rnd 1
LAST-MODIFIED:20171209T065844Z
LOCATION:Court: 2
SEQUENCE:0
STATUS:CONFIRMED
SUMMARY:15&U-Rnd 1: Northern Blues Kangas (5) vs Ravens (12)
TRANSP:OPAQUE
END:VEVENT
BEGIN:VEVENT
DTSTART:20170729T123000
DTEND:20170729T131000
DTSTAMP:20171209T065844Z
UID:239e78866baad85e030d3c4fccd8b28c@pvna.com.au
CREATED:20171209T065844Z
DESCRIPTION:2017 Spring Section:15&Under\nRound:Rnd 2
LAST-MODIFIED:20171209T065844Z
LOCATION:Court: 3
SEQUENCE:0
STATUS:CONFIRMED
SUMMARY:15&U-Rnd 2: Northern Blues Kangas (15) vs Northern Blues Cheetahs (21)
TRANSP:OPAQUE
END:VEVENT
BEGIN:VEVENT
DTSTART:20170805T110000
DTEND:20170805T114500
DTSTAMP:20171209T065844Z
UID:213b15aed177dd5318d4fb49ad74e9d8@pvna.com.au
CREATED:20171209T065844Z
DESCRIPTION:2017 Spring Section:15&Under\nRound:Rnd 3
LAST-MODIFIED:20171209T065844Z
LOCATION:Court: 2
SEQUENCE:0
STATUS:CONFIRMED
SUMMARY:15&U-Rnd 3: Roxy (42) vs Northern Blues Kangas (3)
TRANSP:OPAQUE
END:VEVENT
BEGIN:VEVENT
DTSTART:20170812T084500
DTEND:20170812T092500
DTSTAMP:20171209T065844Z
UID:3e35a05ed0e4c800123d6ed7d0a5a6ff@pvna.com.au
CREATED:20171209T065844Z
DESCRIPTION:2017 Spring Section:15&Under\nRound:Rnd 4
LAST-MODIFIED:20171209T065844Z
LOCATION:Court: 1
SEQUENCE:0
STATUS:CONFIRMED
SUMMARY:15&U-Rnd 4: Awesome Angels 15s1 (1) vs Northern Blues Kangas (27)
TRANSP:OPAQUE
END:VEVENT
BEGIN:VEVENT
DTSTART:20170819T093000
DTEND:20170819T101000
DTSTAMP:20171209T065844Z
UID:98bc29bde3004de83f4b01cee7b0f709@pvna.com.au
CREATED:20171209T065844Z
DESCRIPTION:2017 Spring Section:15&Under\nRound:Rnd 5
LAST-MODIFIED:20171209T065844Z
LOCATION:Court: 3
SEQUENCE:0
STATUS:CONFIRMED
SUMMARY:15&U-Rnd 5: SS Sparks (20) vs Northern Blues Kangas (9)
TRANSP:OPAQUE
END:VEVENT
BEGIN:VEVENT
DTSTART:20170826T084500
DTEND:20170826T092500
DTSTAMP:20171209T065844Z
UID:b9666fad7bd20ec962b71b1380f3eddc@pvna.com.au
CREATED:20171209T065844Z
DESCRIPTION:2017 Spring Section:15&Under\nRound:Rnd 6
LAST-MODIFIED:20171209T065844Z
LOCATION:Court: 1
SEQUENCE:0
STATUS:CONFIRMED
SUMMARY:15&U-Rnd 6: Roxy (36) vs Northern Blues Kangas (4)
TRANSP:OPAQUE
END:VEVENT
BEGIN:VEVENT
DTSTART:20170902T123000
DTEND:20170902T131000
DTSTAMP:20171209T065844Z
UID:563745cc0d21e0587596c3873666e561@pvna.com.au
CREATED:20171209T065844Z
DESCRIPTION:2017 Spring Section:15&Under\nRound:Rnd 7
LAST-MODIFIED:20171209T065844Z
LOCATION:Court: 3
SEQUENCE:0
STATUS:CONFIRMED
SUMMARY:15&U-Rnd 7: SS Saphires (10) vs Northern Blues Kangas (0)
TRANSP:OPAQUE
END:VEVENT
BEGIN:VEVENT
DTSTART:20170909T101500
DTEND:20170909T105500
DTSTAMP:20171209T065844Z
UID:fed94bffd3e728bc96d37be54a98eeef@pvna.com.au
CREATED:20171209T065844Z
DESCRIPTION:2017 Spring Section:15&Under\nRound:Rnd 8
LAST-MODIFIED:20171209T065844Z
LOCATION:Court: 1
SEQUENCE:0
STATUS:CONFIRMED
SUMMARY:15&U-Rnd 8: Northern Blues Kangas (26) vs Ravens (8)
TRANSP:OPAQUE
END:VEVENT
BEGIN:VEVENT
DTSTART:20170916T084500
DTEND:20170916T092500
DTSTAMP:20171209T065844Z
UID:da8d5e0e44ba6c7c8f7540b15baea9a2@pvna.com.au
CREATED:20171209T065844Z
DESCRIPTION:2017 Spring Section:15&Under\nRound:Rnd 9
LAST-MODIFIED:20171209T065844Z
LOCATION:Court: 2
SEQUENCE:0
STATUS:CONFIRMED
SUMMARY:15&U-Rnd 9: Devils (32) vs Northern Blues Kangas (15)
TRANSP:OPAQUE
END:VEVENT
BEGIN:VEVENT
DTSTART:20170923T110000
DTEND:20170923T114500
DTSTAMP:20171209T065844Z
UID:16c8043cc224c88393460a16b3021373@pvna.com.au
CREATED:20171209T065844Z
DESCRIPTION:2017 Spring Section:15&U Res\nRound:Rnd 10
LAST-MODIFIED:20171209T065844Z
LOCATION:Court: 1
SEQUENCE:0
STATUS:CONFIRMED
SUMMARY:15&U-Rnd 10: Northern Blues Kangas (19) vs Ravens (12)
TRANSP:OPAQUE
END:VEVENT
BEGIN:VEVENT
DTSTART:20171014T123000
DTEND:20171014T131000
DTSTAMP:20171209T065844Z
UID:afbea551fadfc60cf192ec12af1d318d@pvna.com.au
CREATED:20171209T065844Z
DESCRIPTION:2017 Spring Section:15&U Res\nRound:Rnd 11
LAST-MODIFIED:20171209T065844Z
LOCATION:Court: 1
SEQUENCE:0
STATUS:CONFIRMED
SUMMARY:15&U-Rnd 11: Awesome Angels 15s1 (7) vs Northern Blues Kangas (19)
TRANSP:OPAQUE
END:VEVENT
BEGIN:VEVENT
DTSTART:20171021T110000
DTEND:20171021T114500
DTSTAMP:20171209T065844Z
UID:3c50cec9b6084c683373cdfd1540b96e@pvna.com.au
CREATED:20171209T065844Z
DESCRIPTION:2017 Spring Section:15&U Res\nRound:Rnd 12
LAST-MODIFIED:20171209T065844Z
LOCATION:Court: 1
SEQUENCE:0
STATUS:CONFIRMED
SUMMARY:15&U-Rnd 12: SS Saphires (19) vs Northern Blues Kangas (20)
TRANSP:OPAQUE
END:VEVENT
BEGIN:VEVENT
DTSTART:20171028T084500
DTEND:20171028T092500
DTSTAMP:20171209T065844Z
UID:a90b3541c39a6176fe1bee787bff4ff4@pvna.com.au
CREATED:20171209T065844Z
DESCRIPTION:2017 Spring Section:15&U Res\nRound:Rnd 13
LAST-MODIFIED:20171209T065844Z
LOCATION:Court: 1
SEQUENCE:0
STATUS:CONFIRMED
SUMMARY:15&U-Rnd 13: Northern Blues Kangas (25) vs Ravens (6)
TRANSP:OPAQUE
END:VEVENT
BEGIN:VEVENT
DTSTART:20171111T110000
DTEND:20171111T114500
DTSTAMP:20171209T065844Z
UID:cbf762ddebaa35ddd2d2996252e1eba9@pvna.com.au
CREATED:20171209T065844Z
DESCRIPTION:2017 Spring Section:15&U Res\nRound:Rnd 14
LAST-MODIFIED:20171209T065844Z
LOCATION:Court: 1
SEQUENCE:0
STATUS:CONFIRMED
SUMMARY:15&U-Rnd 14: Awesome Angels 15s1 (2) vs Northern Blues Kangas (20)
TRANSP:OPAQUE
END:VEVENT
BEGIN:VEVENT
DTSTART:20171118T123000
DTEND:20171118T131000
DTSTAMP:20171209T065844Z
UID:25d8921d9111747eff42d64e35f1b66a@pvna.com.au
CREATED:20171209T065844Z
DESCRIPTION:2017 Spring Section:15&U Res\nRound:Rnd 15
LAST-MODIFIED:20171209T065844Z
LOCATION:Court: 1
SEQUENCE:0
STATUS:CONFIRMED
SUMMARY:15&U-Rnd 15: SS Saphires (20) vs Northern Blues Kangas (18)
TRANSP:OPAQUE
END:VEVENT
BEGIN:VEVENT
DTSTART:20171125T113000
DTEND:20171125T131000
DTSTAMP:20171209T065844Z
UID:195b9c23e47fe30ad85697c9c2e36a5b@pvna.com.au
CREATED:20171209T065844Z
DESCRIPTION:2017 Spring Section:15&U Res\nRound:Semi
LAST-MODIFIED:20171209T065844Z
LOCATION:Court: 1
SEQUENCE:0
STATUS:CONFIRMED
SUMMARY:15&U-Semi: Northern Blues Kangas (22) vs SS Saphires (10)
TRANSP:OPAQUE
END:VEVENT
BEGIN:VEVENT
DTSTART:20171209T110000
DTEND:20171209T114500
DTSTAMP:20171209T065844Z
UID:bdf6b8d0e5769015122a24913b536abc@pvna.com.au
CREATED:20171209T065844Z
DESCRIPTION:2017 Spring Section:15&U Res\nRound:Grand
LAST-MODIFIED:20171209T065844Z
LOCATION:Court: 2
SEQUENCE:0
STATUS:CONFIRMED
SUMMARY:15&U-Grand: Northern Blues Kangas (17) vs SS Saphires (13)
TRANSP:OPAQUE
END:VEVENT
END:VCALENDAR
