BEGIN:VCALENDAR
PRODID:-//Google Inc//Google Calendar 70.9054//EN
VERSION:2.0
CALSCALE:GREGORIAN
METHOD:PUBLISH
X-WR-CALNAME:PV Comets Northern Blues Koalas
X-WR-TIMEZONE:Australia/Sydney
X-WR-CALDESC:PV Comets Parkville Calendars
BEGIN:VEVENT
DTSTART:20170722T093000
DTEND:20170722T101000
DTSTAMP:20171209T065844Z
UID:8e87582077f273c77d5e31023d286525@pvna.com.au
CREATED:20171209T065844Z
DESCRIPTION:2017 Spring Section:13&Under\nRound:Rnd 1
LAST-MODIFIED:20171209T065844Z
LOCATION:Court: 2
SEQUENCE:0
STATUS:CONFIRMED
SUMMARY:13&U-Rnd 1: Thunderbolts (23) vs Northern Blues Koalas (1)
TRANSP:OPAQUE
END:VEVENT
BEGIN:VEVENT
DTSTART:20170729T101500
DTEND:20170729T105500
DTSTAMP:20171209T065844Z
UID:1bd147063ace01409067e325b0f8818a@pvna.com.au
CREATED:20171209T065844Z
DESCRIPTION:2017 Spring Section:13&Under\nRound:Rnd 2
LAST-MODIFIED:20171209T065844Z
LOCATION:Court: 2
SEQUENCE:0
STATUS:CONFIRMED
SUMMARY:13&U-Rnd 2: Northern Blues Koalas (11) vs Strikers (28)
TRANSP:OPAQUE
END:VEVENT
BEGIN:VEVENT
DTSTART:20170805T084500
DTEND:20170805T092500
DTSTAMP:20171209T065844Z
UID:90e46f5a45153e75687bb92d3e9f2632@pvna.com.au
CREATED:20171209T065844Z
DESCRIPTION:2017 Spring Section:13&Under\nRound:Rnd 3
LAST-MODIFIED:20171209T065844Z
LOCATION:Court: 2
SEQUENCE:0
STATUS:CONFIRMED
SUMMARY:13&U-Rnd 3: Northern Blues Koalas (13) vs Power (17)
TRANSP:OPAQUE
END:VEVENT
BEGIN:VEVENT
DTSTART:20170812T131500
DTEND:20170812T135500
DTSTAMP:20171209T065844Z
UID:ff2ea2854dd684629e075367bcf5fbf8@pvna.com.au
CREATED:20171209T065844Z
DESCRIPTION:2017 Spring Section:13&Under\nRound:Rnd 4
LAST-MODIFIED:20171209T065844Z
LOCATION:Court: 3
SEQUENCE:0
STATUS:CONFIRMED
SUMMARY:13&U-Rnd 4: Awesome Angels 13s1 (22) vs Northern Blues Koalas (13)
TRANSP:OPAQUE
END:VEVENT
BEGIN:VEVENT
DTSTART:20170819T114500
DTEND:20170819T122500
DTSTAMP:20171209T065844Z
UID:aa577a0a6937b3442ffd8c13c9005fc8@pvna.com.au
CREATED:20171209T065844Z
DESCRIPTION:2017 Spring Section:13&Under\nRound:Rnd 5
LAST-MODIFIED:20171209T065844Z
LOCATION:Court: 1
SEQUENCE:0
STATUS:CONFIRMED
SUMMARY:13&U-Rnd 5: Northern Blues Koalas (16) vs Wildcats (29)
TRANSP:OPAQUE
END:VEVENT
BEGIN:VEVENT
DTSTART:20170826T123000
DTEND:20170826T131000
DTSTAMP:20171209T065844Z
UID:6c8a353f53b16c7458c0d506b8615d81@pvna.com.au
CREATED:20171209T065844Z
DESCRIPTION:2017 Spring Section:13&Under\nRound:Rnd 6
LAST-MODIFIED:20171209T065844Z
LOCATION:Court: 2
SEQUENCE:0
STATUS:CONFIRMED
SUMMARY:13&U-Rnd 6: Northern Blues Koalas (5) vs Firestorm (26)
TRANSP:OPAQUE
END:VEVENT
BEGIN:VEVENT
DTSTART:20170902T093000
DTEND:20170902T101000
DTSTAMP:20171209T065844Z
UID:9a64673506e44b0b8b72b53d53ce4556@pvna.com.au
CREATED:20171209T065844Z
DESCRIPTION:2017 Spring Section:13&Under\nRound:Rnd 7
LAST-MODIFIED:20171209T065844Z
LOCATION:Court: 5
SEQUENCE:0
STATUS:CONFIRMED
SUMMARY:13&U-Rnd 7: 13s Res (6) vs Northern Blues Koalas (8)
TRANSP:OPAQUE
END:VEVENT
BEGIN:VEVENT
DTSTART:20170909T093000
DTEND:20170909T101000
DTSTAMP:20171209T065844Z
UID:1da0ea6d3cc20ef12ec9d02c5af52635@pvna.com.au
CREATED:20171209T065844Z
DESCRIPTION:2017 Spring Section:13&Under\nRound:Rnd 8
LAST-MODIFIED:20171209T065844Z
LOCATION:Court: 4
SEQUENCE:0
STATUS:CONFIRMED
SUMMARY:13&U-Rnd 8: Thunderbolts (26) vs Northern Blues Koalas (4)
TRANSP:OPAQUE
END:VEVENT
BEGIN:VEVENT
DTSTART:20170916T084500
DTEND:20170916T092500
DTSTAMP:20171209T065844Z
UID:5f0943c1968ea64717b6f5a5d998feb7@pvna.com.au
CREATED:20171209T065844Z
DESCRIPTION:2017 Spring Section:13&Under\nRound:Rnd 9
LAST-MODIFIED:20171209T065844Z
LOCATION:Court: 3
SEQUENCE:0
STATUS:CONFIRMED
SUMMARY:13&U-Rnd 9: Wildcats (23) vs Northern Blues Koalas (5)
TRANSP:OPAQUE
END:VEVENT
BEGIN:VEVENT
DTSTART:20170923T093000
DTEND:20170923T101000
DTSTAMP:20171209T065844Z
UID:de45346a694b37ce99778fa5c0933778@pvna.com.au
CREATED:20171209T065844Z
DESCRIPTION:2017 Spring Section:13&Under\nRound:Rnd 10
LAST-MODIFIED:20171209T065844Z
LOCATION:Court: 3
SEQUENCE:0
STATUS:CONFIRMED
SUMMARY:13&U-Rnd 10: Awesome Angels 13s1 (22) vs Northern Blues Koalas (8)
TRANSP:OPAQUE
END:VEVENT
BEGIN:VEVENT
DTSTART:20171014T093000
DTEND:20171014T101000
DTSTAMP:20171209T065844Z
UID:4c45cb511c1a2dedef79413e8dc589e6@pvna.com.au
CREATED:20171209T065844Z
DESCRIPTION:2017 Spring Section:13&Under\nRound:Rnd 11
LAST-MODIFIED:20171209T065844Z
LOCATION:Court: 2
SEQUENCE:0
STATUS:CONFIRMED
SUMMARY:13&U-Rnd 11: Northern Blues Koalas (10) vs Strikers (13)
TRANSP:OPAQUE
END:VEVENT
BEGIN:VEVENT
DTSTART:20171021T101500
DTEND:20171021T105500
DTSTAMP:20171209T065844Z
UID:cf88700ec182375c972c75b6452cb98d@pvna.com.au
CREATED:20171209T065844Z
DESCRIPTION:2017 Spring Section:13&Under\nRound:Rnd 12
LAST-MODIFIED:20171209T065844Z
LOCATION:Court: 2
SEQUENCE:0
STATUS:CONFIRMED
SUMMARY:13&U-Rnd 12: Northern Blues Koalas (10) vs Power (31)
TRANSP:OPAQUE
END:VEVENT
BEGIN:VEVENT
DTSTART:20171028T110000
DTEND:20171028T114500
DTSTAMP:20171209T065844Z
UID:8e27b4caec4c4b1755315cec7d1743e7@pvna.com.au
CREATED:20171209T065844Z
DESCRIPTION:2017 Spring Section:13&Under\nRound:Rnd 13
LAST-MODIFIED:20171209T065844Z
LOCATION:Court: 4
SEQUENCE:0
STATUS:CONFIRMED
SUMMARY:13&U-Rnd 13: Northern Blues Koalas (6) vs Firestorm (25)
TRANSP:OPAQUE
END:VEVENT
BEGIN:VEVENT
DTSTART:20171111T123000
DTEND:20171111T131000
DTSTAMP:20171209T065844Z
UID:f8647eeacffd6579cdc4db725dd2870b@pvna.com.au
CREATED:20171209T065844Z
DESCRIPTION:2017 Spring Section:13&Under\nRound:Rnd 14
LAST-MODIFIED:20171209T065844Z
LOCATION:Court: 2
SEQUENCE:0
STATUS:CONFIRMED
SUMMARY:13&U-Rnd 14: 13s Res (13) vs Northern Blues Koalas (15)
TRANSP:OPAQUE
END:VEVENT
BEGIN:VEVENT
DTSTART:20171118T084500
DTEND:20171118T092500
DTSTAMP:20171209T065844Z
UID:4ffdee477480236653ae367974268c65@pvna.com.au
CREATED:20171209T065844Z
DESCRIPTION:2017 Spring Section:13&Under\nRound:Rnd 15
LAST-MODIFIED:20171209T065844Z
LOCATION:Court: 2
SEQUENCE:0
STATUS:CONFIRMED
SUMMARY:13&U-Rnd 15: Thunderbolts (17) vs Northern Blues Koalas (10)
TRANSP:OPAQUE
END:VEVENT
END:VCALENDAR
