BEGIN:VCALENDAR
PRODID:-//Google Inc//Google Calendar 70.9054//EN
VERSION:2.0
CALSCALE:GREGORIAN
METHOD:PUBLISH
X-WR-CALNAME:PV Comets Northern Blues Leopards
X-WR-TIMEZONE:Australia/Sydney
X-WR-CALDESC:PV Comets Parkville Calendars
BEGIN:VEVENT
DTSTART:20170722T093000
DTEND:20170722T101000
DTSTAMP:20171209T065844Z
UID:0b10417f03b6371bdd79ca970532a09e@pvna.com.au
CREATED:20171209T065844Z
DESCRIPTION:2017 Spring Section:15&Under\nRound:Rnd 1
LAST-MODIFIED:20171209T065844Z
LOCATION:Court: 3
SEQUENCE:0
STATUS:CONFIRMED
SUMMARY:15&U-Rnd 1: Roxy (45) vs Northern Blues Leopards (14)
TRANSP:OPAQUE
END:VEVENT
END:VCALENDAR
