BEGIN:VCALENDAR
PRODID:-//Google Inc//Google Calendar 70.9054//EN
VERSION:2.0
CALSCALE:GREGORIAN
METHOD:PUBLISH
X-WR-CALNAME:PV Comets Northern Blues Tigers
X-WR-TIMEZONE:Australia/Sydney
X-WR-CALDESC:PV Comets Parkville Calendars
BEGIN:VEVENT
DTSTART:20170722T120000
DTEND:20170722T124000
DTSTAMP:20171209T065844Z
UID:82a6084a7f2675b949cc1b637d80c8b1@pvna.com.au
CREATED:20171209T065844Z
DESCRIPTION:2017 Spring Section:19&Under\nRound:Rnd 1
LAST-MODIFIED:20171209T065844Z
LOCATION:Court: 99
SEQUENCE:0
STATUS:CONFIRMED
SUMMARY:19&U-Rnd 1: Northern Blues Tigers vs BYE
TRANSP:OPAQUE
END:VEVENT
BEGIN:VEVENT
DTSTART:20170729T095000
DTEND:20170729T124000
DTSTAMP:20171209T065844Z
UID:7c231e5aac20668391f0546cfd66f8c8@pvna.com.au
CREATED:20171209T065844Z
DESCRIPTION:2017 Spring Section:19&Under\nRound:Rnd 2
LAST-MODIFIED:20171209T065844Z
LOCATION:Court: 4
SEQUENCE:0
STATUS:CONFIRMED
SUMMARY:19&U-Rnd 2: Rush (35) vs Northern Blues Tigers (25)
TRANSP:OPAQUE
END:VEVENT
BEGIN:VEVENT
DTSTART:20170805T084500
DTEND:20170805T092500
DTSTAMP:20171209T065844Z
UID:5bdd0c6f3e63bc9637ef88f03b167070@pvna.com.au
CREATED:20171209T065844Z
DESCRIPTION:2017 Spring Section:19&Under\nRound:Rnd 3
LAST-MODIFIED:20171209T065844Z
LOCATION:Court: 1
SEQUENCE:0
STATUS:CONFIRMED
SUMMARY:19&U-Rnd 3: Northern Blues Tigers (11) vs V.S.Connected I (78)
TRANSP:OPAQUE
END:VEVENT
BEGIN:VEVENT
DTSTART:20170812T105500
DTEND:20170812T092500
DTSTAMP:20171209T065844Z
UID:1a31fe346743e04e7f0edb2ce3066fd2@pvna.com.au
CREATED:20171209T065844Z
DESCRIPTION:2017 Spring Section:19&Under\nRound:Rnd 4
LAST-MODIFIED:20171209T065844Z
LOCATION:Court: 4
SEQUENCE:0
STATUS:CONFIRMED
SUMMARY:19&U-Rnd 4: Northern Blues Tigers (25) vs The Jets (64)
TRANSP:OPAQUE
END:VEVENT
BEGIN:VEVENT
DTSTART:20170819T101500
DTEND:20170819T105500
DTSTAMP:20171209T065844Z
UID:92328bd6b63abc5c776661689bd5238c@pvna.com.au
CREATED:20171209T065844Z
DESCRIPTION:2017 Spring Section:19&Under\nRound:Rnd 5
LAST-MODIFIED:20171209T065844Z
LOCATION:Court: 1
SEQUENCE:0
STATUS:CONFIRMED
SUMMARY:19&U-Rnd 5: Northern Blues Lions (33) vs Northern Blues Tigers (13)
TRANSP:OPAQUE
END:VEVENT
BEGIN:VEVENT
DTSTART:20170826T101500
DTEND:20170826T105500
DTSTAMP:20171209T065844Z
UID:1f375b8bc50466191e0a045422b928f0@pvna.com.au
CREATED:20171209T065844Z
DESCRIPTION:2017 Spring Section:19&Under\nRound:Rnd 6
LAST-MODIFIED:20171209T065844Z
LOCATION:Court: 3
SEQUENCE:0
STATUS:CONFIRMED
SUMMARY:19&U-Rnd 6: Dynamite (36) vs Northern Blues Tigers (12)
TRANSP:OPAQUE
END:VEVENT
BEGIN:VEVENT
DTSTART:20170902T093000
DTEND:20170902T101000
DTSTAMP:20171209T065844Z
UID:81fe738fbccfbd5f4133b0a2719512d4@pvna.com.au
CREATED:20171209T065844Z
DESCRIPTION:2017 Spring Section:19&Under\nRound:Rnd 7
LAST-MODIFIED:20171209T065844Z
LOCATION:Court: 2
SEQUENCE:0
STATUS:CONFIRMED
SUMMARY:19&U-Rnd 7: Blaze Jnr (40) vs Northern Blues Tigers (8)
TRANSP:OPAQUE
END:VEVENT
BEGIN:VEVENT
DTSTART:20170909T131500
DTEND:20170909T135500
DTSTAMP:20171209T065844Z
UID:0749695af112978678e3e0877c115173@pvna.com.au
CREATED:20171209T065844Z
DESCRIPTION:2017 Spring Section:19&Under\nRound:Rnd 8
LAST-MODIFIED:20171209T065844Z
LOCATION:Court: 99
SEQUENCE:0
STATUS:CONFIRMED
SUMMARY:19&U-Rnd 8: Northern Blues Tigers vs BYE
TRANSP:OPAQUE
END:VEVENT
BEGIN:VEVENT
DTSTART:20170916T093000
DTEND:20170916T101000
DTSTAMP:20171209T065844Z
UID:094e9b04717cf863f65df431970912b7@pvna.com.au
CREATED:20171209T065844Z
DESCRIPTION:2017 Spring Section:19&Under\nRound:Rnd 9
LAST-MODIFIED:20171209T065844Z
LOCATION:Court: 1
SEQUENCE:0
STATUS:CONFIRMED
SUMMARY:19&U-Rnd 9: Rush (18) vs Northern Blues Tigers (24)
TRANSP:OPAQUE
END:VEVENT
BEGIN:VEVENT
DTSTART:20170923T084500
DTEND:20170923T092500
DTSTAMP:20171209T065844Z
UID:8fe87166fe77437d72f3228317aaebcc@pvna.com.au
CREATED:20171209T065844Z
DESCRIPTION:2017 Spring Section:19&Under\nRound:Rnd 10
LAST-MODIFIED:20171209T065844Z
LOCATION:Court: 2
SEQUENCE:0
STATUS:CONFIRMED
SUMMARY:19&U-Rnd 10: Northern Blues Tigers (4) vs V.S.Connected I (52)
TRANSP:OPAQUE
END:VEVENT
BEGIN:VEVENT
DTSTART:20171014T093000
DTEND:20171014T101000
DTSTAMP:20171209T065844Z
UID:31fd99f192351651e673987debe94d4f@pvna.com.au
CREATED:20171209T065844Z
DESCRIPTION:2017 Spring Section:19&Under\nRound:Rnd 11
LAST-MODIFIED:20171209T065844Z
LOCATION:Court: 3
SEQUENCE:0
STATUS:CONFIRMED
SUMMARY:19&U-Rnd 11: Northern Blues Tigers (11) vs The Jets (36)
TRANSP:OPAQUE
END:VEVENT
BEGIN:VEVENT
DTSTART:20171021T093000
DTEND:20171021T101000
DTSTAMP:20171209T065844Z
UID:428c6746ac95c9664d9b41d7fbcd6120@pvna.com.au
CREATED:20171209T065844Z
DESCRIPTION:2017 Spring Section:19&Under\nRound:Rnd 12
LAST-MODIFIED:20171209T065844Z
LOCATION:Court: 3
SEQUENCE:0
STATUS:CONFIRMED
SUMMARY:19&U-Rnd 12: Northern Blues Lions (39) vs Northern Blues Tigers (8)
TRANSP:OPAQUE
END:VEVENT
BEGIN:VEVENT
DTSTART:20171028T093000
DTEND:20171028T101000
DTSTAMP:20171209T065844Z
UID:484e1764d32c97bee4616d8330a859e6@pvna.com.au
CREATED:20171209T065844Z
DESCRIPTION:2017 Spring Section:19&Under\nRound:Rnd 13
LAST-MODIFIED:20171209T065844Z
LOCATION:Court: 2
SEQUENCE:0
STATUS:CONFIRMED
SUMMARY:19&U-Rnd 13: Dynamite (49) vs Northern Blues Tigers (2)
TRANSP:OPAQUE
END:VEVENT
BEGIN:VEVENT
DTSTART:20171111T101500
DTEND:20171111T105500
DTSTAMP:20171209T065844Z
UID:517c3bd921591b6aab2b959c1de8a782@pvna.com.au
CREATED:20171209T065844Z
DESCRIPTION:2017 Spring Section:19&Under\nRound:Rnd 14
LAST-MODIFIED:20171209T065844Z
LOCATION:Court: 1
SEQUENCE:0
STATUS:CONFIRMED
SUMMARY:19&U-Rnd 14: Blaze Jnr (45) vs Northern Blues Tigers (11)
TRANSP:OPAQUE
END:VEVENT
BEGIN:VEVENT
DTSTART:20171118T131500
DTEND:20171118T135500
DTSTAMP:20171209T065844Z
UID:9a2933f8ba8481007a359382801dcf71@pvna.com.au
CREATED:20171209T065844Z
DESCRIPTION:2017 Spring Section:19&Under\nRound:Rnd 15
LAST-MODIFIED:20171209T065844Z
LOCATION:Court: 99
SEQUENCE:0
STATUS:CONFIRMED
SUMMARY:19&U-Rnd 15: Northern Blues Tigers vs BYE
TRANSP:OPAQUE
END:VEVENT
END:VCALENDAR
