BEGIN:VCALENDAR
PRODID:-//Google Inc//Google Calendar 70.9054//EN
VERSION:2.0
CALSCALE:GREGORIAN
METHOD:PUBLISH
X-WR-CALNAME:PV Comets Phoenix
X-WR-TIMEZONE:Australia/Sydney
X-WR-CALDESC:PV Comets Parkville Calendars
BEGIN:VEVENT
DTSTART:20170722T084500
DTEND:20170722T092500
DTSTAMP:20171209T065844Z
UID:34814178491517b81db1733713a72497@pvna.com.au
CREATED:20171209T065844Z
DESCRIPTION:2017 Spring Section:17&Under\nRound:Rnd 1
LAST-MODIFIED:20171209T065844Z
LOCATION:Court: 3
SEQUENCE:0
STATUS:CONFIRMED
SUMMARY:17&U-Rnd 1: Phoenix (19) vs V.S.Connected II (13)
TRANSP:OPAQUE
END:VEVENT
BEGIN:VEVENT
DTSTART:20170729T093000
DTEND:20170729T101000
DTSTAMP:20171209T065844Z
UID:7da7add750f4401f4ebf94ff8b4dae99@pvna.com.au
CREATED:20171209T065844Z
DESCRIPTION:2017 Spring Section:17&Under\nRound:Rnd 2
LAST-MODIFIED:20171209T065844Z
LOCATION:Court: 3
SEQUENCE:0
STATUS:CONFIRMED
SUMMARY:17&U-Rnd 2: Blazers (14) vs Phoenix (24)
TRANSP:OPAQUE
END:VEVENT
BEGIN:VEVENT
DTSTART:20170805T120000
DTEND:20170805T124000
DTSTAMP:20171209T065844Z
UID:6dd05e0d2c18f4f514ca28425a6373ce@pvna.com.au
CREATED:20171209T065844Z
DESCRIPTION:2017 Spring Section:17&Under\nRound:Rnd 3
LAST-MODIFIED:20171209T065844Z
LOCATION:Court: 1
SEQUENCE:0
STATUS:CONFIRMED
SUMMARY:17&U-Rnd 3: Force (11) vs Phoenix (34)
TRANSP:OPAQUE
END:VEVENT
BEGIN:VEVENT
DTSTART:20170812T084500
DTEND:20170812T092500
DTSTAMP:20171209T065844Z
UID:ed13a99d2ab55a59eb5481e5f09881e8@pvna.com.au
CREATED:20171209T065844Z
DESCRIPTION:2017 Spring Section:17&Under\nRound:Rnd 4
LAST-MODIFIED:20171209T065844Z
LOCATION:Court: 2
SEQUENCE:0
STATUS:CONFIRMED
SUMMARY:17&U-Rnd 4: Phoenix (29) vs SS Magic (17)
TRANSP:OPAQUE
END:VEVENT
BEGIN:VEVENT
DTSTART:20170819T131500
DTEND:20170819T135500
DTSTAMP:20171209T065844Z
UID:d283551284bba8ddf76324d9c36f3baa@pvna.com.au
CREATED:20171209T065844Z
DESCRIPTION:2017 Spring Section:17&Under\nRound:Rnd 5
LAST-MODIFIED:20171209T065844Z
LOCATION:Court: 99
SEQUENCE:0
STATUS:CONFIRMED
SUMMARY:17&U-Rnd 5: Phoenix vs BYE
TRANSP:OPAQUE
END:VEVENT
BEGIN:VEVENT
DTSTART:20170826T101500
DTEND:20170826T105500
DTSTAMP:20171209T065844Z
UID:e8c29ac747659e1134c17414fbd5eaf2@pvna.com.au
CREATED:20171209T065844Z
DESCRIPTION:2017 Spring Section:17&Under\nRound:Rnd 6
LAST-MODIFIED:20171209T065844Z
LOCATION:Court: 1
SEQUENCE:0
STATUS:CONFIRMED
SUMMARY:17&U-Rnd 6: Phoenix (18) vs V.S.Connected II (15)
TRANSP:OPAQUE
END:VEVENT
BEGIN:VEVENT
DTSTART:20170902T110000
DTEND:20170902T114500
DTSTAMP:20171209T065844Z
UID:603572c01bd5de507c1053991b69646c@pvna.com.au
CREATED:20171209T065844Z
DESCRIPTION:2017 Spring Section:17&Under\nRound:Rnd 7
LAST-MODIFIED:20171209T065844Z
LOCATION:Court: 1
SEQUENCE:0
STATUS:CONFIRMED
SUMMARY:17&U-Rnd 7: Blazers (11) vs Phoenix (35)
TRANSP:OPAQUE
END:VEVENT
BEGIN:VEVENT
DTSTART:20170909T101500
DTEND:20170909T105500
DTSTAMP:20171209T065844Z
UID:30bb7e507bceaa0656be6e7a8a903f48@pvna.com.au
CREATED:20171209T065844Z
DESCRIPTION:2017 Spring Section:17&Under\nRound:Rnd 8
LAST-MODIFIED:20171209T065844Z
LOCATION:Court: 3
SEQUENCE:0
STATUS:CONFIRMED
SUMMARY:17&U-Rnd 8: Force (16) vs Phoenix (44)
TRANSP:OPAQUE
END:VEVENT
BEGIN:VEVENT
DTSTART:20170916T131500
DTEND:20170916T135500
DTSTAMP:20171209T065844Z
UID:f238468fc54f81b97ffab288fc4c9bd3@pvna.com.au
CREATED:20171209T065844Z
DESCRIPTION:2017 Spring Section:17&Under\nRound:Rnd 9
LAST-MODIFIED:20171209T065844Z
LOCATION:Court: 99
SEQUENCE:0
STATUS:CONFIRMED
SUMMARY:17&U-Rnd 9: Phoenix vs BYE
TRANSP:OPAQUE
END:VEVENT
BEGIN:VEVENT
DTSTART:20170923T114500
DTEND:20170923T122500
DTSTAMP:20171209T065844Z
UID:f9c7bee53bdc7a7ccc85b7df2bb55549@pvna.com.au
CREATED:20171209T065844Z
DESCRIPTION:2017 Spring Section:17&Under\nRound:Rnd 10
LAST-MODIFIED:20171209T065844Z
LOCATION:Court: 2
SEQUENCE:0
STATUS:CONFIRMED
SUMMARY:17&U-Rnd 10: SS Magic (7) vs Phoenix (26)
TRANSP:OPAQUE
END:VEVENT
BEGIN:VEVENT
DTSTART:20171014T093000
DTEND:20171014T101000
DTSTAMP:20171209T065844Z
UID:d25eb0f725bd6709f6676e92677dfcb8@pvna.com.au
CREATED:20171209T065844Z
DESCRIPTION:2017 Spring Section:17&Under\nRound:Rnd 11
LAST-MODIFIED:20171209T065844Z
LOCATION:Court: 1
SEQUENCE:0
STATUS:CONFIRMED
SUMMARY:17&U-Rnd 11: Phoenix (25) vs V.S.Connected II (23)
TRANSP:OPAQUE
END:VEVENT
BEGIN:VEVENT
DTSTART:20171021T093000
DTEND:20171021T101000
DTSTAMP:20171209T065844Z
UID:fad8397ac39bc6a00483f6ab8154e8ef@pvna.com.au
CREATED:20171209T065844Z
DESCRIPTION:2017 Spring Section:17&Under\nRound:Rnd 12
LAST-MODIFIED:20171209T065844Z
LOCATION:Court: 2
SEQUENCE:0
STATUS:CONFIRMED
SUMMARY:17&U-Rnd 12: Blazers (16) vs Phoenix (28)
TRANSP:OPAQUE
END:VEVENT
BEGIN:VEVENT
DTSTART:20171028T101500
DTEND:20171028T105500
DTSTAMP:20171209T065844Z
UID:16ba643fee38520fe51e8ae6125bce63@pvna.com.au
CREATED:20171209T065844Z
DESCRIPTION:2017 Spring Section:17&Under\nRound:Rnd 13
LAST-MODIFIED:20171209T065844Z
LOCATION:Court: 3
SEQUENCE:0
STATUS:CONFIRMED
SUMMARY:17&U-Rnd 13: Phoenix (34) vs Force (16)
TRANSP:OPAQUE
END:VEVENT
BEGIN:VEVENT
DTSTART:20171111T131500
DTEND:20171111T135500
DTSTAMP:20171209T065844Z
UID:6a9ff4a7c799a2e137096a58bf717b49@pvna.com.au
CREATED:20171209T065844Z
DESCRIPTION:2017 Spring Section:17&Under\nRound:Rnd 14
LAST-MODIFIED:20171209T065844Z
LOCATION:Court: 99
SEQUENCE:0
STATUS:CONFIRMED
SUMMARY:17&U-Rnd 14: Phoenix vs BYE
TRANSP:OPAQUE
END:VEVENT
BEGIN:VEVENT
DTSTART:20171118T114500
DTEND:20171118T122500
DTSTAMP:20171209T065844Z
UID:5529bd01b05eb8fb47e3f596f8b6ddfe@pvna.com.au
CREATED:20171209T065844Z
DESCRIPTION:2017 Spring Section:17&Under\nRound:Rnd 15
LAST-MODIFIED:20171209T065844Z
LOCATION:Court: 1
SEQUENCE:0
STATUS:CONFIRMED
SUMMARY:17&U-Rnd 15: SS Magic (13) vs Phoenix (35)
TRANSP:OPAQUE
END:VEVENT
BEGIN:VEVENT
DTSTART:20171125T095000
DTEND:20171125T122500
DTSTAMP:20171209T065844Z
UID:5425b0c8e8990ed5ffdc37c53e6237a8@pvna.com.au
CREATED:20171209T065844Z
DESCRIPTION:2017 Spring Section:17&Under\nRound:Semi
LAST-MODIFIED:20171209T065844Z
LOCATION:Court: 1
SEQUENCE:0
STATUS:CONFIRMED
SUMMARY:17&U-Semi: Phoenix (24) vs V.S.Connected II (21)
TRANSP:OPAQUE
END:VEVENT
BEGIN:VEVENT
DTSTART:20171209T100000
DTEND:20171209T122500
DTSTAMP:20171209T065844Z
UID:5197ef691e332a875105ec871efd14bc@pvna.com.au
CREATED:20171209T065844Z
DESCRIPTION:2017 Spring Section:17&Under\nRound:Grand
LAST-MODIFIED:20171209T065844Z
LOCATION:Court: 1
SEQUENCE:0
STATUS:CONFIRMED
SUMMARY:17&U-Grand: Phoenix (37) vs SS Magic (24)
TRANSP:OPAQUE
END:VEVENT
END:VCALENDAR
