BEGIN:VCALENDAR
PRODID:-//Google Inc//Google Calendar 70.9054//EN
VERSION:2.0
CALSCALE:GREGORIAN
METHOD:PUBLISH
X-WR-CALNAME:PV Comets Rockettes
X-WR-TIMEZONE:Australia/Sydney
X-WR-CALDESC:PV Comets Parkville Calendars
BEGIN:VEVENT
DTSTART:20170204T114500
DTEND:20170204T122500
DTSTAMP:20170129T121010Z
UID:6442525e9e55afa0c548b2bb6304fe2a@pvna.com.au
CREATED:20170129T121010Z
DESCRIPTION:2017 Autumn Section:15&Under\nRound:Rnd 1
LAST-MODIFIED:20170129T121010Z
LOCATION:Court: 99
SEQUENCE:0
STATUS:CONFIRMED
SUMMARY:15&U-Rnd 1: Rockettes vs BYE
TRANSP:OPAQUE
END:VEVENT
BEGIN:VEVENT
DTSTART:20170211T093000
DTEND:20170211T101000
DTSTAMP:20170129T121011Z
UID:22dcd77ace422de79958e1a2207705dd@pvna.com.au
CREATED:20170129T121011Z
DESCRIPTION:2017 Autumn Section:15&Under\nRound:Rnd 2\n\nCurrent Ladder:\nTeam            P  W  L  D  Pts\nNorthern Blues Leopards 0  0  0  0  0 \nDevils          0  0  0  0  0 \nShooting Stars Sparks 0  0  0  0  0 \nRockettes       0  0  0  0  0 \nRoxy            0  0  0  0  0 \nNorthern Blues Cheetahs 0  0  0  0  0 \nLightning Bolts 0  0  0  0  0 \nMystix Jnr      0  0  0  0  0 \nAwesome Angels 15s1 0  0  0  0  0 \nV.S.Connected III 0  0  0  0  0 \nVanessaTeam     0  0  0  0  0 \nNorthern Blues Kangas 0  0  0  0  0 \n
LAST-MODIFIED:20170129T121011Z
LOCATION:Court: 3
SEQUENCE:0
STATUS:CONFIRMED
SUMMARY:15&U-Rnd 2: V.S.Connected III vs Rockettes
TRANSP:OPAQUE
END:VEVENT
BEGIN:VEVENT
DTSTART:20170218T131500
DTEND:20170218T135500
DTSTAMP:20170129T121011Z
UID:2d082d14cae43c3f087e2ddf45375742@pvna.com.au
CREATED:20170129T121011Z
DESCRIPTION:2017 Autumn Section:15&Under\nRound:Rnd 3
LAST-MODIFIED:20170129T121011Z
LOCATION:Court: 3
SEQUENCE:0
STATUS:CONFIRMED
SUMMARY:15&U-Rnd 3: Shooting Stars Sparks vs Rockettes
TRANSP:OPAQUE
END:VEVENT
END:VCALENDAR
