BEGIN:VCALENDAR
PRODID:-//Google Inc//Google Calendar 70.9054//EN
VERSION:2.0
CALSCALE:GREGORIAN
METHOD:PUBLISH
X-WR-CALNAME:PV Comets Royal Sapphires
X-WR-TIMEZONE:Australia/Sydney
X-WR-CALDESC:PV Comets Parkville Calendars
BEGIN:VEVENT
DTSTART:20170722T123000
DTEND:20170722T131000
DTSTAMP:20170723T233910Z
UID:621eb907efdad36d3fb4072597be5a42@pvna.com.au
CREATED:20170723T233910Z
DESCRIPTION:2017 Spring Section:15&U Res\nRound:Rnd 1
LAST-MODIFIED:20170723T233910Z
LOCATION:Court: 1
SEQUENCE:0
STATUS:CONFIRMED
SUMMARY:15&U-Rnd 1: Awesome Angels 15s1 (0) vs Royal Sapphires (10)
TRANSP:OPAQUE
END:VEVENT
BEGIN:VEVENT
DTSTART:20170729T114500
DTEND:20170729T122500
DTSTAMP:20170723T233912Z
UID:a2a3e43b30b555406e6503d8c03fe7ab@pvna.com.au
CREATED:20170723T233912Z
DESCRIPTION:2017 Spring Section:15&U Res\nRound:Rnd 2\n\nCurrent Ladder:\nTeam            P  W  L  D  Pts\nRavens          1  1  0  0  4 \nShooting Stars Sparks 1  1  0  0  4 \nRoyal Sapphires 1  1  0  0  4 \nNorthern Blues Kangas 1  0  1  0  0 \nAwesome Angels 15s1 1  0  1  0  0 \n
LAST-MODIFIED:20170723T233912Z
LOCATION:Court: 1
SEQUENCE:0
STATUS:CONFIRMED
SUMMARY:15&U-Rnd 2: Royal Sapphires vs Shooting Stars Sparks
TRANSP:OPAQUE
END:VEVENT
BEGIN:VEVENT
DTSTART:20170805T110000
DTEND:20170805T114500
DTSTAMP:20170723T233912Z
UID:5cd7a4283e89ce9b13678e3364a8c0cf@pvna.com.au
CREATED:20170723T233912Z
DESCRIPTION:2017 Spring Section:15&U Res\nRound:Rnd 3
LAST-MODIFIED:20170723T233912Z
LOCATION:Court: 2
SEQUENCE:0
STATUS:CONFIRMED
SUMMARY:15&U-Rnd 3: Royal Sapphires vs Ravens
TRANSP:OPAQUE
END:VEVENT
BEGIN:VEVENT
DTSTART:20170812T110000
DTEND:20170812T114500
DTSTAMP:20170723T233912Z
UID:be59b3281bf3ff80873819a715032ca2@pvna.com.au
CREATED:20170723T233912Z
DESCRIPTION:2017 Spring Section:15&U Res\nRound:Rnd 4
LAST-MODIFIED:20170723T233912Z
LOCATION:Court: 4
SEQUENCE:0
STATUS:CONFIRMED
SUMMARY:15&U-Rnd 4: Royal Sapphires vs Northern Blues Kangas
TRANSP:OPAQUE
END:VEVENT
BEGIN:VEVENT
DTSTART:20170819T114500
DTEND:20170819T122500
DTSTAMP:20170723T233912Z
UID:99d4ae82dad662cca9fab1017e742b8a@pvna.com.au
CREATED:20170723T233912Z
DESCRIPTION:2017 Spring Section:15&U Res\nRound:Rnd 5
LAST-MODIFIED:20170723T233912Z
LOCATION:Court: 99
SEQUENCE:0
STATUS:CONFIRMED
SUMMARY:15&U-Rnd 5: Royal Sapphires vs BYE
TRANSP:OPAQUE
END:VEVENT
BEGIN:VEVENT
DTSTART:20170826T110000
DTEND:20170826T114500
DTSTAMP:20170723T233912Z
UID:5ea03f30df614c99f5f39d902a0e9725@pvna.com.au
CREATED:20170723T233912Z
DESCRIPTION:2017 Spring Section:15&U Res\nRound:Rnd 6
LAST-MODIFIED:20170723T233912Z
LOCATION:Court: 4
SEQUENCE:0
STATUS:CONFIRMED
SUMMARY:15&U-Rnd 6: Awesome Angels 15s1 vs Royal Sapphires
TRANSP:OPAQUE
END:VEVENT
BEGIN:VEVENT
DTSTART:20170902T101500
DTEND:20170902T105500
DTSTAMP:20170723T233912Z
UID:cf3562ce47744817c0fc98302436003c@pvna.com.au
CREATED:20170723T233912Z
DESCRIPTION:2017 Spring Section:15&U Res\nRound:Rnd 7
LAST-MODIFIED:20170723T233912Z
LOCATION:Court: 2
SEQUENCE:0
STATUS:CONFIRMED
SUMMARY:15&U-Rnd 7: Royal Sapphires vs Shooting Stars Sparks
TRANSP:OPAQUE
END:VEVENT
BEGIN:VEVENT
DTSTART:20170909T110000
DTEND:20170909T114500
DTSTAMP:20170723T233912Z
UID:91b6f372a1c834c15f3b4c6d48f80534@pvna.com.au
CREATED:20170723T233912Z
DESCRIPTION:2017 Spring Section:15&U Res\nRound:Rnd 8
LAST-MODIFIED:20170723T233912Z
LOCATION:Court: 2
SEQUENCE:0
STATUS:CONFIRMED
SUMMARY:15&U-Rnd 8: Royal Sapphires vs Ravens
TRANSP:OPAQUE
END:VEVENT
BEGIN:VEVENT
DTSTART:20170916T110000
DTEND:20170916T114500
DTSTAMP:20170723T233912Z
UID:f9e86be0cc2ed2efff7719b7c2cb28b5@pvna.com.au
CREATED:20170723T233912Z
DESCRIPTION:2017 Spring Section:15&U Res\nRound:Rnd 9
LAST-MODIFIED:20170723T233912Z
LOCATION:Court: 4
SEQUENCE:0
STATUS:CONFIRMED
SUMMARY:15&U-Rnd 9: Royal Sapphires vs Northern Blues Kangas
TRANSP:OPAQUE
END:VEVENT
BEGIN:VEVENT
DTSTART:20170923T114500
DTEND:20170923T122500
DTSTAMP:20170723T233912Z
UID:084be918ec02b7b75b38d1e5c3719412@pvna.com.au
CREATED:20170723T233912Z
DESCRIPTION:2017 Spring Section:15&U Res\nRound:Rnd 10
LAST-MODIFIED:20170723T233912Z
LOCATION:Court: 99
SEQUENCE:0
STATUS:CONFIRMED
SUMMARY:15&U-Rnd 10: Royal Sapphires vs BYE
TRANSP:OPAQUE
END:VEVENT
BEGIN:VEVENT
DTSTART:20171007T110000
DTEND:20171007T114500
DTSTAMP:20170723T233912Z
UID:b1f772e2c90961e54fce750c5f8422c2@pvna.com.au
CREATED:20170723T233912Z
DESCRIPTION:2017 Spring Section:15&U Res\nRound:Rnd 12
LAST-MODIFIED:20170723T233912Z
LOCATION:Court: 4
SEQUENCE:0
STATUS:CONFIRMED
SUMMARY:15&U-Rnd 12: Awesome Angels 15s1 vs Royal Sapphires
TRANSP:OPAQUE
END:VEVENT
BEGIN:VEVENT
DTSTART:20171014T110000
DTEND:20171014T114500
DTSTAMP:20170723T233912Z
UID:45bd334c82a29f42e484b06d0c843614@pvna.com.au
CREATED:20170723T233912Z
DESCRIPTION:2017 Spring Section:15&U Res\nRound:Rnd 13
LAST-MODIFIED:20170723T233912Z
LOCATION:Court: 4
SEQUENCE:0
STATUS:CONFIRMED
SUMMARY:15&U-Rnd 13: Royal Sapphires vs Shooting Stars Sparks
TRANSP:OPAQUE
END:VEVENT
BEGIN:VEVENT
DTSTART:20171021T110000
DTEND:20171021T114500
DTSTAMP:20170723T233912Z
UID:c4f900f2101e02e4ca809139396af3fd@pvna.com.au
CREATED:20170723T233912Z
DESCRIPTION:2017 Spring Section:15&U Res\nRound:Rnd 14
LAST-MODIFIED:20170723T233912Z
LOCATION:Court: 2
SEQUENCE:0
STATUS:CONFIRMED
SUMMARY:15&U-Rnd 14: Royal Sapphires vs Ravens
TRANSP:OPAQUE
END:VEVENT
BEGIN:VEVENT
DTSTART:20171104T114500
DTEND:20171104T122500
DTSTAMP:20170723T233912Z
UID:95a50feb7eb6d206ef5d8523d49e1d0e@pvna.com.au
CREATED:20170723T233912Z
DESCRIPTION:2017 Spring Section:15&U Res\nRound:Rnd 16
LAST-MODIFIED:20170723T233912Z
LOCATION:Court: 99
SEQUENCE:0
STATUS:CONFIRMED
SUMMARY:15&U-Rnd 16: Royal Sapphires vs BYE
TRANSP:OPAQUE
END:VEVENT
BEGIN:VEVENT
DTSTART:20171118T110000
DTEND:20171118T114500
DTSTAMP:20170723T233912Z
UID:693dc0fdae611a4d118769dd48e5ee74@pvna.com.au
CREATED:20170723T233912Z
DESCRIPTION:2017 Spring Section:15&U Res\nRound:Rnd 18
LAST-MODIFIED:20170723T233912Z
LOCATION:Court: 4
SEQUENCE:0
STATUS:CONFIRMED
SUMMARY:15&U-Rnd 18: Awesome Angels 15s1 vs Royal Sapphires
TRANSP:OPAQUE
END:VEVENT
BEGIN:VEVENT
DTSTART:20171125T101500
DTEND:20171125T105500
DTSTAMP:20170723T233912Z
UID:33bdc6caf2f38dfd60465b0e4886e532@pvna.com.au
CREATED:20170723T233912Z
DESCRIPTION:2017 Spring Section:15&U Res\nRound:Rnd 19
LAST-MODIFIED:20170723T233912Z
LOCATION:Court: 2
SEQUENCE:0
STATUS:CONFIRMED
SUMMARY:15&U-Rnd 19: Royal Sapphires vs Shooting Stars Sparks
TRANSP:OPAQUE
END:VEVENT
END:VCALENDAR
