BEGIN:VCALENDAR
PRODID:-//Google Inc//Google Calendar 70.9054//EN
VERSION:2.0
CALSCALE:GREGORIAN
METHOD:PUBLISH
X-WR-CALNAME:PV Comets Rush
X-WR-TIMEZONE:Australia/Sydney
X-WR-CALDESC:PV Comets Parkville Calendars
BEGIN:VEVENT
DTSTART:20170722T105500
DTEND:20170722T114500
DTSTAMP:20171209T065844Z
UID:e0d0dc9b66a1007e19094d17cf8d924a@pvna.com.au
CREATED:20171209T065844Z
DESCRIPTION:2017 Spring Section:19&Under\nRound:Rnd 1
LAST-MODIFIED:20171209T065844Z
LOCATION:Court: 4
SEQUENCE:0
STATUS:CONFIRMED
SUMMARY:19&U-Rnd 1: Northern Blues Lions (0) vs Rush (10)
TRANSP:OPAQUE
END:VEVENT
BEGIN:VEVENT
DTSTART:20170729T095000
DTEND:20170729T114500
DTSTAMP:20171209T065844Z
UID:233a55fe172f5392115c3d8a6380e890@pvna.com.au
CREATED:20171209T065844Z
DESCRIPTION:2017 Spring Section:19&Under\nRound:Rnd 2
LAST-MODIFIED:20171209T065844Z
LOCATION:Court: 4
SEQUENCE:0
STATUS:CONFIRMED
SUMMARY:19&U-Rnd 2: Rush (35) vs Northern Blues Tigers (25)
TRANSP:OPAQUE
END:VEVENT
BEGIN:VEVENT
DTSTART:20170805T095000
DTEND:20170805T114500
DTSTAMP:20171209T065844Z
UID:0905eda1e6f9cf302ac0c43ac780f590@pvna.com.au
CREATED:20171209T065844Z
DESCRIPTION:2017 Spring Section:19&Under\nRound:Rnd 3
LAST-MODIFIED:20171209T065844Z
LOCATION:Court: 1
SEQUENCE:0
STATUS:CONFIRMED
SUMMARY:19&U-Rnd 3: Dynamite (37) vs Rush (16)
TRANSP:OPAQUE
END:VEVENT
BEGIN:VEVENT
DTSTART:20170812T095000
DTEND:20170812T114500
DTSTAMP:20171209T065844Z
UID:fb4240ea4bba9ff21e36d6da67f164a6@pvna.com.au
CREATED:20171209T065844Z
DESCRIPTION:2017 Spring Section:19&Under\nRound:Rnd 4
LAST-MODIFIED:20171209T065844Z
LOCATION:Court: 4
SEQUENCE:0
STATUS:CONFIRMED
SUMMARY:19&U-Rnd 4: Blaze Jnr (39) vs Rush (8)
TRANSP:OPAQUE
END:VEVENT
BEGIN:VEVENT
DTSTART:20170819T084500
DTEND:20170819T092500
DTSTAMP:20171209T065844Z
UID:5d0b5dba55255fe84a056808a3dc023f@pvna.com.au
CREATED:20171209T065844Z
DESCRIPTION:2017 Spring Section:19&Under\nRound:Rnd 5
LAST-MODIFIED:20171209T065844Z
LOCATION:Court: 1
SEQUENCE:0
STATUS:CONFIRMED
SUMMARY:19&U-Rnd 5: Rush (9) vs V.S.Connected I (38)
TRANSP:OPAQUE
END:VEVENT
BEGIN:VEVENT
DTSTART:20170826T093000
DTEND:20170826T101000
DTSTAMP:20171209T065844Z
UID:9f8978fc1d94a8e2330a9668c2a4966b@pvna.com.au
CREATED:20171209T065844Z
DESCRIPTION:2017 Spring Section:19&Under\nRound:Rnd 6
LAST-MODIFIED:20171209T065844Z
LOCATION:Court: 3
SEQUENCE:0
STATUS:CONFIRMED
SUMMARY:19&U-Rnd 6: Rush (12) vs The Jets (46)
TRANSP:OPAQUE
END:VEVENT
BEGIN:VEVENT
DTSTART:20170902T131500
DTEND:20170902T135500
DTSTAMP:20171209T065844Z
UID:51830ff0e1e04d592180e262fd13b182@pvna.com.au
CREATED:20171209T065844Z
DESCRIPTION:2017 Spring Section:19&Under\nRound:Rnd 7
LAST-MODIFIED:20171209T065844Z
LOCATION:Court: 99
SEQUENCE:0
STATUS:CONFIRMED
SUMMARY:19&U-Rnd 7: Rush vs BYE
TRANSP:OPAQUE
END:VEVENT
BEGIN:VEVENT
DTSTART:20170909T084500
DTEND:20170909T092500
DTSTAMP:20171209T065844Z
UID:e7cac2110409ba4282ae724629b9cca5@pvna.com.au
CREATED:20171209T065844Z
DESCRIPTION:2017 Spring Section:19&Under\nRound:Rnd 8
LAST-MODIFIED:20171209T065844Z
LOCATION:Court: 2
SEQUENCE:0
STATUS:CONFIRMED
SUMMARY:19&U-Rnd 8: Northern Blues Lions (36) vs Rush (11)
TRANSP:OPAQUE
END:VEVENT
BEGIN:VEVENT
DTSTART:20170916T093000
DTEND:20170916T101000
DTSTAMP:20171209T065844Z
UID:40c445428d73f6c20c372da1780fd780@pvna.com.au
CREATED:20171209T065844Z
DESCRIPTION:2017 Spring Section:19&Under\nRound:Rnd 9
LAST-MODIFIED:20171209T065844Z
LOCATION:Court: 1
SEQUENCE:0
STATUS:CONFIRMED
SUMMARY:19&U-Rnd 9: Rush (18) vs Northern Blues Tigers (24)
TRANSP:OPAQUE
END:VEVENT
BEGIN:VEVENT
DTSTART:20170923T093000
DTEND:20170923T101000
DTSTAMP:20171209T065844Z
UID:03ec199b2d884e0808fbd83fff96c724@pvna.com.au
CREATED:20171209T065844Z
DESCRIPTION:2017 Spring Section:19&Under\nRound:Rnd 10
LAST-MODIFIED:20171209T065844Z
LOCATION:Court: 2
SEQUENCE:0
STATUS:CONFIRMED
SUMMARY:19&U-Rnd 10: Dynamite (48) vs Rush (8)
TRANSP:OPAQUE
END:VEVENT
BEGIN:VEVENT
DTSTART:20171014T084500
DTEND:20171014T092500
DTSTAMP:20171209T065844Z
UID:b5b729e9f3bfa9ac441bb5fd0c2ba994@pvna.com.au
CREATED:20171209T065844Z
DESCRIPTION:2017 Spring Section:19&Under\nRound:Rnd 11
LAST-MODIFIED:20171209T065844Z
LOCATION:Court: 3
SEQUENCE:0
STATUS:CONFIRMED
SUMMARY:19&U-Rnd 11: Rush (16) vs Blaze Jnr (29)
TRANSP:OPAQUE
END:VEVENT
BEGIN:VEVENT
DTSTART:20171021T084500
DTEND:20171021T092500
DTSTAMP:20171209T065844Z
UID:052cceb578dbf63c6ad5f0f99edf1e2c@pvna.com.au
CREATED:20171209T065844Z
DESCRIPTION:2017 Spring Section:19&Under\nRound:Rnd 12
LAST-MODIFIED:20171209T065844Z
LOCATION:Court: 1
SEQUENCE:0
STATUS:CONFIRMED
SUMMARY:19&U-Rnd 12: Rush (7) vs V.S.Connected I (43)
TRANSP:OPAQUE
END:VEVENT
BEGIN:VEVENT
DTSTART:20171028T084500
DTEND:20171028T092500
DTSTAMP:20171209T065844Z
UID:4cdcf7a34eb36abccdb09d61d3e2f282@pvna.com.au
CREATED:20171209T065844Z
DESCRIPTION:2017 Spring Section:19&Under\nRound:Rnd 13
LAST-MODIFIED:20171209T065844Z
LOCATION:Court: 3
SEQUENCE:0
STATUS:CONFIRMED
SUMMARY:19&U-Rnd 13: Rush (16) vs The Jets (44)
TRANSP:OPAQUE
END:VEVENT
BEGIN:VEVENT
DTSTART:20171111T131500
DTEND:20171111T135500
DTSTAMP:20171209T065844Z
UID:06251b0acef88128a62900e11090c07d@pvna.com.au
CREATED:20171209T065844Z
DESCRIPTION:2017 Spring Section:19&Under\nRound:Rnd 14
LAST-MODIFIED:20171209T065844Z
LOCATION:Court: 99
SEQUENCE:0
STATUS:CONFIRMED
SUMMARY:19&U-Rnd 14: Rush vs BYE
TRANSP:OPAQUE
END:VEVENT
BEGIN:VEVENT
DTSTART:20171118T101500
DTEND:20171118T105500
DTSTAMP:20171209T065844Z
UID:67258f89f776236f499c3c1b3381c22c@pvna.com.au
CREATED:20171209T065844Z
DESCRIPTION:2017 Spring Section:19&Under\nRound:Rnd 15
LAST-MODIFIED:20171209T065844Z
LOCATION:Court: 1
SEQUENCE:0
STATUS:CONFIRMED
SUMMARY:19&U-Rnd 15: Northern Blues Lions (31) vs Rush (8)
TRANSP:OPAQUE
END:VEVENT
END:VCALENDAR
