BEGIN:VCALENDAR
PRODID:-//Google Inc//Google Calendar 70.9054//EN
VERSION:2.0
CALSCALE:GREGORIAN
METHOD:PUBLISH
X-WR-CALNAME:PV Comets SS Magic
X-WR-TIMEZONE:Australia/Sydney
X-WR-CALDESC:PV Comets Parkville Calendars
BEGIN:VEVENT
DTSTART:20170722T114500
DTEND:20170722T122500
DTSTAMP:20171209T065844Z
UID:f3a5052f5ff623e412abcbcf64af0d6d@pvna.com.au
CREATED:20171209T065844Z
DESCRIPTION:2017 Spring Section:17&Under\nRound:Rnd 1
LAST-MODIFIED:20171209T065844Z
LOCATION:Court: 99
SEQUENCE:0
STATUS:CONFIRMED
SUMMARY:17&U-Rnd 1: SS Magic vs BYE
TRANSP:OPAQUE
END:VEVENT
BEGIN:VEVENT
DTSTART:20170729T101500
DTEND:20170729T105500
DTSTAMP:20171209T065844Z
UID:582a4c934c9fcfe03cc78c00c21733bc@pvna.com.au
CREATED:20171209T065844Z
DESCRIPTION:2017 Spring Section:17&Under\nRound:Rnd 2
LAST-MODIFIED:20171209T065844Z
LOCATION:Court: 3
SEQUENCE:0
STATUS:CONFIRMED
SUMMARY:17&U-Rnd 2: V.S.Connected II (30) vs SS Magic (10)
TRANSP:OPAQUE
END:VEVENT
BEGIN:VEVENT
DTSTART:20170805T101500
DTEND:20170805T105500
DTSTAMP:20171209T065844Z
UID:9893a4d9e18fb49764712c508d349ed1@pvna.com.au
CREATED:20171209T065844Z
DESCRIPTION:2017 Spring Section:17&Under\nRound:Rnd 3
LAST-MODIFIED:20171209T065844Z
LOCATION:Court: 2
SEQUENCE:0
STATUS:CONFIRMED
SUMMARY:17&U-Rnd 3: SS Magic (22) vs Blazers (8)
TRANSP:OPAQUE
END:VEVENT
BEGIN:VEVENT
DTSTART:20170812T084500
DTEND:20170812T092500
DTSTAMP:20171209T065844Z
UID:ff249abc7d6c901900cb1b2774b7f68c@pvna.com.au
CREATED:20171209T065844Z
DESCRIPTION:2017 Spring Section:17&Under\nRound:Rnd 4
LAST-MODIFIED:20171209T065844Z
LOCATION:Court: 2
SEQUENCE:0
STATUS:CONFIRMED
SUMMARY:17&U-Rnd 4: Phoenix (29) vs SS Magic (17)
TRANSP:OPAQUE
END:VEVENT
BEGIN:VEVENT
DTSTART:20170819T084500
DTEND:20170819T092500
DTSTAMP:20171209T065844Z
UID:d83d9f2780117405123a0d6cb48518b4@pvna.com.au
CREATED:20171209T065844Z
DESCRIPTION:2017 Spring Section:17&Under\nRound:Rnd 5
LAST-MODIFIED:20171209T065844Z
LOCATION:Court: 2
SEQUENCE:0
STATUS:CONFIRMED
SUMMARY:17&U-Rnd 5: SS Magic (15) vs Force (14)
TRANSP:OPAQUE
END:VEVENT
BEGIN:VEVENT
DTSTART:20170826T131500
DTEND:20170826T135500
DTSTAMP:20171209T065844Z
UID:bb6d635cd896934e787635f403bbdef1@pvna.com.au
CREATED:20171209T065844Z
DESCRIPTION:2017 Spring Section:17&Under\nRound:Rnd 6
LAST-MODIFIED:20171209T065844Z
LOCATION:Court: 99
SEQUENCE:0
STATUS:CONFIRMED
SUMMARY:17&U-Rnd 6: SS Magic vs BYE
TRANSP:OPAQUE
END:VEVENT
BEGIN:VEVENT
DTSTART:20170902T093000
DTEND:20170902T101000
DTSTAMP:20171209T065844Z
UID:2d45450d3da364fd8d20ab953f61b44d@pvna.com.au
CREATED:20171209T065844Z
DESCRIPTION:2017 Spring Section:17&Under\nRound:Rnd 7
LAST-MODIFIED:20171209T065844Z
LOCATION:Court: 1
SEQUENCE:0
STATUS:CONFIRMED
SUMMARY:17&U-Rnd 7: V.S.Connected II (24) vs SS Magic (15)
TRANSP:OPAQUE
END:VEVENT
BEGIN:VEVENT
DTSTART:20170909T084500
DTEND:20170909T092500
DTSTAMP:20171209T065844Z
UID:6d09ce965b62d32ab7ebb42dd42e185f@pvna.com.au
CREATED:20171209T065844Z
DESCRIPTION:2017 Spring Section:17&Under\nRound:Rnd 8
LAST-MODIFIED:20171209T065844Z
LOCATION:Court: 1
SEQUENCE:0
STATUS:CONFIRMED
SUMMARY:17&U-Rnd 8: SS Magic (17) vs Blazers (17)
TRANSP:OPAQUE
END:VEVENT
BEGIN:VEVENT
DTSTART:20170916T114500
DTEND:20170916T122500
DTSTAMP:20171209T065844Z
UID:2f7159c6190b555837244c0177e65615@pvna.com.au
CREATED:20171209T065844Z
DESCRIPTION:2017 Spring Section:17&Under\nRound:Rnd 9
LAST-MODIFIED:20171209T065844Z
LOCATION:Court: 2
SEQUENCE:0
STATUS:CONFIRMED
SUMMARY:17&U-Rnd 9: Force (21) vs SS Magic (24)
TRANSP:OPAQUE
END:VEVENT
BEGIN:VEVENT
DTSTART:20170923T114500
DTEND:20170923T122500
DTSTAMP:20171209T065844Z
UID:c30b410a13cd2f74759ca065f9dc6fa8@pvna.com.au
CREATED:20171209T065844Z
DESCRIPTION:2017 Spring Section:17&Under\nRound:Rnd 10
LAST-MODIFIED:20171209T065844Z
LOCATION:Court: 2
SEQUENCE:0
STATUS:CONFIRMED
SUMMARY:17&U-Rnd 10: SS Magic (7) vs Phoenix (26)
TRANSP:OPAQUE
END:VEVENT
BEGIN:VEVENT
DTSTART:20171014T131500
DTEND:20171014T135500
DTSTAMP:20171209T065844Z
UID:d2ba0cdbbeea83f473cdda0eab3696f3@pvna.com.au
CREATED:20171209T065844Z
DESCRIPTION:2017 Spring Section:17&Under\nRound:Rnd 11
LAST-MODIFIED:20171209T065844Z
LOCATION:Court: 99
SEQUENCE:0
STATUS:CONFIRMED
SUMMARY:17&U-Rnd 11: SS Magic vs BYE
TRANSP:OPAQUE
END:VEVENT
BEGIN:VEVENT
DTSTART:20171021T093000
DTEND:20171021T101000
DTSTAMP:20171209T065844Z
UID:76065b414afd2d66550e9e8792020ae9@pvna.com.au
CREATED:20171209T065844Z
DESCRIPTION:2017 Spring Section:17&Under\nRound:Rnd 12
LAST-MODIFIED:20171209T065844Z
LOCATION:Court: 1
SEQUENCE:0
STATUS:CONFIRMED
SUMMARY:17&U-Rnd 12: SS Magic (25) vs V.S.Connected II (27)
TRANSP:OPAQUE
END:VEVENT
BEGIN:VEVENT
DTSTART:20171028T101500
DTEND:20171028T105500
DTSTAMP:20171209T065844Z
UID:97202f245f6d7fcf9d533b70d5b03618@pvna.com.au
CREATED:20171209T065844Z
DESCRIPTION:2017 Spring Section:17&Under\nRound:Rnd 13
LAST-MODIFIED:20171209T065844Z
LOCATION:Court: 2
SEQUENCE:0
STATUS:CONFIRMED
SUMMARY:17&U-Rnd 13: Blazers (13) vs SS Magic (31)
TRANSP:OPAQUE
END:VEVENT
BEGIN:VEVENT
DTSTART:20171111T114500
DTEND:20171111T122500
DTSTAMP:20171209T065844Z
UID:9d90b654d4fce11a0de69f68a4568129@pvna.com.au
CREATED:20171209T065844Z
DESCRIPTION:2017 Spring Section:17&Under\nRound:Rnd 14
LAST-MODIFIED:20171209T065844Z
LOCATION:Court: 2
SEQUENCE:0
STATUS:CONFIRMED
SUMMARY:17&U-Rnd 14: Force (12) vs SS Magic (25)
TRANSP:OPAQUE
END:VEVENT
BEGIN:VEVENT
DTSTART:20171118T114500
DTEND:20171118T122500
DTSTAMP:20171209T065844Z
UID:8735a75764f1022d070f080f6572bebc@pvna.com.au
CREATED:20171209T065844Z
DESCRIPTION:2017 Spring Section:17&Under\nRound:Rnd 15
LAST-MODIFIED:20171209T065844Z
LOCATION:Court: 1
SEQUENCE:0
STATUS:CONFIRMED
SUMMARY:17&U-Rnd 15: SS Magic (13) vs Phoenix (35)
TRANSP:OPAQUE
END:VEVENT
BEGIN:VEVENT
DTSTART:20171125T095000
DTEND:20171125T122500
DTSTAMP:20171209T065844Z
UID:b9fa2c0cce569ba98815cdc81e016312@pvna.com.au
CREATED:20171209T065844Z
DESCRIPTION:2017 Spring Section:17&Under\nRound:Semi
LAST-MODIFIED:20171209T065844Z
LOCATION:Court: 2
SEQUENCE:0
STATUS:CONFIRMED
SUMMARY:17&U-Semi: SS Magic (26) vs Blazers (12)
TRANSP:OPAQUE
END:VEVENT
BEGIN:VEVENT
DTSTART:20171202T110000
DTEND:20171202T114500
DTSTAMP:20171209T065844Z
UID:be9d13c800759a0375bd6e98ccbd5e88@pvna.com.au
CREATED:20171209T065844Z
DESCRIPTION:2017 Spring Section:17&Under\nRound:Prelim
LAST-MODIFIED:20171209T065844Z
LOCATION:Court: 5
SEQUENCE:0
STATUS:CONFIRMED
SUMMARY:17&U-Prelim: V.S.Connected II (0) vs SS Magic (10)
TRANSP:OPAQUE
END:VEVENT
BEGIN:VEVENT
DTSTART:20171209T100000
DTEND:20171209T114500
DTSTAMP:20171209T065844Z
UID:ad355c383d7b5bc6ba6e0b17c5374300@pvna.com.au
CREATED:20171209T065844Z
DESCRIPTION:2017 Spring Section:17&Under\nRound:Grand
LAST-MODIFIED:20171209T065844Z
LOCATION:Court: 1
SEQUENCE:0
STATUS:CONFIRMED
SUMMARY:17&U-Grand: Phoenix (37) vs SS Magic (24)
TRANSP:OPAQUE
END:VEVENT
END:VCALENDAR
