BEGIN:VCALENDAR
PRODID:-//Google Inc//Google Calendar 70.9054//EN
VERSION:2.0
CALSCALE:GREGORIAN
METHOD:PUBLISH
X-WR-CALNAME:PV Comets SS Rubies
X-WR-TIMEZONE:Australia/Sydney
X-WR-CALDESC:PV Comets Parkville Calendars
BEGIN:VEVENT
DTSTART:20170722T110000
DTEND:20170722T114500
DTSTAMP:20171209T065844Z
UID:2df8ba024197be57bf68f5002daa5927@pvna.com.au
CREATED:20171209T065844Z
DESCRIPTION:2017 Spring Section:13&U Res\nRound:Rnd 1
LAST-MODIFIED:20171209T065844Z
LOCATION:Court: 99
SEQUENCE:0
STATUS:CONFIRMED
SUMMARY:13&U-Rnd 1: SS Rubies vs BYE
TRANSP:OPAQUE
END:VEVENT
BEGIN:VEVENT
DTSTART:20170729T110000
DTEND:20170729T114500
DTSTAMP:20171209T065844Z
UID:c64ea1ef33ca91e07f5f6c87a28f0593@pvna.com.au
CREATED:20171209T065844Z
DESCRIPTION:2017 Spring Section:13&U Res\nRound:Rnd 2
LAST-MODIFIED:20171209T065844Z
LOCATION:Court: 2
SEQUENCE:0
STATUS:CONFIRMED
SUMMARY:13&U-Rnd 2: SS Rubies (4) vs SS Diamonds (15)
TRANSP:OPAQUE
END:VEVENT
BEGIN:VEVENT
DTSTART:20170805T093000
DTEND:20170805T101000
DTSTAMP:20171209T065844Z
UID:0d5c8b7874d1398e1c11a486f20df999@pvna.com.au
CREATED:20171209T065844Z
DESCRIPTION:2017 Spring Section:13&U Res\nRound:Rnd 3
LAST-MODIFIED:20171209T065844Z
LOCATION:Court: 5
SEQUENCE:0
STATUS:CONFIRMED
SUMMARY:13&U-Rnd 3: Neon Nightmares 13s (18) vs SS Rubies (2)
TRANSP:OPAQUE
END:VEVENT
BEGIN:VEVENT
DTSTART:20170812T123000
DTEND:20170812T131000
DTSTAMP:20171209T065844Z
UID:a429038061c7851c5160203bdfc427ba@pvna.com.au
CREATED:20171209T065844Z
DESCRIPTION:2017 Spring Section:13&U Res\nRound:Rnd 4
LAST-MODIFIED:20171209T065844Z
LOCATION:Court: 3
SEQUENCE:0
STATUS:CONFIRMED
SUMMARY:13&U-Rnd 4: Northern Blues Joeys (15) vs SS Rubies (13)
TRANSP:OPAQUE
END:VEVENT
BEGIN:VEVENT
DTSTART:20170819T114500
DTEND:20170819T122500
DTSTAMP:20171209T065844Z
UID:5c18d70c5e22a9407717735e0f2b1668@pvna.com.au
CREATED:20171209T065844Z
DESCRIPTION:2017 Spring Section:13&U Res\nRound:Rnd 5
LAST-MODIFIED:20171209T065844Z
LOCATION:Court: 2
SEQUENCE:0
STATUS:CONFIRMED
SUMMARY:13&U-Rnd 5: SS Rubies (14) vs Storm (25)
TRANSP:OPAQUE
END:VEVENT
BEGIN:VEVENT
DTSTART:20170826T114500
DTEND:20170826T122500
DTSTAMP:20171209T065844Z
UID:7666906707e81ce9d1d78fb6c12df2f9@pvna.com.au
CREATED:20171209T065844Z
DESCRIPTION:2017 Spring Section:13&U Res\nRound:Rnd 6
LAST-MODIFIED:20171209T065844Z
LOCATION:Court: 1
SEQUENCE:0
STATUS:CONFIRMED
SUMMARY:13&U-Rnd 6: SS Rubies (9) vs Awesome Angels 13s2 (9)
TRANSP:OPAQUE
END:VEVENT
BEGIN:VEVENT
DTSTART:20170902T084500
DTEND:20170902T092500
DTSTAMP:20171209T065844Z
UID:a4a5193f3d829272df347f8185d1835a@pvna.com.au
CREATED:20171209T065844Z
DESCRIPTION:2017 Spring Section:13&U Res\nRound:Rnd 7
LAST-MODIFIED:20171209T065844Z
LOCATION:Court: 1
SEQUENCE:0
STATUS:CONFIRMED
SUMMARY:13&U-Rnd 7: SS Rubies (12) vs Northern Blues Wallabies (5)
TRANSP:OPAQUE
END:VEVENT
BEGIN:VEVENT
DTSTART:20170909T114500
DTEND:20170909T122500
DTSTAMP:20171209T065844Z
UID:c021874b659af9b775686860ad129ec0@pvna.com.au
CREATED:20171209T065844Z
DESCRIPTION:2017 Spring Section:13&U Res\nRound:Rnd 8
LAST-MODIFIED:20171209T065844Z
LOCATION:Court: 2
SEQUENCE:0
STATUS:CONFIRMED
SUMMARY:13&U-Rnd 8: 13s (28) vs SS Rubies (2)
TRANSP:OPAQUE
END:VEVENT
BEGIN:VEVENT
DTSTART:20170916T101500
DTEND:20170916T105500
DTSTAMP:20171209T065844Z
UID:cb92673d83bb16f6f6a31668d333a2dd@pvna.com.au
CREATED:20171209T065844Z
DESCRIPTION:2017 Spring Section:13&U Res\nRound:Rnd 9
LAST-MODIFIED:20171209T065844Z
LOCATION:Court: 3
SEQUENCE:0
STATUS:CONFIRMED
SUMMARY:13&U-Rnd 9: SS Rubies (7) vs SS Diamonds (25)
TRANSP:OPAQUE
END:VEVENT
BEGIN:VEVENT
DTSTART:20170923T101500
DTEND:20170923T105500
DTSTAMP:20171209T065844Z
UID:6700f9c783b6cf8f512c2cfc0f09b5f5@pvna.com.au
CREATED:20171209T065844Z
DESCRIPTION:2017 Spring Section:13&U Res\nRound:Rnd 10
LAST-MODIFIED:20171209T065844Z
LOCATION:Court: 1
SEQUENCE:0
STATUS:CONFIRMED
SUMMARY:13&U-Rnd 10: Neon Nightmares 13s (26) vs SS Rubies (7)
TRANSP:OPAQUE
END:VEVENT
BEGIN:VEVENT
DTSTART:20171014T110000
DTEND:20171014T114500
DTSTAMP:20171209T065844Z
UID:cabd2427f7377540daa0a4bf586ddf86@pvna.com.au
CREATED:20171209T065844Z
DESCRIPTION:2017 Spring Section:13&U Res\nRound:Rnd 11
LAST-MODIFIED:20171209T065844Z
LOCATION:Court: 2
SEQUENCE:0
STATUS:CONFIRMED
SUMMARY:13&U-Rnd 11: Northern Blues Joeys (13) vs SS Rubies (5)
TRANSP:OPAQUE
END:VEVENT
BEGIN:VEVENT
DTSTART:20171021T114500
DTEND:20171021T122500
DTSTAMP:20171209T065844Z
UID:669c24740300180266d62e1294df817f@pvna.com.au
CREATED:20171209T065844Z
DESCRIPTION:2017 Spring Section:13&U Res\nRound:Rnd 12
LAST-MODIFIED:20171209T065844Z
LOCATION:Court: 2
SEQUENCE:0
STATUS:CONFIRMED
SUMMARY:13&U-Rnd 12: SS Rubies (4) vs Storm (28)
TRANSP:OPAQUE
END:VEVENT
BEGIN:VEVENT
DTSTART:20171028T123000
DTEND:20171028T131000
DTSTAMP:20171209T065844Z
UID:e17fe55043dda15ac546034b4430114d@pvna.com.au
CREATED:20171209T065844Z
DESCRIPTION:2017 Spring Section:13&U Res\nRound:Rnd 13
LAST-MODIFIED:20171209T065844Z
LOCATION:Court: 2
SEQUENCE:0
STATUS:CONFIRMED
SUMMARY:13&U-Rnd 13: SS Rubies (13) vs Awesome Angels 13s2 (7)
TRANSP:OPAQUE
END:VEVENT
BEGIN:VEVENT
DTSTART:20171111T101500
DTEND:20171111T105500
DTSTAMP:20171209T065844Z
UID:6c0c8b6cbaa2b91a9e79266ec591134e@pvna.com.au
CREATED:20171209T065844Z
DESCRIPTION:2017 Spring Section:13&U Res\nRound:Rnd 14
LAST-MODIFIED:20171209T065844Z
LOCATION:Court: 4
SEQUENCE:0
STATUS:CONFIRMED
SUMMARY:13&U-Rnd 14: SS Rubies (5) vs Northern Blues Wallabies (11)
TRANSP:OPAQUE
END:VEVENT
BEGIN:VEVENT
DTSTART:20171118T084500
DTEND:20171118T092500
DTSTAMP:20171209T065844Z
UID:2010ead190650c47b80c9a00932d5ad1@pvna.com.au
CREATED:20171209T065844Z
DESCRIPTION:2017 Spring Section:13&U Res\nRound:Rnd 15
LAST-MODIFIED:20171209T065844Z
LOCATION:Court: 3
SEQUENCE:0
STATUS:CONFIRMED
SUMMARY:13&U-Rnd 15: 13s (40) vs SS Rubies (1)
TRANSP:OPAQUE
END:VEVENT
END:VCALENDAR
