BEGIN:VCALENDAR
PRODID:-//Google Inc//Google Calendar 70.9054//EN
VERSION:2.0
CALSCALE:GREGORIAN
METHOD:PUBLISH
X-WR-CALNAME:PV Comets SS Saphires
X-WR-TIMEZONE:Australia/Sydney
X-WR-CALDESC:PV Comets Parkville Calendars
BEGIN:VEVENT
DTSTART:20170722T123000
DTEND:20170722T131000
DTSTAMP:20171209T065844Z
UID:baad1e2b5b4673566711a31b97d01d0b@pvna.com.au
CREATED:20171209T065844Z
DESCRIPTION:2017 Spring Section:15&Under\nRound:Rnd 1
LAST-MODIFIED:20171209T065844Z
LOCATION:Court: 1
SEQUENCE:0
STATUS:CONFIRMED
SUMMARY:15&U-Rnd 1: Awesome Angels 15s1 (0) vs SS Saphires (10)
TRANSP:OPAQUE
END:VEVENT
BEGIN:VEVENT
DTSTART:20170729T114500
DTEND:20170729T122500
DTSTAMP:20171209T065844Z
UID:a9e80365202caff4565c253d5cbb28d3@pvna.com.au
CREATED:20171209T065844Z
DESCRIPTION:2017 Spring Section:15&Under\nRound:Rnd 2
LAST-MODIFIED:20171209T065844Z
LOCATION:Court: 1
SEQUENCE:0
STATUS:CONFIRMED
SUMMARY:15&U-Rnd 2: SS Saphires (9) vs SS Sparks (25)
TRANSP:OPAQUE
END:VEVENT
BEGIN:VEVENT
DTSTART:20170805T084500
DTEND:20170805T092500
DTSTAMP:20171209T065844Z
UID:99179f1e8a45d9f00531fa1f17f011a0@pvna.com.au
CREATED:20171209T065844Z
DESCRIPTION:2017 Spring Section:15&Under\nRound:Rnd 3
LAST-MODIFIED:20171209T065844Z
LOCATION:Court: 3
SEQUENCE:0
STATUS:CONFIRMED
SUMMARY:15&U-Rnd 3: Devils (17) vs SS Saphires (12)
TRANSP:OPAQUE
END:VEVENT
BEGIN:VEVENT
DTSTART:20170812T093000
DTEND:20170812T101000
DTSTAMP:20171209T065844Z
UID:d9b01bddeeed3ced0f784f92c34599a3@pvna.com.au
CREATED:20171209T065844Z
DESCRIPTION:2017 Spring Section:15&Under\nRound:Rnd 4
LAST-MODIFIED:20171209T065844Z
LOCATION:Court: 2
SEQUENCE:0
STATUS:CONFIRMED
SUMMARY:15&U-Rnd 4: Northern Blues Cheetahs (26) vs SS Saphires (9)
TRANSP:OPAQUE
END:VEVENT
BEGIN:VEVENT
DTSTART:20170819T110000
DTEND:20170819T114500
DTSTAMP:20171209T065844Z
UID:5e3ad6e9c8306f581fba6309b9f04265@pvna.com.au
CREATED:20171209T065844Z
DESCRIPTION:2017 Spring Section:15&Under\nRound:Rnd 5
LAST-MODIFIED:20171209T065844Z
LOCATION:Court: 4
SEQUENCE:0
STATUS:CONFIRMED
SUMMARY:15&U-Rnd 5: SS Saphires (12) vs Ravens (7)
TRANSP:OPAQUE
END:VEVENT
BEGIN:VEVENT
DTSTART:20170826T101500
DTEND:20170826T105500
DTSTAMP:20171209T065844Z
UID:ff16ea187b049240100f384e1bfaeb4f@pvna.com.au
CREATED:20171209T065844Z
DESCRIPTION:2017 Spring Section:15&Under\nRound:Rnd 6
LAST-MODIFIED:20171209T065844Z
LOCATION:Court: 2
SEQUENCE:0
STATUS:CONFIRMED
SUMMARY:15&U-Rnd 6: SS Sparks (30) vs SS Saphires (16)
TRANSP:OPAQUE
END:VEVENT
BEGIN:VEVENT
DTSTART:20170902T123000
DTEND:20170902T131000
DTSTAMP:20171209T065844Z
UID:0a444e210be1e03e1afa73a53e21b19c@pvna.com.au
CREATED:20171209T065844Z
DESCRIPTION:2017 Spring Section:15&Under\nRound:Rnd 7
LAST-MODIFIED:20171209T065844Z
LOCATION:Court: 3
SEQUENCE:0
STATUS:CONFIRMED
SUMMARY:15&U-Rnd 7: SS Saphires (10) vs Northern Blues Kangas (0)
TRANSP:OPAQUE
END:VEVENT
BEGIN:VEVENT
DTSTART:20170909T110000
DTEND:20170909T114500
DTSTAMP:20171209T065844Z
UID:a66286c963cf202c26acc88f2ec23363@pvna.com.au
CREATED:20171209T065844Z
DESCRIPTION:2017 Spring Section:15&Under\nRound:Rnd 8
LAST-MODIFIED:20171209T065844Z
LOCATION:Court: 1
SEQUENCE:0
STATUS:CONFIRMED
SUMMARY:15&U-Rnd 8: Awesome Angels 15s1 (4) vs SS Saphires (25)
TRANSP:OPAQUE
END:VEVENT
BEGIN:VEVENT
DTSTART:20170916T110000
DTEND:20170916T114500
DTSTAMP:20171209T065844Z
UID:1543e34742095d00badb54890b41187c@pvna.com.au
CREATED:20171209T065844Z
DESCRIPTION:2017 Spring Section:15&Under\nRound:Rnd 9
LAST-MODIFIED:20171209T065844Z
LOCATION:Court: 1
SEQUENCE:0
STATUS:CONFIRMED
SUMMARY:15&U-Rnd 9: SS Saphires (6) vs Roxy (41)
TRANSP:OPAQUE
END:VEVENT
BEGIN:VEVENT
DTSTART:20170923T110000
DTEND:20170923T114500
DTSTAMP:20171209T065844Z
UID:b2dcfc99d7b7aafeea096664600408d7@pvna.com.au
CREATED:20171209T065844Z
DESCRIPTION:2017 Spring Section:15&U Res\nRound:Rnd 10
LAST-MODIFIED:20171209T065844Z
LOCATION:Court: 2
SEQUENCE:0
STATUS:CONFIRMED
SUMMARY:15&U-Rnd 10: Awesome Angels 15s1 (9) vs SS Saphires (18)
TRANSP:OPAQUE
END:VEVENT
BEGIN:VEVENT
DTSTART:20171014T114500
DTEND:20171014T122500
DTSTAMP:20171209T065844Z
UID:7f07f6fee730f976326d869898d18ff9@pvna.com.au
CREATED:20171209T065844Z
DESCRIPTION:2017 Spring Section:15&U Res\nRound:Rnd 11
LAST-MODIFIED:20171209T065844Z
LOCATION:Court: 4
SEQUENCE:0
STATUS:CONFIRMED
SUMMARY:15&U-Rnd 11: Ravens (11) vs SS Saphires (17)
TRANSP:OPAQUE
END:VEVENT
BEGIN:VEVENT
DTSTART:20171021T110000
DTEND:20171021T114500
DTSTAMP:20171209T065844Z
UID:4d6ac4f181eae0892fb448caf64f6b39@pvna.com.au
CREATED:20171209T065844Z
DESCRIPTION:2017 Spring Section:15&U Res\nRound:Rnd 12
LAST-MODIFIED:20171209T065844Z
LOCATION:Court: 1
SEQUENCE:0
STATUS:CONFIRMED
SUMMARY:15&U-Rnd 12: SS Saphires (19) vs Northern Blues Kangas (20)
TRANSP:OPAQUE
END:VEVENT
BEGIN:VEVENT
DTSTART:20171028T110000
DTEND:20171028T114500
DTSTAMP:20171209T065844Z
UID:fa3e923c1df47b3a6085b533e6e973f1@pvna.com.au
CREATED:20171209T065844Z
DESCRIPTION:2017 Spring Section:15&U Res\nRound:Rnd 13
LAST-MODIFIED:20171209T065844Z
LOCATION:Court: 1
SEQUENCE:0
STATUS:CONFIRMED
SUMMARY:15&U-Rnd 13: Awesome Angels 15s1 (4) vs SS Saphires (24)
TRANSP:OPAQUE
END:VEVENT
BEGIN:VEVENT
DTSTART:20171111T123000
DTEND:20171111T131000
DTSTAMP:20171209T065844Z
UID:1ebf62547fc3594cb9b79f6620d4851a@pvna.com.au
CREATED:20171209T065844Z
DESCRIPTION:2017 Spring Section:15&U Res\nRound:Rnd 14
LAST-MODIFIED:20171209T065844Z
LOCATION:Court: 1
SEQUENCE:0
STATUS:CONFIRMED
SUMMARY:15&U-Rnd 14: Ravens (15) vs SS Saphires (31)
TRANSP:OPAQUE
END:VEVENT
BEGIN:VEVENT
DTSTART:20171118T123000
DTEND:20171118T131000
DTSTAMP:20171209T065844Z
UID:45b885bf4d635d01fbc01fa74d31807a@pvna.com.au
CREATED:20171209T065844Z
DESCRIPTION:2017 Spring Section:15&U Res\nRound:Rnd 15
LAST-MODIFIED:20171209T065844Z
LOCATION:Court: 1
SEQUENCE:0
STATUS:CONFIRMED
SUMMARY:15&U-Rnd 15: SS Saphires (20) vs Northern Blues Kangas (18)
TRANSP:OPAQUE
END:VEVENT
BEGIN:VEVENT
DTSTART:20171125T113000
DTEND:20171125T131000
DTSTAMP:20171209T065844Z
UID:5d27bc27cd4725b7d105e7aff817bdd0@pvna.com.au
CREATED:20171209T065844Z
DESCRIPTION:2017 Spring Section:15&U Res\nRound:Semi
LAST-MODIFIED:20171209T065844Z
LOCATION:Court: 1
SEQUENCE:0
STATUS:CONFIRMED
SUMMARY:15&U-Semi: Northern Blues Kangas (22) vs SS Saphires (10)
TRANSP:OPAQUE
END:VEVENT
BEGIN:VEVENT
DTSTART:20171202T100000
DTEND:20171202T131000
DTSTAMP:20171209T065844Z
UID:01aef4e6ebdab6438851b1f3d8c19cd4@pvna.com.au
CREATED:20171209T065844Z
DESCRIPTION:2017 Spring Section:15&U Res\nRound:Prelim
LAST-MODIFIED:20171209T065844Z
LOCATION:Court: 2
SEQUENCE:0
STATUS:CONFIRMED
SUMMARY:15&U-Prelim: SS Saphires (26) vs Awesome Angels 15s1 (7)
TRANSP:OPAQUE
END:VEVENT
BEGIN:VEVENT
DTSTART:20171209T110000
DTEND:20171209T114500
DTSTAMP:20171209T065844Z
UID:6b9ec1d2202e336fe941ae845332bb69@pvna.com.au
CREATED:20171209T065844Z
DESCRIPTION:2017 Spring Section:15&U Res\nRound:Grand
LAST-MODIFIED:20171209T065844Z
LOCATION:Court: 2
SEQUENCE:0
STATUS:CONFIRMED
SUMMARY:15&U-Grand: Northern Blues Kangas (17) vs SS Saphires (13)
TRANSP:OPAQUE
END:VEVENT
END:VCALENDAR
