BEGIN:VCALENDAR
PRODID:-//Google Inc//Google Calendar 70.9054//EN
VERSION:2.0
CALSCALE:GREGORIAN
METHOD:PUBLISH
X-WR-CALNAME:PV Comets Shooting Stars Diamonds
X-WR-TIMEZONE:Australia/Sydney
X-WR-CALDESC:PV Comets Parkville Calendars
BEGIN:VEVENT
DTSTART:20170722T110000
DTEND:20170722T114500
DTSTAMP:20170723T233914Z
UID:f80c0c9d93af4471296d571ca16a66fd@pvna.com.au
CREATED:20170723T233914Z
DESCRIPTION:2017 Spring Section:13&U Res\nRound:Rnd 1
LAST-MODIFIED:20170723T233914Z
LOCATION:Court: 99
SEQUENCE:0
STATUS:CONFIRMED
SUMMARY:13&U-Rnd 1: Shooting Stars Diamonds vs BYE
TRANSP:OPAQUE
END:VEVENT
BEGIN:VEVENT
DTSTART:20170722T123000
DTEND:20170722T131000
DTSTAMP:20170723T233914Z
UID:74cbb89e981d042a9836257bfd8dad70@pvna.com.au
CREATED:20170723T233914Z
DESCRIPTION:2017 Spring Section:13&U Res\nRound:Rnd 1
LAST-MODIFIED:20170723T233914Z
LOCATION:Court: 3
SEQUENCE:0
STATUS:CONFIRMED
SUMMARY:13&U-Rnd 1: Northern Blues Monkeys (5) vs Shooting Stars Diamonds (22)
TRANSP:OPAQUE
END:VEVENT
BEGIN:VEVENT
DTSTART:20170729T110000
DTEND:20170729T114500
DTSTAMP:20170723T233916Z
UID:99c0cc150bb38a007f488751a3b1f854@pvna.com.au
CREATED:20170723T233916Z
DESCRIPTION:2017 Spring Section:13&U Res\nRound:Rnd 2\n\nCurrent Ladder:\nTeam            P  W  L  D  Pts\nShooting Stars Diamonds 2  2  0  0  8 \nAwesome Angels 13s2 1  1  0  0  4 \nNeon Nightmares 13s 1  1  0  0  4 \nStorm           1  0  1  0  0 \nNorthern Blues Monkeys 1  0  1  0  0 \nNorthern Blues Joeys 1  0  1  0  0 \nShooting Stars New 0  0  0  0  0 \n
LAST-MODIFIED:20170723T233916Z
LOCATION:Court: 2
SEQUENCE:0
STATUS:CONFIRMED
SUMMARY:13&U-Rnd 2: Shooting Stars New vs Shooting Stars Diamonds
TRANSP:OPAQUE
END:VEVENT
BEGIN:VEVENT
DTSTART:20170805T101500
DTEND:20170805T105500
DTSTAMP:20170723T233916Z
UID:9fea4bc901e63cccf54f32c0528b8cd7@pvna.com.au
CREATED:20170723T233916Z
DESCRIPTION:2017 Spring Section:13&U Res\nRound:Rnd 3
LAST-MODIFIED:20170723T233916Z
LOCATION:Court: 3
SEQUENCE:0
STATUS:CONFIRMED
SUMMARY:13&U-Rnd 3: Shooting Stars Diamonds vs Storm
TRANSP:OPAQUE
END:VEVENT
BEGIN:VEVENT
DTSTART:20170812T101500
DTEND:20170812T105500
DTSTAMP:20170723T233916Z
UID:654075202a6dad5c10b9af178d045156@pvna.com.au
CREATED:20170723T233916Z
DESCRIPTION:2017 Spring Section:13&U Res\nRound:Rnd 4
LAST-MODIFIED:20170723T233916Z
LOCATION:Court: 2
SEQUENCE:0
STATUS:CONFIRMED
SUMMARY:13&U-Rnd 4: Shooting Stars Diamonds vs Awesome Angels 13s2
TRANSP:OPAQUE
END:VEVENT
BEGIN:VEVENT
DTSTART:20170819T101500
DTEND:20170819T105500
DTSTAMP:20170723T233916Z
UID:c1c05c426df9ef12f8f27ddaf6d87430@pvna.com.au
CREATED:20170723T233916Z
DESCRIPTION:2017 Spring Section:13&U Res\nRound:Rnd 5
LAST-MODIFIED:20170723T233916Z
LOCATION:Court: 1
SEQUENCE:0
STATUS:CONFIRMED
SUMMARY:13&U-Rnd 5: Northern Blues Monkeys vs Shooting Stars Diamonds
TRANSP:OPAQUE
END:VEVENT
BEGIN:VEVENT
DTSTART:20170826T101500
DTEND:20170826T105500
DTSTAMP:20170723T233916Z
UID:05638d68cc35aa7d54454d1b4f07e532@pvna.com.au
CREATED:20170723T233916Z
DESCRIPTION:2017 Spring Section:13&U Res\nRound:Rnd 6
LAST-MODIFIED:20170723T233916Z
LOCATION:Court: 2
SEQUENCE:0
STATUS:CONFIRMED
SUMMARY:13&U-Rnd 6: Neon Nightmares 13s vs Shooting Stars Diamonds
TRANSP:OPAQUE
END:VEVENT
BEGIN:VEVENT
DTSTART:20170902T101500
DTEND:20170902T105500
DTSTAMP:20170723T233916Z
UID:8de1cd2aaf78d2c9233ee1f95bab6ca5@pvna.com.au
CREATED:20170723T233916Z
DESCRIPTION:2017 Spring Section:13&U Res\nRound:Rnd 7
LAST-MODIFIED:20170723T233916Z
LOCATION:Court: 1
SEQUENCE:0
STATUS:CONFIRMED
SUMMARY:13&U-Rnd 7: Northern Blues Joeys vs Shooting Stars Diamonds
TRANSP:OPAQUE
END:VEVENT
BEGIN:VEVENT
DTSTART:20170909T101500
DTEND:20170909T105500
DTSTAMP:20170723T233916Z
UID:6fdbc1f5f2919a8098882862d43db436@pvna.com.au
CREATED:20170723T233916Z
DESCRIPTION:2017 Spring Section:13&U Res\nRound:Rnd 8
LAST-MODIFIED:20170723T233916Z
LOCATION:Court: 99
SEQUENCE:0
STATUS:CONFIRMED
SUMMARY:13&U-Rnd 8: Shooting Stars Diamonds vs BYE
TRANSP:OPAQUE
END:VEVENT
BEGIN:VEVENT
DTSTART:20170916T101500
DTEND:20170916T105500
DTSTAMP:20170723T233916Z
UID:7161b5e395028e1030508d4eb201cbca@pvna.com.au
CREATED:20170723T233916Z
DESCRIPTION:2017 Spring Section:13&U Res\nRound:Rnd 9
LAST-MODIFIED:20170723T233916Z
LOCATION:Court: 3
SEQUENCE:0
STATUS:CONFIRMED
SUMMARY:13&U-Rnd 9: Shooting Stars New vs Shooting Stars Diamonds
TRANSP:OPAQUE
END:VEVENT
BEGIN:VEVENT
DTSTART:20170923T101500
DTEND:20170923T105500
DTSTAMP:20170723T233916Z
UID:ce064453a085aefd69ea891945c7d7d1@pvna.com.au
CREATED:20170723T233916Z
DESCRIPTION:2017 Spring Section:13&U Res\nRound:Rnd 10
LAST-MODIFIED:20170723T233916Z
LOCATION:Court: 3
SEQUENCE:0
STATUS:CONFIRMED
SUMMARY:13&U-Rnd 10: Shooting Stars Diamonds vs Storm
TRANSP:OPAQUE
END:VEVENT
BEGIN:VEVENT
DTSTART:20170930T093000
DTEND:20170930T101000
DTSTAMP:20170723T233916Z
UID:6b0d5a4542d2bf4f8a4c80f7bf8dc86a@pvna.com.au
CREATED:20170723T233916Z
DESCRIPTION:2017 Spring Section:13&U Res\nRound:Rnd 11
LAST-MODIFIED:20170723T233916Z
LOCATION:Court: 4
SEQUENCE:0
STATUS:CONFIRMED
SUMMARY:13&U-Rnd 11: Shooting Stars Diamonds vs Awesome Angels 13s2
TRANSP:OPAQUE
END:VEVENT
BEGIN:VEVENT
DTSTART:20171007T101500
DTEND:20171007T105500
DTSTAMP:20170723T233916Z
UID:80f86fa10c928e502c1b91be935533a6@pvna.com.au
CREATED:20170723T233916Z
DESCRIPTION:2017 Spring Section:13&U Res\nRound:Rnd 12
LAST-MODIFIED:20170723T233916Z
LOCATION:Court: 1
SEQUENCE:0
STATUS:CONFIRMED
SUMMARY:13&U-Rnd 12: Northern Blues Monkeys vs Shooting Stars Diamonds
TRANSP:OPAQUE
END:VEVENT
BEGIN:VEVENT
DTSTART:20171014T101500
DTEND:20171014T105500
DTSTAMP:20170723T233916Z
UID:c43289bbaf58953b7c793c6786bb5583@pvna.com.au
CREATED:20170723T233916Z
DESCRIPTION:2017 Spring Section:13&U Res\nRound:Rnd 13
LAST-MODIFIED:20170723T233916Z
LOCATION:Court: 2
SEQUENCE:0
STATUS:CONFIRMED
SUMMARY:13&U-Rnd 13: Neon Nightmares 13s vs Shooting Stars Diamonds
TRANSP:OPAQUE
END:VEVENT
BEGIN:VEVENT
DTSTART:20171021T101500
DTEND:20171021T105500
DTSTAMP:20170723T233916Z
UID:547e50c0f503b35693aa81cee64747ac@pvna.com.au
CREATED:20170723T233916Z
DESCRIPTION:2017 Spring Section:13&U Res\nRound:Rnd 14
LAST-MODIFIED:20170723T233916Z
LOCATION:Court: 3
SEQUENCE:0
STATUS:CONFIRMED
SUMMARY:13&U-Rnd 14: Northern Blues Joeys vs Shooting Stars Diamonds
TRANSP:OPAQUE
END:VEVENT
BEGIN:VEVENT
DTSTART:20171104T101500
DTEND:20171104T105500
DTSTAMP:20170723T233916Z
UID:81d3704309ab218931a8984dafac2c10@pvna.com.au
CREATED:20170723T233916Z
DESCRIPTION:2017 Spring Section:13&U Res\nRound:Rnd 16
LAST-MODIFIED:20170723T233916Z
LOCATION:Court: 99
SEQUENCE:0
STATUS:CONFIRMED
SUMMARY:13&U-Rnd 16: Shooting Stars Diamonds vs BYE
TRANSP:OPAQUE
END:VEVENT
BEGIN:VEVENT
DTSTART:20171111T101500
DTEND:20171111T105500
DTSTAMP:20170723T233916Z
UID:398800415d200403e0a677cfcee890fa@pvna.com.au
CREATED:20170723T233916Z
DESCRIPTION:2017 Spring Section:13&U Res\nRound:Rnd 17
LAST-MODIFIED:20170723T233916Z
LOCATION:Court: 3
SEQUENCE:0
STATUS:CONFIRMED
SUMMARY:13&U-Rnd 17: Shooting Stars New vs Shooting Stars Diamonds
TRANSP:OPAQUE
END:VEVENT
BEGIN:VEVENT
DTSTART:20171118T101500
DTEND:20171118T105500
DTSTAMP:20170723T233916Z
UID:823fda00ad99cae423514beef7ea1a5a@pvna.com.au
CREATED:20170723T233916Z
DESCRIPTION:2017 Spring Section:13&U Res\nRound:Rnd 18
LAST-MODIFIED:20170723T233916Z
LOCATION:Court: 3
SEQUENCE:0
STATUS:CONFIRMED
SUMMARY:13&U-Rnd 18: Shooting Stars Diamonds vs Storm
TRANSP:OPAQUE
END:VEVENT
BEGIN:VEVENT
DTSTART:20171125T093000
DTEND:20171125T101000
DTSTAMP:20170723T233916Z
UID:05a24b9b37f933da94ef74ad0676ff34@pvna.com.au
CREATED:20170723T233916Z
DESCRIPTION:2017 Spring Section:13&U Res\nRound:Rnd 19
LAST-MODIFIED:20170723T233916Z
LOCATION:Court: 4
SEQUENCE:0
STATUS:CONFIRMED
SUMMARY:13&U-Rnd 19: Shooting Stars Diamonds vs Awesome Angels 13s2
TRANSP:OPAQUE
END:VEVENT
END:VCALENDAR
