BEGIN:VCALENDAR
PRODID:-//Google Inc//Google Calendar 70.9054//EN
VERSION:2.0
CALSCALE:GREGORIAN
METHOD:PUBLISH
X-WR-CALNAME:PV Comets Shooting Stars Magic
X-WR-TIMEZONE:Australia/Sydney
X-WR-CALDESC:PV Comets Parkville Calendars
BEGIN:VEVENT
DTSTART:20170722T114500
DTEND:20170722T122500
DTSTAMP:20170723T233916Z
UID:a49405daaedd0cea5c08cd4063f91aed@pvna.com.au
CREATED:20170723T233916Z
DESCRIPTION:2017 Spring Section:17&Under\nRound:Rnd 1
LAST-MODIFIED:20170723T233916Z
LOCATION:Court: 99
SEQUENCE:0
STATUS:CONFIRMED
SUMMARY:17&U-Rnd 1: Shooting Stars Magic vs BYE
TRANSP:OPAQUE
END:VEVENT
BEGIN:VEVENT
DTSTART:20170729T101500
DTEND:20170729T105500
DTSTAMP:20170723T233918Z
UID:e1ff9e3f31e3804e3d7412a476dfdb2c@pvna.com.au
CREATED:20170723T233918Z
DESCRIPTION:2017 Spring Section:17&Under\nRound:Rnd 2\n\nCurrent Ladder:\nTeam            P  W  L  D  Pts\nPhoenix         1  1  0  0  4 \nForce           1  1  0  0  4 \nShooting Stars Magic 1  1  0  0  4 \nBlazers         1  0  1  0  0 \nV.S.Connected II 1  0  1  0  0 \nFireflyz        0  0  0  0  0 \n
LAST-MODIFIED:20170723T233918Z
LOCATION:Court: 3
SEQUENCE:0
STATUS:CONFIRMED
SUMMARY:17&U-Rnd 2: V.S.Connected II vs Shooting Stars Magic
TRANSP:OPAQUE
END:VEVENT
BEGIN:VEVENT
DTSTART:20170805T114500
DTEND:20170805T122500
DTSTAMP:20170723T233918Z
UID:ad077678fd3479ab48f5caa762cebd43@pvna.com.au
CREATED:20170723T233918Z
DESCRIPTION:2017 Spring Section:17&Under\nRound:Rnd 3
LAST-MODIFIED:20170723T233918Z
LOCATION:Court: 1
SEQUENCE:0
STATUS:CONFIRMED
SUMMARY:17&U-Rnd 3: Shooting Stars Magic vs Blazers
TRANSP:OPAQUE
END:VEVENT
BEGIN:VEVENT
DTSTART:20170812T114500
DTEND:20170812T122500
DTSTAMP:20170723T233918Z
UID:0b755a105c04af7081771f5620a16d20@pvna.com.au
CREATED:20170723T233918Z
DESCRIPTION:2017 Spring Section:17&Under\nRound:Rnd 4
LAST-MODIFIED:20170723T233918Z
LOCATION:Court: 2
SEQUENCE:0
STATUS:CONFIRMED
SUMMARY:17&U-Rnd 4: Force vs Shooting Stars Magic
TRANSP:OPAQUE
END:VEVENT
BEGIN:VEVENT
DTSTART:20170819T114500
DTEND:20170819T122500
DTSTAMP:20170723T233918Z
UID:ce1b1e3d1f29e903118efe0584e27a22@pvna.com.au
CREATED:20170723T233918Z
DESCRIPTION:2017 Spring Section:17&Under\nRound:Rnd 5
LAST-MODIFIED:20170723T233918Z
LOCATION:Court: 2
SEQUENCE:0
STATUS:CONFIRMED
SUMMARY:17&U-Rnd 5: Shooting Stars Magic vs Phoenix
TRANSP:OPAQUE
END:VEVENT
BEGIN:VEVENT
DTSTART:20170826T114500
DTEND:20170826T122500
DTSTAMP:20170723T233918Z
UID:ca0ede6a3d98f949a408bd3da72fe198@pvna.com.au
CREATED:20170723T233918Z
DESCRIPTION:2017 Spring Section:17&Under\nRound:Rnd 6
LAST-MODIFIED:20170723T233918Z
LOCATION:Court: 2
SEQUENCE:0
STATUS:CONFIRMED
SUMMARY:17&U-Rnd 6: Shooting Stars Magic vs Fireflyz
TRANSP:OPAQUE
END:VEVENT
BEGIN:VEVENT
DTSTART:20170902T101500
DTEND:20170902T105500
DTSTAMP:20170723T233918Z
UID:53ced5cb323cdc144bfce0b93abf959f@pvna.com.au
CREATED:20170723T233918Z
DESCRIPTION:2017 Spring Section:17&Under\nRound:Rnd 7
LAST-MODIFIED:20170723T233918Z
LOCATION:Court: 3
SEQUENCE:0
STATUS:CONFIRMED
SUMMARY:17&U-Rnd 7: V.S.Connected II vs Shooting Stars Magic
TRANSP:OPAQUE
END:VEVENT
BEGIN:VEVENT
DTSTART:20170909T114500
DTEND:20170909T122500
DTSTAMP:20170723T233918Z
UID:84ae8504961afd14bd1138c81d5b100b@pvna.com.au
CREATED:20170723T233918Z
DESCRIPTION:2017 Spring Section:17&Under\nRound:Rnd 8
LAST-MODIFIED:20170723T233918Z
LOCATION:Court: 1
SEQUENCE:0
STATUS:CONFIRMED
SUMMARY:17&U-Rnd 8: Shooting Stars Magic vs Blazers
TRANSP:OPAQUE
END:VEVENT
BEGIN:VEVENT
DTSTART:20170916T114500
DTEND:20170916T122500
DTSTAMP:20170723T233918Z
UID:09d0d7889d00083737cf945dbec4f035@pvna.com.au
CREATED:20170723T233918Z
DESCRIPTION:2017 Spring Section:17&Under\nRound:Rnd 9
LAST-MODIFIED:20170723T233918Z
LOCATION:Court: 2
SEQUENCE:0
STATUS:CONFIRMED
SUMMARY:17&U-Rnd 9: Force vs Shooting Stars Magic
TRANSP:OPAQUE
END:VEVENT
BEGIN:VEVENT
DTSTART:20170923T114500
DTEND:20170923T122500
DTSTAMP:20170723T233918Z
UID:8d01a2c657b69df8e6bd4953f0947e23@pvna.com.au
CREATED:20170723T233918Z
DESCRIPTION:2017 Spring Section:17&Under\nRound:Rnd 10
LAST-MODIFIED:20170723T233918Z
LOCATION:Court: 2
SEQUENCE:0
STATUS:CONFIRMED
SUMMARY:17&U-Rnd 10: Shooting Stars Magic vs Phoenix
TRANSP:OPAQUE
END:VEVENT
BEGIN:VEVENT
DTSTART:20171007T114500
DTEND:20171007T122500
DTSTAMP:20170723T233918Z
UID:5635a63617b94b995f2f551b2c75fd95@pvna.com.au
CREATED:20170723T233918Z
DESCRIPTION:2017 Spring Section:17&Under\nRound:Rnd 12
LAST-MODIFIED:20170723T233918Z
LOCATION:Court: 2
SEQUENCE:0
STATUS:CONFIRMED
SUMMARY:17&U-Rnd 12: Shooting Stars Magic vs Fireflyz
TRANSP:OPAQUE
END:VEVENT
BEGIN:VEVENT
DTSTART:20171014T114500
DTEND:20171014T122500
DTSTAMP:20170723T233918Z
UID:1c37da51ed872ba1d29e7cfcd157db4e@pvna.com.au
CREATED:20170723T233918Z
DESCRIPTION:2017 Spring Section:17&Under\nRound:Rnd 13
LAST-MODIFIED:20170723T233918Z
LOCATION:Court: 1
SEQUENCE:0
STATUS:CONFIRMED
SUMMARY:17&U-Rnd 13: V.S.Connected II vs Shooting Stars Magic
TRANSP:OPAQUE
END:VEVENT
BEGIN:VEVENT
DTSTART:20171021T114500
DTEND:20171021T122500
DTSTAMP:20170723T233918Z
UID:e9dff6367197e1aeceaff306f3daab82@pvna.com.au
CREATED:20170723T233918Z
DESCRIPTION:2017 Spring Section:17&Under\nRound:Rnd 14
LAST-MODIFIED:20170723T233918Z
LOCATION:Court: 1
SEQUENCE:0
STATUS:CONFIRMED
SUMMARY:17&U-Rnd 14: Shooting Stars Magic vs Blazers
TRANSP:OPAQUE
END:VEVENT
BEGIN:VEVENT
DTSTART:20171104T114500
DTEND:20171104T122500
DTSTAMP:20170723T233918Z
UID:953f7909e40c31f9506082a71f91d3d3@pvna.com.au
CREATED:20170723T233918Z
DESCRIPTION:2017 Spring Section:17&Under\nRound:Rnd 16
LAST-MODIFIED:20170723T233918Z
LOCATION:Court: 2
SEQUENCE:0
STATUS:CONFIRMED
SUMMARY:17&U-Rnd 16: Shooting Stars Magic vs Phoenix
TRANSP:OPAQUE
END:VEVENT
BEGIN:VEVENT
DTSTART:20171118T114500
DTEND:20171118T122500
DTSTAMP:20170723T233918Z
UID:3c9f7c4dcf1ba35e0e3081ea37ff1cfd@pvna.com.au
CREATED:20170723T233918Z
DESCRIPTION:2017 Spring Section:17&Under\nRound:Rnd 18
LAST-MODIFIED:20170723T233918Z
LOCATION:Court: 2
SEQUENCE:0
STATUS:CONFIRMED
SUMMARY:17&U-Rnd 18: Shooting Stars Magic vs Fireflyz
TRANSP:OPAQUE
END:VEVENT
BEGIN:VEVENT
DTSTART:20171125T101500
DTEND:20171125T105500
DTSTAMP:20170723T233918Z
UID:909efd1a1e40327dce1071f9995e5d4e@pvna.com.au
CREATED:20170723T233918Z
DESCRIPTION:2017 Spring Section:17&Under\nRound:Rnd 19
LAST-MODIFIED:20170723T233918Z
LOCATION:Court: 3
SEQUENCE:0
STATUS:CONFIRMED
SUMMARY:17&U-Rnd 19: V.S.Connected II vs Shooting Stars Magic
TRANSP:OPAQUE
END:VEVENT
END:VCALENDAR
