BEGIN:VCALENDAR
PRODID:-//Google Inc//Google Calendar 70.9054//EN
VERSION:2.0
CALSCALE:GREGORIAN
METHOD:PUBLISH
X-WR-CALNAME:PV Comets Shooting Stars New
X-WR-TIMEZONE:Australia/Sydney
X-WR-CALDESC:PV Comets Parkville Calendars
BEGIN:VEVENT
DTSTART:20170729T110000
DTEND:20170729T114500
DTSTAMP:20170723T233921Z
UID:58b70c9b2c62daf56b1d6b6273dac851@pvna.com.au
CREATED:20170723T233921Z
DESCRIPTION:2017 Spring Section:13&U Res\nRound:Rnd 2\n\nCurrent Ladder:\nTeam            P  W  L  D  Pts\nShooting Stars Diamonds 2  2  0  0  8 \nAwesome Angels 13s2 1  1  0  0  4 \nNeon Nightmares 13s 1  1  0  0  4 \nStorm           1  0  1  0  0 \nNorthern Blues Monkeys 1  0  1  0  0 \nNorthern Blues Joeys 1  0  1  0  0 \nShooting Stars New 0  0  0  0  0 \n
LAST-MODIFIED:20170723T233921Z
LOCATION:Court: 2
SEQUENCE:0
STATUS:CONFIRMED
SUMMARY:13&U-Rnd 2: Shooting Stars New vs Shooting Stars Diamonds
TRANSP:OPAQUE
END:VEVENT
BEGIN:VEVENT
DTSTART:20170805T101500
DTEND:20170805T105500
DTSTAMP:20170723T233921Z
UID:495baeb3652ac08e3ad56b058c02e157@pvna.com.au
CREATED:20170723T233921Z
DESCRIPTION:2017 Spring Section:13&U Res\nRound:Rnd 3
LAST-MODIFIED:20170723T233921Z
LOCATION:Court: 2
SEQUENCE:0
STATUS:CONFIRMED
SUMMARY:13&U-Rnd 3: Neon Nightmares 13s vs Shooting Stars New
TRANSP:OPAQUE
END:VEVENT
BEGIN:VEVENT
DTSTART:20170812T101500
DTEND:20170812T105500
DTSTAMP:20170723T233921Z
UID:f20626a44abf2fdc80af4df2841264a4@pvna.com.au
CREATED:20170723T233921Z
DESCRIPTION:2017 Spring Section:13&U Res\nRound:Rnd 4
LAST-MODIFIED:20170723T233921Z
LOCATION:Court: 1
SEQUENCE:0
STATUS:CONFIRMED
SUMMARY:13&U-Rnd 4: Northern Blues Joeys vs Shooting Stars New
TRANSP:OPAQUE
END:VEVENT
BEGIN:VEVENT
DTSTART:20170819T101500
DTEND:20170819T105500
DTSTAMP:20170723T233921Z
UID:47233a40e54c2f7d7e488b033a5972ab@pvna.com.au
CREATED:20170723T233921Z
DESCRIPTION:2017 Spring Section:13&U Res\nRound:Rnd 5
LAST-MODIFIED:20170723T233921Z
LOCATION:Court: 2
SEQUENCE:0
STATUS:CONFIRMED
SUMMARY:13&U-Rnd 5: Shooting Stars New vs Storm
TRANSP:OPAQUE
END:VEVENT
BEGIN:VEVENT
DTSTART:20170826T101500
DTEND:20170826T105500
DTSTAMP:20170723T233921Z
UID:23f18eff11d9574a28924f3fbeff9e9c@pvna.com.au
CREATED:20170723T233921Z
DESCRIPTION:2017 Spring Section:13&U Res\nRound:Rnd 6
LAST-MODIFIED:20170723T233921Z
LOCATION:Court: 1
SEQUENCE:0
STATUS:CONFIRMED
SUMMARY:13&U-Rnd 6: Shooting Stars New vs Awesome Angels 13s2
TRANSP:OPAQUE
END:VEVENT
BEGIN:VEVENT
DTSTART:20170902T101500
DTEND:20170902T105500
DTSTAMP:20170723T233921Z
UID:f81c54b77c286feaf5ecf2ff128b1016@pvna.com.au
CREATED:20170723T233921Z
DESCRIPTION:2017 Spring Section:13&U Res\nRound:Rnd 7
LAST-MODIFIED:20170723T233921Z
LOCATION:Court: 99
SEQUENCE:0
STATUS:CONFIRMED
SUMMARY:13&U-Rnd 7: Shooting Stars New vs BYE
TRANSP:OPAQUE
END:VEVENT
BEGIN:VEVENT
DTSTART:20170909T101500
DTEND:20170909T105500
DTSTAMP:20170723T233921Z
UID:690354c1dff66b895fc533203d2ca5b2@pvna.com.au
CREATED:20170723T233921Z
DESCRIPTION:2017 Spring Section:13&U Res\nRound:Rnd 8
LAST-MODIFIED:20170723T233921Z
LOCATION:Court: 3
SEQUENCE:0
STATUS:CONFIRMED
SUMMARY:13&U-Rnd 8: Northern Blues Monkeys vs Shooting Stars New
TRANSP:OPAQUE
END:VEVENT
BEGIN:VEVENT
DTSTART:20170916T101500
DTEND:20170916T105500
DTSTAMP:20170723T233921Z
UID:98434ed5f0cd02457acdadbd074cf1bc@pvna.com.au
CREATED:20170723T233921Z
DESCRIPTION:2017 Spring Section:13&U Res\nRound:Rnd 9
LAST-MODIFIED:20170723T233921Z
LOCATION:Court: 3
SEQUENCE:0
STATUS:CONFIRMED
SUMMARY:13&U-Rnd 9: Shooting Stars New vs Shooting Stars Diamonds
TRANSP:OPAQUE
END:VEVENT
BEGIN:VEVENT
DTSTART:20170923T101500
DTEND:20170923T105500
DTSTAMP:20170723T233921Z
UID:3a4adb412522511d73b62e3c9b034c57@pvna.com.au
CREATED:20170723T233921Z
DESCRIPTION:2017 Spring Section:13&U Res\nRound:Rnd 10
LAST-MODIFIED:20170723T233921Z
LOCATION:Court: 2
SEQUENCE:0
STATUS:CONFIRMED
SUMMARY:13&U-Rnd 10: Neon Nightmares 13s vs Shooting Stars New
TRANSP:OPAQUE
END:VEVENT
BEGIN:VEVENT
DTSTART:20170930T093000
DTEND:20170930T101000
DTSTAMP:20170723T233921Z
UID:0838a7dde2efdccb75a3e9a970aa2a9b@pvna.com.au
CREATED:20170723T233921Z
DESCRIPTION:2017 Spring Section:13&U Res\nRound:Rnd 11
LAST-MODIFIED:20170723T233921Z
LOCATION:Court: 3
SEQUENCE:0
STATUS:CONFIRMED
SUMMARY:13&U-Rnd 11: Northern Blues Joeys vs Shooting Stars New
TRANSP:OPAQUE
END:VEVENT
BEGIN:VEVENT
DTSTART:20171007T101500
DTEND:20171007T105500
DTSTAMP:20170723T233921Z
UID:8e6ee8751d3497e90c8804607063843a@pvna.com.au
CREATED:20170723T233921Z
DESCRIPTION:2017 Spring Section:13&U Res\nRound:Rnd 12
LAST-MODIFIED:20170723T233921Z
LOCATION:Court: 2
SEQUENCE:0
STATUS:CONFIRMED
SUMMARY:13&U-Rnd 12: Shooting Stars New vs Storm
TRANSP:OPAQUE
END:VEVENT
BEGIN:VEVENT
DTSTART:20171014T101500
DTEND:20171014T105500
DTSTAMP:20170723T233921Z
UID:2a285716e69ab0b89bc5a253908f7090@pvna.com.au
CREATED:20170723T233921Z
DESCRIPTION:2017 Spring Section:13&U Res\nRound:Rnd 13
LAST-MODIFIED:20170723T233921Z
LOCATION:Court: 1
SEQUENCE:0
STATUS:CONFIRMED
SUMMARY:13&U-Rnd 13: Shooting Stars New vs Awesome Angels 13s2
TRANSP:OPAQUE
END:VEVENT
BEGIN:VEVENT
DTSTART:20171021T101500
DTEND:20171021T105500
DTSTAMP:20170723T233921Z
UID:afd21a12e2cf2f3278cffd06838dca23@pvna.com.au
CREATED:20170723T233921Z
DESCRIPTION:2017 Spring Section:13&U Res\nRound:Rnd 14
LAST-MODIFIED:20170723T233921Z
LOCATION:Court: 99
SEQUENCE:0
STATUS:CONFIRMED
SUMMARY:13&U-Rnd 14: Shooting Stars New vs BYE
TRANSP:OPAQUE
END:VEVENT
BEGIN:VEVENT
DTSTART:20171104T101500
DTEND:20171104T105500
DTSTAMP:20170723T233921Z
UID:df28c4e0aadffb8faa780cebf29f6b4c@pvna.com.au
CREATED:20170723T233921Z
DESCRIPTION:2017 Spring Section:13&U Res\nRound:Rnd 16
LAST-MODIFIED:20170723T233921Z
LOCATION:Court: 3
SEQUENCE:0
STATUS:CONFIRMED
SUMMARY:13&U-Rnd 16: Northern Blues Monkeys vs Shooting Stars New
TRANSP:OPAQUE
END:VEVENT
BEGIN:VEVENT
DTSTART:20171111T101500
DTEND:20171111T105500
DTSTAMP:20170723T233921Z
UID:ebd3c2299af03f4ad42fe169bddc1973@pvna.com.au
CREATED:20170723T233921Z
DESCRIPTION:2017 Spring Section:13&U Res\nRound:Rnd 17
LAST-MODIFIED:20170723T233921Z
LOCATION:Court: 3
SEQUENCE:0
STATUS:CONFIRMED
SUMMARY:13&U-Rnd 17: Shooting Stars New vs Shooting Stars Diamonds
TRANSP:OPAQUE
END:VEVENT
BEGIN:VEVENT
DTSTART:20171118T101500
DTEND:20171118T105500
DTSTAMP:20170723T233921Z
UID:6647e5b242fe441410c28ab123d0d515@pvna.com.au
CREATED:20170723T233921Z
DESCRIPTION:2017 Spring Section:13&U Res\nRound:Rnd 18
LAST-MODIFIED:20170723T233921Z
LOCATION:Court: 2
SEQUENCE:0
STATUS:CONFIRMED
SUMMARY:13&U-Rnd 18: Neon Nightmares 13s vs Shooting Stars New
TRANSP:OPAQUE
END:VEVENT
BEGIN:VEVENT
DTSTART:20171125T093000
DTEND:20171125T101000
DTSTAMP:20170723T233921Z
UID:a92040c201055ad5ce115c81568edfd4@pvna.com.au
CREATED:20170723T233921Z
DESCRIPTION:2017 Spring Section:13&U Res\nRound:Rnd 19
LAST-MODIFIED:20170723T233921Z
LOCATION:Court: 3
SEQUENCE:0
STATUS:CONFIRMED
SUMMARY:13&U-Rnd 19: Northern Blues Joeys vs Shooting Stars New
TRANSP:OPAQUE
END:VEVENT
END:VCALENDAR
