BEGIN:VCALENDAR
PRODID:-//Google Inc//Google Calendar 70.9054//EN
VERSION:2.0
CALSCALE:GREGORIAN
METHOD:PUBLISH
X-WR-CALNAME:PV Comets Shooting Stars Sparks
X-WR-TIMEZONE:Australia/Sydney
X-WR-CALDESC:PV Comets Parkville Calendars
BEGIN:VEVENT
DTSTART:20170722T084500
DTEND:20170722T092500
DTSTAMP:20170723T233921Z
UID:36fe49e97d476f4439ad2f86fb1a2fca@pvna.com.au
CREATED:20170723T233921Z
DESCRIPTION:2017 Spring Section:15&U Res\nRound:Rnd 1
LAST-MODIFIED:20170723T233921Z
LOCATION:Court: 99
SEQUENCE:0
STATUS:CONFIRMED
SUMMARY:15&U-Rnd 1: Shooting Stars Sparks vs BYE
TRANSP:OPAQUE
END:VEVENT
BEGIN:VEVENT
DTSTART:20170729T114500
DTEND:20170729T122500
DTSTAMP:20170723T233925Z
UID:8f98158fa6517d9493737b51e598e5b9@pvna.com.au
CREATED:20170723T233925Z
DESCRIPTION:2017 Spring Section:15&U Res\nRound:Rnd 2\n\nCurrent Ladder:\nTeam            P  W  L  D  Pts\nRavens          1  1  0  0  4 \nShooting Stars Sparks 1  1  0  0  4 \nRoyal Sapphires 1  1  0  0  4 \nNorthern Blues Kangas 1  0  1  0  0 \nAwesome Angels 15s1 1  0  1  0  0 \n
LAST-MODIFIED:20170723T233925Z
LOCATION:Court: 1
SEQUENCE:0
STATUS:CONFIRMED
SUMMARY:15&U-Rnd 2: Royal Sapphires vs Shooting Stars Sparks
TRANSP:OPAQUE
END:VEVENT
BEGIN:VEVENT
DTSTART:20170805T110000
DTEND:20170805T114500
DTSTAMP:20170723T233925Z
UID:2d72a56c481f3bd33eeba06689d8fc16@pvna.com.au
CREATED:20170723T233925Z
DESCRIPTION:2017 Spring Section:15&U Res\nRound:Rnd 3
LAST-MODIFIED:20170723T233925Z
LOCATION:Court: 4
SEQUENCE:0
STATUS:CONFIRMED
SUMMARY:15&U-Rnd 3: Shooting Stars Sparks vs Northern Blues Kangas
TRANSP:OPAQUE
END:VEVENT
BEGIN:VEVENT
DTSTART:20170812T110000
DTEND:20170812T114500
DTSTAMP:20170723T233925Z
UID:96a49cafcd3becd9d6e71eb443a4097e@pvna.com.au
CREATED:20170723T233925Z
DESCRIPTION:2017 Spring Section:15&U Res\nRound:Rnd 4
LAST-MODIFIED:20170723T233925Z
LOCATION:Court: 2
SEQUENCE:0
STATUS:CONFIRMED
SUMMARY:15&U-Rnd 4: Shooting Stars Sparks vs Awesome Angels 15s1
TRANSP:OPAQUE
END:VEVENT
BEGIN:VEVENT
DTSTART:20170819T110000
DTEND:20170819T114500
DTSTAMP:20170723T233925Z
UID:6a84a2105d8af8947e695a2ecedfadef@pvna.com.au
CREATED:20170723T233925Z
DESCRIPTION:2017 Spring Section:15&U Res\nRound:Rnd 5
LAST-MODIFIED:20170723T233925Z
LOCATION:Court: 2
SEQUENCE:0
STATUS:CONFIRMED
SUMMARY:15&U-Rnd 5: Shooting Stars Sparks vs Ravens
TRANSP:OPAQUE
END:VEVENT
BEGIN:VEVENT
DTSTART:20170826T114500
DTEND:20170826T122500
DTSTAMP:20170723T233925Z
UID:b009e3d8051b5fd55d3cee5508139fd4@pvna.com.au
CREATED:20170723T233925Z
DESCRIPTION:2017 Spring Section:15&U Res\nRound:Rnd 6
LAST-MODIFIED:20170723T233925Z
LOCATION:Court: 99
SEQUENCE:0
STATUS:CONFIRMED
SUMMARY:15&U-Rnd 6: Shooting Stars Sparks vs BYE
TRANSP:OPAQUE
END:VEVENT
BEGIN:VEVENT
DTSTART:20170902T101500
DTEND:20170902T105500
DTSTAMP:20170723T233925Z
UID:a559057ffb4ef792887442323a89bfb4@pvna.com.au
CREATED:20170723T233925Z
DESCRIPTION:2017 Spring Section:15&U Res\nRound:Rnd 7
LAST-MODIFIED:20170723T233925Z
LOCATION:Court: 2
SEQUENCE:0
STATUS:CONFIRMED
SUMMARY:15&U-Rnd 7: Royal Sapphires vs Shooting Stars Sparks
TRANSP:OPAQUE
END:VEVENT
BEGIN:VEVENT
DTSTART:20170909T110000
DTEND:20170909T114500
DTSTAMP:20170723T233925Z
UID:7c9c3a3656d733dd3dbd2ffbfec58f1f@pvna.com.au
CREATED:20170723T233925Z
DESCRIPTION:2017 Spring Section:15&U Res\nRound:Rnd 8
LAST-MODIFIED:20170723T233925Z
LOCATION:Court: 4
SEQUENCE:0
STATUS:CONFIRMED
SUMMARY:15&U-Rnd 8: Shooting Stars Sparks vs Northern Blues Kangas
TRANSP:OPAQUE
END:VEVENT
BEGIN:VEVENT
DTSTART:20170916T110000
DTEND:20170916T114500
DTSTAMP:20170723T233925Z
UID:3bd2a5a64add88117eb6d3ab27c2ed95@pvna.com.au
CREATED:20170723T233925Z
DESCRIPTION:2017 Spring Section:15&U Res\nRound:Rnd 9
LAST-MODIFIED:20170723T233925Z
LOCATION:Court: 2
SEQUENCE:0
STATUS:CONFIRMED
SUMMARY:15&U-Rnd 9: Shooting Stars Sparks vs Awesome Angels 15s1
TRANSP:OPAQUE
END:VEVENT
BEGIN:VEVENT
DTSTART:20170923T110000
DTEND:20170923T114500
DTSTAMP:20170723T233925Z
UID:439323ae67d9845844fa171f237efec5@pvna.com.au
CREATED:20170723T233925Z
DESCRIPTION:2017 Spring Section:15&U Res\nRound:Rnd 10
LAST-MODIFIED:20170723T233925Z
LOCATION:Court: 2
SEQUENCE:0
STATUS:CONFIRMED
SUMMARY:15&U-Rnd 10: Shooting Stars Sparks vs Ravens
TRANSP:OPAQUE
END:VEVENT
BEGIN:VEVENT
DTSTART:20171007T114500
DTEND:20171007T122500
DTSTAMP:20170723T233925Z
UID:61ad04669f07e3eb443862f041381dd9@pvna.com.au
CREATED:20170723T233925Z
DESCRIPTION:2017 Spring Section:15&U Res\nRound:Rnd 12
LAST-MODIFIED:20170723T233925Z
LOCATION:Court: 99
SEQUENCE:0
STATUS:CONFIRMED
SUMMARY:15&U-Rnd 12: Shooting Stars Sparks vs BYE
TRANSP:OPAQUE
END:VEVENT
BEGIN:VEVENT
DTSTART:20171014T110000
DTEND:20171014T114500
DTSTAMP:20170723T233925Z
UID:a27cb7c70435cc601a72f08ee0bedbe4@pvna.com.au
CREATED:20170723T233925Z
DESCRIPTION:2017 Spring Section:15&U Res\nRound:Rnd 13
LAST-MODIFIED:20170723T233925Z
LOCATION:Court: 4
SEQUENCE:0
STATUS:CONFIRMED
SUMMARY:15&U-Rnd 13: Royal Sapphires vs Shooting Stars Sparks
TRANSP:OPAQUE
END:VEVENT
BEGIN:VEVENT
DTSTART:20171021T110000
DTEND:20171021T114500
DTSTAMP:20170723T233925Z
UID:4f94c185417c49b6c0422692e46724ce@pvna.com.au
CREATED:20170723T233925Z
DESCRIPTION:2017 Spring Section:15&U Res\nRound:Rnd 14
LAST-MODIFIED:20170723T233925Z
LOCATION:Court: 4
SEQUENCE:0
STATUS:CONFIRMED
SUMMARY:15&U-Rnd 14: Shooting Stars Sparks vs Northern Blues Kangas
TRANSP:OPAQUE
END:VEVENT
BEGIN:VEVENT
DTSTART:20171104T110000
DTEND:20171104T114500
DTSTAMP:20170723T233925Z
UID:2ccfe95f26cf0c99ee0c62ac98354c26@pvna.com.au
CREATED:20170723T233925Z
DESCRIPTION:2017 Spring Section:15&U Res\nRound:Rnd 16
LAST-MODIFIED:20170723T233925Z
LOCATION:Court: 2
SEQUENCE:0
STATUS:CONFIRMED
SUMMARY:15&U-Rnd 16: Shooting Stars Sparks vs Ravens
TRANSP:OPAQUE
END:VEVENT
BEGIN:VEVENT
DTSTART:20171118T114500
DTEND:20171118T122500
DTSTAMP:20170723T233925Z
UID:71c7f227324e480b403612ad53e3eda6@pvna.com.au
CREATED:20170723T233925Z
DESCRIPTION:2017 Spring Section:15&U Res\nRound:Rnd 18
LAST-MODIFIED:20170723T233925Z
LOCATION:Court: 99
SEQUENCE:0
STATUS:CONFIRMED
SUMMARY:15&U-Rnd 18: Shooting Stars Sparks vs BYE
TRANSP:OPAQUE
END:VEVENT
BEGIN:VEVENT
DTSTART:20171125T101500
DTEND:20171125T105500
DTSTAMP:20170723T233925Z
UID:df0a349587e8f338bcc4151b011a99f3@pvna.com.au
CREATED:20170723T233925Z
DESCRIPTION:2017 Spring Section:15&U Res\nRound:Rnd 19
LAST-MODIFIED:20170723T233925Z
LOCATION:Court: 2
SEQUENCE:0
STATUS:CONFIRMED
SUMMARY:15&U-Rnd 19: Royal Sapphires vs Shooting Stars Sparks
TRANSP:OPAQUE
END:VEVENT
END:VCALENDAR
