BEGIN:VCALENDAR
PRODID:-//Google Inc//Google Calendar 70.9054//EN
VERSION:2.0
CALSCALE:GREGORIAN
METHOD:PUBLISH
X-WR-CALNAME:PV Comets Storm
X-WR-TIMEZONE:Australia/Sydney
X-WR-CALDESC:PV Comets Parkville Calendars
BEGIN:VEVENT
DTSTART:20170722T093000
DTEND:20170722T101000
DTSTAMP:20171209T065844Z
UID:7738840ee91e7dca497b38ced39b490f@pvna.com.au
CREATED:20171209T065844Z
DESCRIPTION:2017 Spring Section:13&U Res\nRound:Rnd 1
LAST-MODIFIED:20171209T065844Z
LOCATION:Court: 1
SEQUENCE:0
STATUS:CONFIRMED
SUMMARY:13&U-Rnd 1: Storm (17) vs Neon Nightmares 13s (24)
TRANSP:OPAQUE
END:VEVENT
BEGIN:VEVENT
DTSTART:20170729T123000
DTEND:20170729T131000
DTSTAMP:20171209T065844Z
UID:60ecd9438f70f311bb2905ac9eb17c79@pvna.com.au
CREATED:20171209T065844Z
DESCRIPTION:2017 Spring Section:13&U Res\nRound:Rnd 2
LAST-MODIFIED:20171209T065844Z
LOCATION:Court: 1
SEQUENCE:0
STATUS:CONFIRMED
SUMMARY:13&U-Rnd 2: Storm (10) vs 13s (26)
TRANSP:OPAQUE
END:VEVENT
BEGIN:VEVENT
DTSTART:20170805T093000
DTEND:20170805T101000
DTSTAMP:20171209T065844Z
UID:7b4c43c0c3284f342b185772f8145f64@pvna.com.au
CREATED:20171209T065844Z
DESCRIPTION:2017 Spring Section:13&U Res\nRound:Rnd 3
LAST-MODIFIED:20171209T065844Z
LOCATION:Court: 3
SEQUENCE:0
STATUS:CONFIRMED
SUMMARY:13&U-Rnd 3: SS Diamonds (7) vs Storm (20)
TRANSP:OPAQUE
END:VEVENT
BEGIN:VEVENT
DTSTART:20170812T084500
DTEND:20170812T092500
DTSTAMP:20171209T065844Z
UID:ed452881e87a2b1cfc8bb804bf4d8103@pvna.com.au
CREATED:20171209T065844Z
DESCRIPTION:2017 Spring Section:13&U Res\nRound:Rnd 4
LAST-MODIFIED:20171209T065844Z
LOCATION:Court: 3
SEQUENCE:0
STATUS:CONFIRMED
SUMMARY:13&U-Rnd 4: Storm (36) vs Northern Blues Monkeys (8)
TRANSP:OPAQUE
END:VEVENT
BEGIN:VEVENT
DTSTART:20170819T114500
DTEND:20170819T122500
DTSTAMP:20171209T065844Z
UID:85e24052f62748384f10ad2547413574@pvna.com.au
CREATED:20171209T065844Z
DESCRIPTION:2017 Spring Section:13&U Res\nRound:Rnd 5
LAST-MODIFIED:20171209T065844Z
LOCATION:Court: 2
SEQUENCE:0
STATUS:CONFIRMED
SUMMARY:13&U-Rnd 5: SS Rubies (14) vs Storm (25)
TRANSP:OPAQUE
END:VEVENT
BEGIN:VEVENT
DTSTART:20170826T093000
DTEND:20170826T101000
DTSTAMP:20171209T065844Z
UID:e2f3fc5e81519a52e92534fbb9144657@pvna.com.au
CREATED:20171209T065844Z
DESCRIPTION:2017 Spring Section:13&U Res\nRound:Rnd 6
LAST-MODIFIED:20171209T065844Z
LOCATION:Court: 1
SEQUENCE:0
STATUS:CONFIRMED
SUMMARY:13&U-Rnd 6: Northern Blues Joeys (4) vs Storm (27)
TRANSP:OPAQUE
END:VEVENT
BEGIN:VEVENT
DTSTART:20170902T114500
DTEND:20170902T122500
DTSTAMP:20171209T065844Z
UID:05836853d2b93522a87d6f9c9d6ea74e@pvna.com.au
CREATED:20171209T065844Z
DESCRIPTION:2017 Spring Section:13&U Res\nRound:Rnd 7
LAST-MODIFIED:20171209T065844Z
LOCATION:Court: 1
SEQUENCE:0
STATUS:CONFIRMED
SUMMARY:13&U-Rnd 7: Storm (33) vs Awesome Angels 13s2 (7)
TRANSP:OPAQUE
END:VEVENT
BEGIN:VEVENT
DTSTART:20170909T101500
DTEND:20170909T105500
DTSTAMP:20171209T065844Z
UID:6cae8585f4c774e88e18d67432d2e871@pvna.com.au
CREATED:20171209T065844Z
DESCRIPTION:2017 Spring Section:13&U Res\nRound:Rnd 8
LAST-MODIFIED:20171209T065844Z
LOCATION:Court: 2
SEQUENCE:0
STATUS:CONFIRMED
SUMMARY:13&U-Rnd 8: Storm (24) vs Neon Nightmares 13s (13)
TRANSP:OPAQUE
END:VEVENT
BEGIN:VEVENT
DTSTART:20170916T123000
DTEND:20170916T131000
DTSTAMP:20171209T065844Z
UID:31ee1c90c60accf8e9004849e759b7c2@pvna.com.au
CREATED:20171209T065844Z
DESCRIPTION:2017 Spring Section:13&U Res\nRound:Rnd 9
LAST-MODIFIED:20171209T065844Z
LOCATION:Court: 2
SEQUENCE:0
STATUS:CONFIRMED
SUMMARY:13&U-Rnd 9: Storm (27) vs Northern Blues Wallabies (4)
TRANSP:OPAQUE
END:VEVENT
BEGIN:VEVENT
DTSTART:20170923T101500
DTEND:20170923T105500
DTSTAMP:20171209T065844Z
UID:937d11c5c1170c792c0fb08000149545@pvna.com.au
CREATED:20171209T065844Z
DESCRIPTION:2017 Spring Section:13&U Res\nRound:Rnd 10
LAST-MODIFIED:20171209T065844Z
LOCATION:Court: 4
SEQUENCE:0
STATUS:CONFIRMED
SUMMARY:13&U-Rnd 10: SS Diamonds (10) vs Storm (0)
TRANSP:OPAQUE
END:VEVENT
BEGIN:VEVENT
DTSTART:20171014T084500
DTEND:20171014T092500
DTSTAMP:20171209T065844Z
UID:c4bcbf32a42ae894420e3a0e39633cc5@pvna.com.au
CREATED:20171209T065844Z
DESCRIPTION:2017 Spring Section:13&U Res\nRound:Rnd 11
LAST-MODIFIED:20171209T065844Z
LOCATION:Court: 4
SEQUENCE:0
STATUS:CONFIRMED
SUMMARY:13&U-Rnd 11: 13s (34) vs Storm (3)
TRANSP:OPAQUE
END:VEVENT
BEGIN:VEVENT
DTSTART:20171021T114500
DTEND:20171021T122500
DTSTAMP:20171209T065844Z
UID:efefb979a3e7e7c21a71784ec12dc6d4@pvna.com.au
CREATED:20171209T065844Z
DESCRIPTION:2017 Spring Section:13&U Res\nRound:Rnd 12
LAST-MODIFIED:20171209T065844Z
LOCATION:Court: 2
SEQUENCE:0
STATUS:CONFIRMED
SUMMARY:13&U-Rnd 12: SS Rubies (4) vs Storm (28)
TRANSP:OPAQUE
END:VEVENT
BEGIN:VEVENT
DTSTART:20171028T114500
DTEND:20171028T122500
DTSTAMP:20171209T065844Z
UID:3bfcb5195db4a4e79f3f59d25371257d@pvna.com.au
CREATED:20171209T065844Z
DESCRIPTION:2017 Spring Section:13&U Res\nRound:Rnd 13
LAST-MODIFIED:20171209T065844Z
LOCATION:Court: 1
SEQUENCE:0
STATUS:CONFIRMED
SUMMARY:13&U-Rnd 13: Northern Blues Joeys (15) vs Storm (15)
TRANSP:OPAQUE
END:VEVENT
BEGIN:VEVENT
DTSTART:20171111T114500
DTEND:20171111T122500
DTSTAMP:20171209T065844Z
UID:7ba5bd20af4de6cfa7b978bcdd6d2c01@pvna.com.au
CREATED:20171209T065844Z
DESCRIPTION:2017 Spring Section:13&U Res\nRound:Rnd 14
LAST-MODIFIED:20171209T065844Z
LOCATION:Court: 1
SEQUENCE:0
STATUS:CONFIRMED
SUMMARY:13&U-Rnd 14: Storm (21) vs Awesome Angels 13s2 (13)
TRANSP:OPAQUE
END:VEVENT
BEGIN:VEVENT
DTSTART:20171118T101500
DTEND:20171118T105500
DTSTAMP:20171209T065844Z
UID:457abcf02879658ad5127bd37ac84e2d@pvna.com.au
CREATED:20171209T065844Z
DESCRIPTION:2017 Spring Section:13&U Res\nRound:Rnd 15
LAST-MODIFIED:20171209T065844Z
LOCATION:Court: 3
SEQUENCE:0
STATUS:CONFIRMED
SUMMARY:13&U-Rnd 15: Storm (17) vs Neon Nightmares 13s (15)
TRANSP:OPAQUE
END:VEVENT
BEGIN:VEVENT
DTSTART:20171125T104000
DTEND:20171125T105500
DTSTAMP:20171209T065844Z
UID:3365344dbeb45802a1e8a660b6ee66c0@pvna.com.au
CREATED:20171209T065844Z
DESCRIPTION:2017 Spring Section:13&U Res\nRound:Semi
LAST-MODIFIED:20171209T065844Z
LOCATION:Court: 3
SEQUENCE:0
STATUS:CONFIRMED
SUMMARY:13&U-Semi: Neon Nightmares 13s (15) vs Storm (28)
TRANSP:OPAQUE
END:VEVENT
BEGIN:VEVENT
DTSTART:20171209T090000
DTEND:20171209T094000
DTSTAMP:20171209T065844Z
UID:a9e7b7cbf888ccbae601a1fbfa25c4da@pvna.com.au
CREATED:20171209T065844Z
DESCRIPTION:2017 Spring Section:13&U Res\nRound:Grand
LAST-MODIFIED:20171209T065844Z
LOCATION:Court: 2
SEQUENCE:0
STATUS:CONFIRMED
SUMMARY:13&U-Grand: Storm (22) vs Neon Nightmares 13s (17)
TRANSP:OPAQUE
END:VEVENT
END:VCALENDAR
