BEGIN:VCALENDAR
PRODID:-//Google Inc//Google Calendar 70.9054//EN
VERSION:2.0
CALSCALE:GREGORIAN
METHOD:PUBLISH
X-WR-CALNAME:PV Comets Strikers
X-WR-TIMEZONE:Australia/Sydney
X-WR-CALDESC:PV Comets Parkville Calendars
BEGIN:VEVENT
DTSTART:20170722T101500
DTEND:20170722T105500
DTSTAMP:20171209T065844Z
UID:0f1d3c980c397b4ce92c412239377ddf@pvna.com.au
CREATED:20171209T065844Z
DESCRIPTION:2017 Spring Section:13&Under\nRound:Rnd 1
LAST-MODIFIED:20171209T065844Z
LOCATION:Court: 99
SEQUENCE:0
STATUS:CONFIRMED
SUMMARY:13&U-Rnd 1: Strikers vs BYE
TRANSP:OPAQUE
END:VEVENT
BEGIN:VEVENT
DTSTART:20170729T101500
DTEND:20170729T105500
DTSTAMP:20171209T065844Z
UID:d034b7e68b7d42e402b2cc72e22cd2b0@pvna.com.au
CREATED:20171209T065844Z
DESCRIPTION:2017 Spring Section:13&Under\nRound:Rnd 2
LAST-MODIFIED:20171209T065844Z
LOCATION:Court: 2
SEQUENCE:0
STATUS:CONFIRMED
SUMMARY:13&U-Rnd 2: Northern Blues Koalas (11) vs Strikers (28)
TRANSP:OPAQUE
END:VEVENT
BEGIN:VEVENT
DTSTART:20170805T093000
DTEND:20170805T101000
DTSTAMP:20171209T065844Z
UID:4f992e9ca9e5fa0417e68b99d07012b6@pvna.com.au
CREATED:20171209T065844Z
DESCRIPTION:2017 Spring Section:13&Under\nRound:Rnd 3
LAST-MODIFIED:20171209T065844Z
LOCATION:Court: 2
SEQUENCE:0
STATUS:CONFIRMED
SUMMARY:13&U-Rnd 3: Thunderbolts (18) vs Strikers (11)
TRANSP:OPAQUE
END:VEVENT
BEGIN:VEVENT
DTSTART:20170812T110000
DTEND:20170812T114500
DTSTAMP:20171209T065844Z
UID:bf1076e3a84d5d5ce6c93905c5bb791f@pvna.com.au
CREATED:20171209T065844Z
DESCRIPTION:2017 Spring Section:13&Under\nRound:Rnd 4
LAST-MODIFIED:20171209T065844Z
LOCATION:Court: 2
SEQUENCE:0
STATUS:CONFIRMED
SUMMARY:13&U-Rnd 4: Power (11) vs Strikers (12)
TRANSP:OPAQUE
END:VEVENT
BEGIN:VEVENT
DTSTART:20170819T110000
DTEND:20170819T114500
DTSTAMP:20171209T065844Z
UID:7aae61377ecaceb173fd11c8004fdc20@pvna.com.au
CREATED:20171209T065844Z
DESCRIPTION:2017 Spring Section:13&Under\nRound:Rnd 5
LAST-MODIFIED:20171209T065844Z
LOCATION:Court: 2
SEQUENCE:0
STATUS:CONFIRMED
SUMMARY:13&U-Rnd 5: Firestorm (27) vs Strikers (6)
TRANSP:OPAQUE
END:VEVENT
BEGIN:VEVENT
DTSTART:20170826T093000
DTEND:20170826T101000
DTSTAMP:20171209T065844Z
UID:00e41b4ed0f269a7cd1b592904bda97d@pvna.com.au
CREATED:20171209T065844Z
DESCRIPTION:2017 Spring Section:13&Under\nRound:Rnd 6
LAST-MODIFIED:20171209T065844Z
LOCATION:Court: 2
SEQUENCE:0
STATUS:CONFIRMED
SUMMARY:13&U-Rnd 6: Awesome Angels 13s1 (30) vs Strikers (8)
TRANSP:OPAQUE
END:VEVENT
BEGIN:VEVENT
DTSTART:20170902T110000
DTEND:20170902T114500
DTSTAMP:20171209T065844Z
UID:f6ef400070d0cbd2c9f786841834b538@pvna.com.au
CREATED:20171209T065844Z
DESCRIPTION:2017 Spring Section:13&Under\nRound:Rnd 7
LAST-MODIFIED:20171209T065844Z
LOCATION:Court: 2
SEQUENCE:0
STATUS:CONFIRMED
SUMMARY:13&U-Rnd 7: Wildcats (12) vs Strikers (8)
TRANSP:OPAQUE
END:VEVENT
BEGIN:VEVENT
DTSTART:20170909T114500
DTEND:20170909T122500
DTSTAMP:20171209T065844Z
UID:0bc45ce8d3abee807661237b6327e392@pvna.com.au
CREATED:20171209T065844Z
DESCRIPTION:2017 Spring Section:13&Under\nRound:Rnd 8
LAST-MODIFIED:20171209T065844Z
LOCATION:Court: 2
SEQUENCE:0
STATUS:CONFIRMED
SUMMARY:13&U-Rnd 8: Strikers (28) vs 13s Res (2)
TRANSP:OPAQUE
END:VEVENT
BEGIN:VEVENT
DTSTART:20170916T093000
DTEND:20170916T101000
DTSTAMP:20171209T065844Z
UID:d17265ec0085da34363e2ad9b50a3b22@pvna.com.au
CREATED:20171209T065844Z
DESCRIPTION:2017 Spring Section:13&Under\nRound:Rnd 9
LAST-MODIFIED:20171209T065844Z
LOCATION:Court: 2
SEQUENCE:0
STATUS:CONFIRMED
SUMMARY:13&U-Rnd 9: Firestorm (29) vs Strikers (9)
TRANSP:OPAQUE
END:VEVENT
BEGIN:VEVENT
DTSTART:20170923T093000
DTEND:20170923T101000
DTSTAMP:20171209T065844Z
UID:3e5b358a04e37717b1d4f3f708da7773@pvna.com.au
CREATED:20171209T065844Z
DESCRIPTION:2017 Spring Section:13&Under\nRound:Rnd 10
LAST-MODIFIED:20171209T065844Z
LOCATION:Court: 4
SEQUENCE:0
STATUS:CONFIRMED
SUMMARY:13&U-Rnd 10: Strikers (8) vs Power (21)
TRANSP:OPAQUE
END:VEVENT
BEGIN:VEVENT
DTSTART:20171014T093000
DTEND:20171014T101000
DTSTAMP:20171209T065844Z
UID:c2848a1dac29764cb8b7c54a8dcf7b9b@pvna.com.au
CREATED:20171209T065844Z
DESCRIPTION:2017 Spring Section:13&Under\nRound:Rnd 11
LAST-MODIFIED:20171209T065844Z
LOCATION:Court: 2
SEQUENCE:0
STATUS:CONFIRMED
SUMMARY:13&U-Rnd 11: Northern Blues Koalas (10) vs Strikers (13)
TRANSP:OPAQUE
END:VEVENT
BEGIN:VEVENT
DTSTART:20171021T084500
DTEND:20171021T092500
DTSTAMP:20171209T065844Z
UID:e0e3d99855f8652809e3b1a281960220@pvna.com.au
CREATED:20171209T065844Z
DESCRIPTION:2017 Spring Section:13&Under\nRound:Rnd 12
LAST-MODIFIED:20171209T065844Z
LOCATION:Court: 3
SEQUENCE:0
STATUS:CONFIRMED
SUMMARY:13&U-Rnd 12: Thunderbolts (40) vs Strikers (7)
TRANSP:OPAQUE
END:VEVENT
BEGIN:VEVENT
DTSTART:20171028T093000
DTEND:20171028T101000
DTSTAMP:20171209T065844Z
UID:8461c0314443de4084c85cbc9830c3f6@pvna.com.au
CREATED:20171209T065844Z
DESCRIPTION:2017 Spring Section:13&Under\nRound:Rnd 13
LAST-MODIFIED:20171209T065844Z
LOCATION:Court: 3
SEQUENCE:0
STATUS:CONFIRMED
SUMMARY:13&U-Rnd 13: Awesome Angels 13s1 (16) vs Strikers (15)
TRANSP:OPAQUE
END:VEVENT
BEGIN:VEVENT
DTSTART:20171111T084500
DTEND:20171111T092500
DTSTAMP:20171209T065844Z
UID:8d727b8dc910b1d16a0b68a5d0bd922e@pvna.com.au
CREATED:20171209T065844Z
DESCRIPTION:2017 Spring Section:13&Under\nRound:Rnd 14
LAST-MODIFIED:20171209T065844Z
LOCATION:Court: 4
SEQUENCE:0
STATUS:CONFIRMED
SUMMARY:13&U-Rnd 14: Wildcats (22) vs Strikers (21)
TRANSP:OPAQUE
END:VEVENT
BEGIN:VEVENT
DTSTART:20171118T084500
DTEND:20171118T092500
DTSTAMP:20171209T065844Z
UID:c72a22edc65b296d5dec484893ac04ec@pvna.com.au
CREATED:20171209T065844Z
DESCRIPTION:2017 Spring Section:13&Under\nRound:Rnd 15
LAST-MODIFIED:20171209T065844Z
LOCATION:Court: 3
SEQUENCE:0
STATUS:CONFIRMED
SUMMARY:13&U-Rnd 15: Strikers (40) vs 13s Res (1)
TRANSP:OPAQUE
END:VEVENT
END:VCALENDAR
