BEGIN:VCALENDAR
PRODID:-//Google Inc//Google Calendar 70.9054//EN
VERSION:2.0
CALSCALE:GREGORIAN
METHOD:PUBLISH
X-WR-CALNAME:PV Comets Superstars
X-WR-TIMEZONE:Australia/Sydney
X-WR-CALDESC:PV Comets Parkville Calendars
BEGIN:VEVENT
DTSTART:20170204T113000
DTEND:20170204T105500
DTSTAMP:20170701T154701Z
UID:4c5fde130ab7aa56794089408d0db454@pvna.com.au
CREATED:20170701T154701Z
DESCRIPTION:2017 Autumn Section:19&Under\nRound:Rnd 1
LAST-MODIFIED:20170701T154701Z
LOCATION:Court: 99
SEQUENCE:0
STATUS:CONFIRMED
SUMMARY:19&U-Rnd 1: Superstars vs BYE
TRANSP:OPAQUE
END:VEVENT
BEGIN:VEVENT
DTSTART:20170211T101500
DTEND:20170211T105500
DTSTAMP:20170701T154701Z
UID:61ae8237df49745dd1e7a3ed0cc6731e@pvna.com.au
CREATED:20170701T154701Z
DESCRIPTION:2017 Autumn Section:19&Under\nRound:Rnd 2
LAST-MODIFIED:20170701T154701Z
LOCATION:Court: 3
SEQUENCE:0
STATUS:CONFIRMED
SUMMARY:19&U-Rnd 2: 17s (11) vs Superstars (33)
TRANSP:OPAQUE
END:VEVENT
BEGIN:VEVENT
DTSTART:20170218T084500
DTEND:20170218T092500
DTSTAMP:20170701T154701Z
UID:b2765fbb291aa3164a6ad4991b5ca53b@pvna.com.au
CREATED:20170701T154701Z
DESCRIPTION:2017 Autumn Section:19&Under\nRound:Rnd 3
LAST-MODIFIED:20170701T154701Z
LOCATION:Court: 2
SEQUENCE:0
STATUS:CONFIRMED
SUMMARY:19&U-Rnd 3: The Jets (20) vs Superstars (33)
TRANSP:OPAQUE
END:VEVENT
BEGIN:VEVENT
DTSTART:20170225T101500
DTEND:20170225T105500
DTSTAMP:20170701T154701Z
UID:9dc5dfdcc22e4500bf33f0edc5f24b14@pvna.com.au
CREATED:20170701T154701Z
DESCRIPTION:2017 Autumn Section:19&Under\nRound:Rnd 4
LAST-MODIFIED:20170701T154701Z
LOCATION:Court: 3
SEQUENCE:0
STATUS:CONFIRMED
SUMMARY:19&U-Rnd 4: Superstars (21) vs Dynamite (30)
TRANSP:OPAQUE
END:VEVENT
BEGIN:VEVENT
DTSTART:20170304T101500
DTEND:20170304T105500
DTSTAMP:20170701T154701Z
UID:d0ba26fe289067acd7b10f3674fae983@pvna.com.au
CREATED:20170701T154701Z
DESCRIPTION:2017 Autumn Section:19&Under\nRound:Rnd 5
LAST-MODIFIED:20170701T154701Z
LOCATION:Court: 2
SEQUENCE:0
STATUS:CONFIRMED
SUMMARY:19&U-Rnd 5: Blaze Jnr (17) vs Superstars (26)
TRANSP:OPAQUE
END:VEVENT
BEGIN:VEVENT
DTSTART:20170318T093000
DTEND:20170318T101000
DTSTAMP:20170701T154701Z
UID:b3839aa188cbd7e7dc338acbf8677fd4@pvna.com.au
CREATED:20170701T154701Z
DESCRIPTION:2017 Autumn Section:19&Under\nRound:Rnd 6
LAST-MODIFIED:20170701T154701Z
LOCATION:Court: 2
SEQUENCE:0
STATUS:CONFIRMED
SUMMARY:19&U-Rnd 6: Rush (9) vs Superstars (38)
TRANSP:OPAQUE
END:VEVENT
BEGIN:VEVENT
DTSTART:20170325T101500
DTEND:20170325T105500
DTSTAMP:20170701T154701Z
UID:c6dd51b4aac57bdfaef3519bee1d18ec@pvna.com.au
CREATED:20170701T154701Z
DESCRIPTION:2017 Autumn Section:19&Under\nRound:Rnd 7
LAST-MODIFIED:20170701T154701Z
LOCATION:Court: 3
SEQUENCE:0
STATUS:CONFIRMED
SUMMARY:19&U-Rnd 7: Northern Blues Tigers (8) vs Superstars (40)
TRANSP:OPAQUE
END:VEVENT
BEGIN:VEVENT
DTSTART:20170401T101500
DTEND:20170401T105500
DTSTAMP:20170701T154701Z
UID:1536659e5610feb63ba7403d4a389109@pvna.com.au
CREATED:20170701T154701Z
DESCRIPTION:2017 Autumn Section:19&Under\nRound:Rnd 8
LAST-MODIFIED:20170701T154701Z
LOCATION:Court: 1
SEQUENCE:0
STATUS:CONFIRMED
SUMMARY:19&U-Rnd 8: V.S.Connected I (16) vs Superstars (20)
TRANSP:OPAQUE
END:VEVENT
BEGIN:VEVENT
DTSTART:20170422T101500
DTEND:20170422T105500
DTSTAMP:20170701T154701Z
UID:f006890c72f237f85af113e5ba4fda6b@pvna.com.au
CREATED:20170701T154701Z
DESCRIPTION:2017 Autumn Section:19&Under\nRound:Rnd 9
LAST-MODIFIED:20170701T154701Z
LOCATION:Court: 1
SEQUENCE:0
STATUS:CONFIRMED
SUMMARY:19&U-Rnd 9: Cruisers (6) vs Superstars (40)
TRANSP:OPAQUE
END:VEVENT
BEGIN:VEVENT
DTSTART:20170429T084500
DTEND:20170429T092500
DTSTAMP:20170701T154701Z
UID:5cf607a3857b4b31230718f74c04a538@pvna.com.au
CREATED:20170701T154701Z
DESCRIPTION:2017 Autumn Section:19&Under\nRound:Rnd 10
LAST-MODIFIED:20170701T154701Z
LOCATION:Court: 2
SEQUENCE:0
STATUS:CONFIRMED
SUMMARY:19&U-Rnd 10: Superstars (18) vs V.S.Connected I (34)
TRANSP:OPAQUE
END:VEVENT
BEGIN:VEVENT
DTSTART:20170506T101500
DTEND:20170506T105500
DTSTAMP:20170701T154701Z
UID:cd99a1d9bc2543a4575d6eb97053ffa8@pvna.com.au
CREATED:20170701T154701Z
DESCRIPTION:2017 Autumn Section:19&Under\nRound:Rnd 11
LAST-MODIFIED:20170701T154701Z
LOCATION:Court: 2
SEQUENCE:0
STATUS:CONFIRMED
SUMMARY:19&U-Rnd 11: Superstars (22) vs Dynamite (24)
TRANSP:OPAQUE
END:VEVENT
BEGIN:VEVENT
DTSTART:20170513T101500
DTEND:20170513T105500
DTSTAMP:20170701T154701Z
UID:bd4102fb1157b002092d0005f2c6a1c5@pvna.com.au
CREATED:20170701T154701Z
DESCRIPTION:2017 Autumn Section:19&Under\nRound:Rnd 12
LAST-MODIFIED:20170701T154701Z
LOCATION:Court: 1
SEQUENCE:0
STATUS:CONFIRMED
SUMMARY:19&U-Rnd 12: The Jets (23) vs Superstars (30)
TRANSP:OPAQUE
END:VEVENT
BEGIN:VEVENT
DTSTART:20170520T093000
DTEND:20170520T101000
DTSTAMP:20170701T154701Z
UID:96eaf67956952c500871f1899b5c9204@pvna.com.au
CREATED:20170701T154701Z
DESCRIPTION:2017 Autumn Section:19&Under\nRound:Rnd 13
LAST-MODIFIED:20170701T154701Z
LOCATION:Court: 2
SEQUENCE:0
STATUS:CONFIRMED
SUMMARY:19&U-Rnd 13: V.S.Connected I (27) vs Superstars (18)
TRANSP:OPAQUE
END:VEVENT
BEGIN:VEVENT
DTSTART:20170527T101500
DTEND:20170527T105500
DTSTAMP:20170701T154701Z
UID:1d2378c560c8eb0c405beb3d7b7ffa6d@pvna.com.au
CREATED:20170701T154701Z
DESCRIPTION:2017 Autumn Section:19&Under\nRound:Rnd 14
LAST-MODIFIED:20170701T154701Z
LOCATION:Court: 2
SEQUENCE:0
STATUS:CONFIRMED
SUMMARY:19&U-Rnd 14: Superstars (18) vs Dynamite (27)
TRANSP:OPAQUE
END:VEVENT
BEGIN:VEVENT
DTSTART:20170603T093000
DTEND:20170603T101000
DTSTAMP:20170701T154701Z
UID:bc89aeeb82446617d05247ddb970c340@pvna.com.au
CREATED:20170701T154701Z
DESCRIPTION:2017 Autumn Section:19&Under\nRound:Rnd 15
LAST-MODIFIED:20170701T154701Z
LOCATION:Court: 1
SEQUENCE:0
STATUS:CONFIRMED
SUMMARY:19&U-Rnd 15: The Jets (22) vs Superstars (22)
TRANSP:OPAQUE
END:VEVENT
BEGIN:VEVENT
DTSTART:20170617T084500
DTEND:20170617T092500
DTSTAMP:20170701T154701Z
UID:b8e377ce3c7bdae647bee8b94e2690ab@pvna.com.au
CREATED:20170701T154701Z
DESCRIPTION:2017 Autumn Section:19&Under\nRound:Semi
LAST-MODIFIED:20170701T154701Z
LOCATION:Court: 1
SEQUENCE:0
STATUS:CONFIRMED
SUMMARY:19&U-Semi: Superstars (28) vs The Jets (12)
TRANSP:OPAQUE
END:VEVENT
BEGIN:VEVENT
DTSTART:20170624T095000
DTEND:20170624T092500
DTSTAMP:20170701T154701Z
UID:46d8c21d4903b1542cc4ac36e6932cb3@pvna.com.au
CREATED:20170701T154701Z
DESCRIPTION:2017 Autumn Section:19&Under\nRound:Prelim
LAST-MODIFIED:20170701T154701Z
LOCATION:Court: 1
SEQUENCE:0
STATUS:CONFIRMED
SUMMARY:19&U-Prelim: Dynamite (25) vs Superstars (17)
TRANSP:OPAQUE
END:VEVENT
END:VCALENDAR
