BEGIN:VCALENDAR
PRODID:-//Google Inc//Google Calendar 70.9054//EN
VERSION:2.0
CALSCALE:GREGORIAN
METHOD:PUBLISH
X-WR-CALNAME:PV Comets The Jets
X-WR-TIMEZONE:Australia/Sydney
X-WR-CALDESC:PV Comets Parkville Calendars
BEGIN:VEVENT
DTSTART:20170722T084500
DTEND:20170722T092500
DTSTAMP:20171209T065844Z
UID:5b6f5518d99c14d1462c26b3d4393dab@pvna.com.au
CREATED:20171209T065844Z
DESCRIPTION:2017 Spring Section:19&Under\nRound:Rnd 1
LAST-MODIFIED:20171209T065844Z
LOCATION:Court: 4
SEQUENCE:0
STATUS:CONFIRMED
SUMMARY:19&U-Rnd 1: The Jets (37) vs Blaze Jnr (13)
TRANSP:OPAQUE
END:VEVENT
BEGIN:VEVENT
DTSTART:20170729T084500
DTEND:20170729T092500
DTSTAMP:20171209T065844Z
UID:05d5971e8c18fdafd2334e2520ed03d1@pvna.com.au
CREATED:20171209T065844Z
DESCRIPTION:2017 Spring Section:19&Under\nRound:Rnd 2
LAST-MODIFIED:20171209T065844Z
LOCATION:Court: 4
SEQUENCE:0
STATUS:CONFIRMED
SUMMARY:19&U-Rnd 2: Dynamite (42) vs The Jets (24)
TRANSP:OPAQUE
END:VEVENT
BEGIN:VEVENT
DTSTART:20170805T105500
DTEND:20170805T092500
DTSTAMP:20171209T065844Z
UID:1c111b0533e2b2f5995ef638bd3d0e3f@pvna.com.au
CREATED:20171209T065844Z
DESCRIPTION:2017 Spring Section:19&Under\nRound:Rnd 3
LAST-MODIFIED:20171209T065844Z
LOCATION:Court: 1
SEQUENCE:0
STATUS:CONFIRMED
SUMMARY:19&U-Rnd 3: The Jets (23) vs Northern Blues Lions (32)
TRANSP:OPAQUE
END:VEVENT
BEGIN:VEVENT
DTSTART:20170812T105500
DTEND:20170812T092500
DTSTAMP:20171209T065844Z
UID:9728a1db672ccb8683e9fbbb5226bece@pvna.com.au
CREATED:20171209T065844Z
DESCRIPTION:2017 Spring Section:19&Under\nRound:Rnd 4
LAST-MODIFIED:20171209T065844Z
LOCATION:Court: 4
SEQUENCE:0
STATUS:CONFIRMED
SUMMARY:19&U-Rnd 4: Northern Blues Tigers (25) vs The Jets (64)
TRANSP:OPAQUE
END:VEVENT
BEGIN:VEVENT
DTSTART:20170819T131500
DTEND:20170819T135500
DTSTAMP:20171209T065844Z
UID:6a1bdc1724a684c5e1add47b41dc5eb5@pvna.com.au
CREATED:20171209T065844Z
DESCRIPTION:2017 Spring Section:19&Under\nRound:Rnd 5
LAST-MODIFIED:20171209T065844Z
LOCATION:Court: 99
SEQUENCE:0
STATUS:CONFIRMED
SUMMARY:19&U-Rnd 5: The Jets vs BYE
TRANSP:OPAQUE
END:VEVENT
BEGIN:VEVENT
DTSTART:20170826T093000
DTEND:20170826T101000
DTSTAMP:20171209T065844Z
UID:50c877095b04662cb68e4f885fd3f05c@pvna.com.au
CREATED:20171209T065844Z
DESCRIPTION:2017 Spring Section:19&Under\nRound:Rnd 6
LAST-MODIFIED:20171209T065844Z
LOCATION:Court: 3
SEQUENCE:0
STATUS:CONFIRMED
SUMMARY:19&U-Rnd 6: Rush (12) vs The Jets (46)
TRANSP:OPAQUE
END:VEVENT
BEGIN:VEVENT
DTSTART:20170902T084500
DTEND:20170902T092500
DTSTAMP:20171209T065844Z
UID:1f29346ed391277a84864314c70196cd@pvna.com.au
CREATED:20171209T065844Z
DESCRIPTION:2017 Spring Section:19&Under\nRound:Rnd 7
LAST-MODIFIED:20171209T065844Z
LOCATION:Court: 2
SEQUENCE:0
STATUS:CONFIRMED
SUMMARY:19&U-Rnd 7: V.S.Connected I (30) vs The Jets (20)
TRANSP:OPAQUE
END:VEVENT
BEGIN:VEVENT
DTSTART:20170909T093000
DTEND:20170909T101000
DTSTAMP:20171209T065844Z
UID:bde977bc159ea87da2cd8fd12dd3c06a@pvna.com.au
CREATED:20171209T065844Z
DESCRIPTION:2017 Spring Section:19&Under\nRound:Rnd 8
LAST-MODIFIED:20171209T065844Z
LOCATION:Court: 3
SEQUENCE:0
STATUS:CONFIRMED
SUMMARY:19&U-Rnd 8: The Jets (34) vs Blaze Jnr (12)
TRANSP:OPAQUE
END:VEVENT
BEGIN:VEVENT
DTSTART:20170916T101500
DTEND:20170916T105500
DTSTAMP:20171209T065844Z
UID:d8edd91a639b65d2a93ad8472ece223e@pvna.com.au
CREATED:20171209T065844Z
DESCRIPTION:2017 Spring Section:19&Under\nRound:Rnd 9
LAST-MODIFIED:20171209T065844Z
LOCATION:Court: 1
SEQUENCE:0
STATUS:CONFIRMED
SUMMARY:19&U-Rnd 9: Dynamite (13) vs The Jets (21)
TRANSP:OPAQUE
END:VEVENT
BEGIN:VEVENT
DTSTART:20170923T101500
DTEND:20170923T105500
DTSTAMP:20171209T065844Z
UID:a1988a41a608234edbaee0eaf9d9d283@pvna.com.au
CREATED:20171209T065844Z
DESCRIPTION:2017 Spring Section:19&Under\nRound:Rnd 10
LAST-MODIFIED:20171209T065844Z
LOCATION:Court: 2
SEQUENCE:0
STATUS:CONFIRMED
SUMMARY:19&U-Rnd 10: The Jets (33) vs Northern Blues Lions (16)
TRANSP:OPAQUE
END:VEVENT
BEGIN:VEVENT
DTSTART:20171014T093000
DTEND:20171014T101000
DTSTAMP:20171209T065844Z
UID:03a67301da6b33bdde4d18763f0e8b74@pvna.com.au
CREATED:20171209T065844Z
DESCRIPTION:2017 Spring Section:19&Under\nRound:Rnd 11
LAST-MODIFIED:20171209T065844Z
LOCATION:Court: 3
SEQUENCE:0
STATUS:CONFIRMED
SUMMARY:19&U-Rnd 11: Northern Blues Tigers (11) vs The Jets (36)
TRANSP:OPAQUE
END:VEVENT
BEGIN:VEVENT
DTSTART:20171021T131500
DTEND:20171021T135500
DTSTAMP:20171209T065844Z
UID:6791bc8fd9051c2333e5046d7be62df8@pvna.com.au
CREATED:20171209T065844Z
DESCRIPTION:2017 Spring Section:19&Under\nRound:Rnd 12
LAST-MODIFIED:20171209T065844Z
LOCATION:Court: 99
SEQUENCE:0
STATUS:CONFIRMED
SUMMARY:19&U-Rnd 12: The Jets vs BYE
TRANSP:OPAQUE
END:VEVENT
BEGIN:VEVENT
DTSTART:20171028T084500
DTEND:20171028T092500
DTSTAMP:20171209T065844Z
UID:b542d0610446f6909d1d546a55978d96@pvna.com.au
CREATED:20171209T065844Z
DESCRIPTION:2017 Spring Section:19&Under\nRound:Rnd 13
LAST-MODIFIED:20171209T065844Z
LOCATION:Court: 3
SEQUENCE:0
STATUS:CONFIRMED
SUMMARY:19&U-Rnd 13: Rush (16) vs The Jets (44)
TRANSP:OPAQUE
END:VEVENT
BEGIN:VEVENT
DTSTART:20171111T084500
DTEND:20171111T092500
DTSTAMP:20171209T065844Z
UID:cc1598aab5c8391ed60e85f497fb8e83@pvna.com.au
CREATED:20171209T065844Z
DESCRIPTION:2017 Spring Section:19&Under\nRound:Rnd 14
LAST-MODIFIED:20171209T065844Z
LOCATION:Court: 2
SEQUENCE:0
STATUS:CONFIRMED
SUMMARY:19&U-Rnd 14: V.S.Connected I (32) vs The Jets (21)
TRANSP:OPAQUE
END:VEVENT
BEGIN:VEVENT
DTSTART:20171118T093000
DTEND:20171118T101000
DTSTAMP:20171209T065844Z
UID:ea86b7d2cab3cb939e9207d5fed6dea3@pvna.com.au
CREATED:20171209T065844Z
DESCRIPTION:2017 Spring Section:19&Under\nRound:Rnd 15
LAST-MODIFIED:20171209T065844Z
LOCATION:Court: 1
SEQUENCE:0
STATUS:CONFIRMED
SUMMARY:19&U-Rnd 15: The Jets (33) vs Blaze Jnr (10)
TRANSP:OPAQUE
END:VEVENT
BEGIN:VEVENT
DTSTART:20171125T090000
DTEND:20171125T094000
DTSTAMP:20171209T065844Z
UID:42995132181901c497aacc29352dec84@pvna.com.au
CREATED:20171209T065844Z
DESCRIPTION:2017 Spring Section:19&Under\nRound:Semi
LAST-MODIFIED:20171209T065844Z
LOCATION:Court: 2
SEQUENCE:0
STATUS:CONFIRMED
SUMMARY:19&U-Semi: The Jets (21) vs Northern Blues Lions (20)
TRANSP:OPAQUE
END:VEVENT
END:VCALENDAR
