BEGIN:VCALENDAR
PRODID:-//Google Inc//Google Calendar 70.9054//EN
VERSION:2.0
CALSCALE:GREGORIAN
METHOD:PUBLISH
X-WR-CALNAME:PV Comets Thunderbolts
X-WR-TIMEZONE:Australia/Sydney
X-WR-CALDESC:PV Comets Parkville Calendars
BEGIN:VEVENT
DTSTART:20170722T093000
DTEND:20170722T101000
DTSTAMP:20171209T065844Z
UID:0a1337f965b8aa92dc28fc300359f240@pvna.com.au
CREATED:20171209T065844Z
DESCRIPTION:2017 Spring Section:13&Under\nRound:Rnd 1
LAST-MODIFIED:20171209T065844Z
LOCATION:Court: 2
SEQUENCE:0
STATUS:CONFIRMED
SUMMARY:13&U-Rnd 1: Thunderbolts (23) vs Northern Blues Koalas (1)
TRANSP:OPAQUE
END:VEVENT
BEGIN:VEVENT
DTSTART:20170729T093000
DTEND:20170729T101000
DTSTAMP:20171209T065844Z
UID:915324eb097983c20c163183b1a9d39c@pvna.com.au
CREATED:20171209T065844Z
DESCRIPTION:2017 Spring Section:13&Under\nRound:Rnd 2
LAST-MODIFIED:20171209T065844Z
LOCATION:Court: 2
SEQUENCE:0
STATUS:CONFIRMED
SUMMARY:13&U-Rnd 2: Wildcats (21) vs Thunderbolts (23)
TRANSP:OPAQUE
END:VEVENT
BEGIN:VEVENT
DTSTART:20170805T093000
DTEND:20170805T101000
DTSTAMP:20171209T065844Z
UID:3da2049d40b73d7b2dfa36d39f657c58@pvna.com.au
CREATED:20171209T065844Z
DESCRIPTION:2017 Spring Section:13&Under\nRound:Rnd 3
LAST-MODIFIED:20171209T065844Z
LOCATION:Court: 2
SEQUENCE:0
STATUS:CONFIRMED
SUMMARY:13&U-Rnd 3: Thunderbolts (18) vs Strikers (11)
TRANSP:OPAQUE
END:VEVENT
BEGIN:VEVENT
DTSTART:20170812T093000
DTEND:20170812T101000
DTSTAMP:20171209T065844Z
UID:e19d9acfca1636b4c9772206a1bcbcc5@pvna.com.au
CREATED:20171209T065844Z
DESCRIPTION:2017 Spring Section:13&Under\nRound:Rnd 4
LAST-MODIFIED:20171209T065844Z
LOCATION:Court: 3
SEQUENCE:0
STATUS:CONFIRMED
SUMMARY:13&U-Rnd 4: Thunderbolts (11) vs Firestorm (20)
TRANSP:OPAQUE
END:VEVENT
BEGIN:VEVENT
DTSTART:20170819T093000
DTEND:20170819T101000
DTSTAMP:20171209T065844Z
UID:0eb0cde76bff92b46796de6a88dab0f0@pvna.com.au
CREATED:20171209T065844Z
DESCRIPTION:2017 Spring Section:13&Under\nRound:Rnd 5
LAST-MODIFIED:20171209T065844Z
LOCATION:Court: 2
SEQUENCE:0
STATUS:CONFIRMED
SUMMARY:13&U-Rnd 5: Thunderbolts (20) vs Power (16)
TRANSP:OPAQUE
END:VEVENT
BEGIN:VEVENT
DTSTART:20170826T131500
DTEND:20170826T135500
DTSTAMP:20171209T065844Z
UID:34606051481445054244815e56606cfc@pvna.com.au
CREATED:20171209T065844Z
DESCRIPTION:2017 Spring Section:13&Under\nRound:Rnd 6
LAST-MODIFIED:20171209T065844Z
LOCATION:Court: 99
SEQUENCE:0
STATUS:CONFIRMED
SUMMARY:13&U-Rnd 6: Thunderbolts vs BYE
TRANSP:OPAQUE
END:VEVENT
BEGIN:VEVENT
DTSTART:20170902T084500
DTEND:20170902T092500
DTSTAMP:20171209T065844Z
UID:780e866f351d0d8d930e7a543cb0c29f@pvna.com.au
CREATED:20171209T065844Z
DESCRIPTION:2017 Spring Section:13&Under\nRound:Rnd 7
LAST-MODIFIED:20171209T065844Z
LOCATION:Court: 3
SEQUENCE:0
STATUS:CONFIRMED
SUMMARY:13&U-Rnd 7: Awesome Angels 13s1 (13) vs Thunderbolts (15)
TRANSP:OPAQUE
END:VEVENT
BEGIN:VEVENT
DTSTART:20170909T093000
DTEND:20170909T101000
DTSTAMP:20171209T065844Z
UID:66ebcbd6847fbf731b200a5a1a6f0c8e@pvna.com.au
CREATED:20171209T065844Z
DESCRIPTION:2017 Spring Section:13&Under\nRound:Rnd 8
LAST-MODIFIED:20171209T065844Z
LOCATION:Court: 4
SEQUENCE:0
STATUS:CONFIRMED
SUMMARY:13&U-Rnd 8: Thunderbolts (26) vs Northern Blues Koalas (4)
TRANSP:OPAQUE
END:VEVENT
BEGIN:VEVENT
DTSTART:20170916T084500
DTEND:20170916T092500
DTSTAMP:20171209T065844Z
UID:0049315a9850710b592c450175a050d4@pvna.com.au
CREATED:20171209T065844Z
DESCRIPTION:2017 Spring Section:13&Under\nRound:Rnd 9
LAST-MODIFIED:20171209T065844Z
LOCATION:Court: 4
SEQUENCE:0
STATUS:CONFIRMED
SUMMARY:13&U-Rnd 9: Thunderbolts (19) vs Power (13)
TRANSP:OPAQUE
END:VEVENT
BEGIN:VEVENT
DTSTART:20170923T084500
DTEND:20170923T092500
DTSTAMP:20171209T065844Z
UID:c4876ac36447751201eef8e21695158b@pvna.com.au
CREATED:20171209T065844Z
DESCRIPTION:2017 Spring Section:13&Under\nRound:Rnd 10
LAST-MODIFIED:20171209T065844Z
LOCATION:Court: 1
SEQUENCE:0
STATUS:CONFIRMED
SUMMARY:13&U-Rnd 10: Firestorm (17) vs Thunderbolts (12)
TRANSP:OPAQUE
END:VEVENT
BEGIN:VEVENT
DTSTART:20171014T084500
DTEND:20171014T092500
DTSTAMP:20171209T065844Z
UID:63ee3fbc10e5f16734b08cc00990b98f@pvna.com.au
CREATED:20171209T065844Z
DESCRIPTION:2017 Spring Section:13&Under\nRound:Rnd 11
LAST-MODIFIED:20171209T065844Z
LOCATION:Court: 1
SEQUENCE:0
STATUS:CONFIRMED
SUMMARY:13&U-Rnd 11: Wildcats (14) vs Thunderbolts (24)
TRANSP:OPAQUE
END:VEVENT
BEGIN:VEVENT
DTSTART:20171021T084500
DTEND:20171021T092500
DTSTAMP:20171209T065844Z
UID:c34005d7439bb31966008e3df259ce44@pvna.com.au
CREATED:20171209T065844Z
DESCRIPTION:2017 Spring Section:13&Under\nRound:Rnd 12
LAST-MODIFIED:20171209T065844Z
LOCATION:Court: 3
SEQUENCE:0
STATUS:CONFIRMED
SUMMARY:13&U-Rnd 12: Thunderbolts (40) vs Strikers (7)
TRANSP:OPAQUE
END:VEVENT
BEGIN:VEVENT
DTSTART:20171028T123000
DTEND:20171028T131000
DTSTAMP:20171209T065844Z
UID:ad8b892880ccf49231c20ee61fdc6896@pvna.com.au
CREATED:20171209T065844Z
DESCRIPTION:2017 Spring Section:13&Under\nRound:Rnd 13
LAST-MODIFIED:20171209T065844Z
LOCATION:Court: 3
SEQUENCE:0
STATUS:CONFIRMED
SUMMARY:13&U-Rnd 13: Thunderbolts (34) vs 13s Res (4)
TRANSP:OPAQUE
END:VEVENT
BEGIN:VEVENT
DTSTART:20171111T084500
DTEND:20171111T092500
DTSTAMP:20171209T065844Z
UID:ec5b0263322bbbbb1524866210e16b36@pvna.com.au
CREATED:20171209T065844Z
DESCRIPTION:2017 Spring Section:13&Under\nRound:Rnd 14
LAST-MODIFIED:20171209T065844Z
LOCATION:Court: 3
SEQUENCE:0
STATUS:CONFIRMED
SUMMARY:13&U-Rnd 14: Awesome Angels 13s1 (10) vs Thunderbolts (34)
TRANSP:OPAQUE
END:VEVENT
BEGIN:VEVENT
DTSTART:20171118T084500
DTEND:20171118T092500
DTSTAMP:20171209T065844Z
UID:269b92c1fd1b4103748fcf2306ad01b6@pvna.com.au
CREATED:20171209T065844Z
DESCRIPTION:2017 Spring Section:13&Under\nRound:Rnd 15
LAST-MODIFIED:20171209T065844Z
LOCATION:Court: 2
SEQUENCE:0
STATUS:CONFIRMED
SUMMARY:13&U-Rnd 15: Thunderbolts (17) vs Northern Blues Koalas (10)
TRANSP:OPAQUE
END:VEVENT
BEGIN:VEVENT
DTSTART:20171125T122000
DTEND:20171125T092500
DTSTAMP:20171209T065844Z
UID:613ed63e380caba4ceecd253426f23ac@pvna.com.au
CREATED:20171209T065844Z
DESCRIPTION:2017 Spring Section:13&Under\nRound:Semi
LAST-MODIFIED:20171209T065844Z
LOCATION:Court: 5
SEQUENCE:0
STATUS:CONFIRMED
SUMMARY:13&U-Semi: Firestorm (13) vs Thunderbolts (21)
TRANSP:OPAQUE
END:VEVENT
BEGIN:VEVENT
DTSTART:20171209T100000
DTEND:20171209T092500
DTSTAMP:20171209T065844Z
UID:0bfb7c0adf6ef189d656f4fd36e560aa@pvna.com.au
CREATED:20171209T065844Z
DESCRIPTION:2017 Spring Section:13&Under\nRound:Grand
LAST-MODIFIED:20171209T065844Z
LOCATION:Court: 2
SEQUENCE:0
STATUS:CONFIRMED
SUMMARY:13&U-Grand: Thunderbolts (24) vs Firestorm (20)
TRANSP:OPAQUE
END:VEVENT
END:VCALENDAR
