BEGIN:VCALENDAR
PRODID:-//Google Inc//Google Calendar 70.9054//EN
VERSION:2.0
CALSCALE:GREGORIAN
METHOD:PUBLISH
X-WR-CALNAME:PV Comets V.S.Connected II
X-WR-TIMEZONE:Australia/Sydney
X-WR-CALDESC:PV Comets Parkville Calendars
BEGIN:VEVENT
DTSTART:20170722T084500
DTEND:20170722T092500
DTSTAMP:20171209T065844Z
UID:5e4445ae17b3dc79dc48681ec625dc20@pvna.com.au
CREATED:20171209T065844Z
DESCRIPTION:2017 Spring Section:17&Under\nRound:Rnd 1
LAST-MODIFIED:20171209T065844Z
LOCATION:Court: 3
SEQUENCE:0
STATUS:CONFIRMED
SUMMARY:17&U-Rnd 1: Phoenix (19) vs V.S.Connected II (13)
TRANSP:OPAQUE
END:VEVENT
BEGIN:VEVENT
DTSTART:20170729T101500
DTEND:20170729T105500
DTSTAMP:20171209T065844Z
UID:9d601e141328ce448d5e11f459dcee07@pvna.com.au
CREATED:20171209T065844Z
DESCRIPTION:2017 Spring Section:17&Under\nRound:Rnd 2
LAST-MODIFIED:20171209T065844Z
LOCATION:Court: 3
SEQUENCE:0
STATUS:CONFIRMED
SUMMARY:17&U-Rnd 2: V.S.Connected II (30) vs SS Magic (10)
TRANSP:OPAQUE
END:VEVENT
BEGIN:VEVENT
DTSTART:20170805T131500
DTEND:20170805T135500
DTSTAMP:20171209T065844Z
UID:645ff7d3b1fa3477824a4aaa97d8fe89@pvna.com.au
CREATED:20171209T065844Z
DESCRIPTION:2017 Spring Section:17&Under\nRound:Rnd 3
LAST-MODIFIED:20171209T065844Z
LOCATION:Court: 99
SEQUENCE:0
STATUS:CONFIRMED
SUMMARY:17&U-Rnd 3: V.S.Connected II vs BYE
TRANSP:OPAQUE
END:VEVENT
BEGIN:VEVENT
DTSTART:20170812T101500
DTEND:20170812T105500
DTSTAMP:20171209T065844Z
UID:582dba8efd8a4a37dff7673cf6354e03@pvna.com.au
CREATED:20171209T065844Z
DESCRIPTION:2017 Spring Section:17&Under\nRound:Rnd 4
LAST-MODIFIED:20171209T065844Z
LOCATION:Court: 1
SEQUENCE:0
STATUS:CONFIRMED
SUMMARY:17&U-Rnd 4: Force (8) vs V.S.Connected II (42)
TRANSP:OPAQUE
END:VEVENT
BEGIN:VEVENT
DTSTART:20170819T101500
DTEND:20170819T105500
DTSTAMP:20171209T065844Z
UID:29d57e76073cb624388ce5a2082636e4@pvna.com.au
CREATED:20171209T065844Z
DESCRIPTION:2017 Spring Section:17&Under\nRound:Rnd 5
LAST-MODIFIED:20171209T065844Z
LOCATION:Court: 3
SEQUENCE:0
STATUS:CONFIRMED
SUMMARY:17&U-Rnd 5: Blazers (11) vs V.S.Connected II (21)
TRANSP:OPAQUE
END:VEVENT
BEGIN:VEVENT
DTSTART:20170826T101500
DTEND:20170826T105500
DTSTAMP:20171209T065844Z
UID:8e5471874520c9396e4aec3c93027ba6@pvna.com.au
CREATED:20171209T065844Z
DESCRIPTION:2017 Spring Section:17&Under\nRound:Rnd 6
LAST-MODIFIED:20171209T065844Z
LOCATION:Court: 1
SEQUENCE:0
STATUS:CONFIRMED
SUMMARY:17&U-Rnd 6: Phoenix (18) vs V.S.Connected II (15)
TRANSP:OPAQUE
END:VEVENT
BEGIN:VEVENT
DTSTART:20170902T093000
DTEND:20170902T101000
DTSTAMP:20171209T065844Z
UID:67caa901348e34beaaefe89d4b16602d@pvna.com.au
CREATED:20171209T065844Z
DESCRIPTION:2017 Spring Section:17&Under\nRound:Rnd 7
LAST-MODIFIED:20171209T065844Z
LOCATION:Court: 1
SEQUENCE:0
STATUS:CONFIRMED
SUMMARY:17&U-Rnd 7: V.S.Connected II (24) vs SS Magic (15)
TRANSP:OPAQUE
END:VEVENT
BEGIN:VEVENT
DTSTART:20170909T131500
DTEND:20170909T135500
DTSTAMP:20171209T065844Z
UID:03d3d4929e8682b1e34c3f03d71ecd21@pvna.com.au
CREATED:20171209T065844Z
DESCRIPTION:2017 Spring Section:17&Under\nRound:Rnd 8
LAST-MODIFIED:20171209T065844Z
LOCATION:Court: 99
SEQUENCE:0
STATUS:CONFIRMED
SUMMARY:17&U-Rnd 8: V.S.Connected II vs BYE
TRANSP:OPAQUE
END:VEVENT
BEGIN:VEVENT
DTSTART:20170916T093000
DTEND:20170916T101000
DTSTAMP:20171209T065844Z
UID:4460c57a7b5b92008ef3e3a8579a6b8b@pvna.com.au
CREATED:20171209T065844Z
DESCRIPTION:2017 Spring Section:17&Under\nRound:Rnd 9
LAST-MODIFIED:20171209T065844Z
LOCATION:Court: 3
SEQUENCE:0
STATUS:CONFIRMED
SUMMARY:17&U-Rnd 9: Blazers (17) vs V.S.Connected II (23)
TRANSP:OPAQUE
END:VEVENT
BEGIN:VEVENT
DTSTART:20170923T093000
DTEND:20170923T101000
DTSTAMP:20171209T065844Z
UID:2f860d7cb7b308d48e47231fc2f9870c@pvna.com.au
CREATED:20171209T065844Z
DESCRIPTION:2017 Spring Section:17&Under\nRound:Rnd 10
LAST-MODIFIED:20171209T065844Z
LOCATION:Court: 1
SEQUENCE:0
STATUS:CONFIRMED
SUMMARY:17&U-Rnd 10: Force (5) vs V.S.Connected II (39)
TRANSP:OPAQUE
END:VEVENT
BEGIN:VEVENT
DTSTART:20171014T093000
DTEND:20171014T101000
DTSTAMP:20171209T065844Z
UID:1cec03960fb64ad4e79710947f85e228@pvna.com.au
CREATED:20171209T065844Z
DESCRIPTION:2017 Spring Section:17&Under\nRound:Rnd 11
LAST-MODIFIED:20171209T065844Z
LOCATION:Court: 1
SEQUENCE:0
STATUS:CONFIRMED
SUMMARY:17&U-Rnd 11: Phoenix (25) vs V.S.Connected II (23)
TRANSP:OPAQUE
END:VEVENT
BEGIN:VEVENT
DTSTART:20171021T093000
DTEND:20171021T101000
DTSTAMP:20171209T065844Z
UID:b6b73bd68bb33553c028773bd492e4b6@pvna.com.au
CREATED:20171209T065844Z
DESCRIPTION:2017 Spring Section:17&Under\nRound:Rnd 12
LAST-MODIFIED:20171209T065844Z
LOCATION:Court: 1
SEQUENCE:0
STATUS:CONFIRMED
SUMMARY:17&U-Rnd 12: SS Magic (25) vs V.S.Connected II (27)
TRANSP:OPAQUE
END:VEVENT
BEGIN:VEVENT
DTSTART:20171028T131500
DTEND:20171028T135500
DTSTAMP:20171209T065844Z
UID:81e2141cb048c498ec948b18d428e525@pvna.com.au
CREATED:20171209T065844Z
DESCRIPTION:2017 Spring Section:17&Under\nRound:Rnd 13
LAST-MODIFIED:20171209T065844Z
LOCATION:Court: 99
SEQUENCE:0
STATUS:CONFIRMED
SUMMARY:17&U-Rnd 13: V.S.Connected II vs BYE
TRANSP:OPAQUE
END:VEVENT
BEGIN:VEVENT
DTSTART:20171111T093000
DTEND:20171111T101000
DTSTAMP:20171209T065844Z
UID:670a9f188b6d146dcd8bd6a4fc6a34fe@pvna.com.au
CREATED:20171209T065844Z
DESCRIPTION:2017 Spring Section:17&Under\nRound:Rnd 14
LAST-MODIFIED:20171209T065844Z
LOCATION:Court: 1
SEQUENCE:0
STATUS:CONFIRMED
SUMMARY:17&U-Rnd 14: V.S.Connected II (31) vs Blazers (16)
TRANSP:OPAQUE
END:VEVENT
BEGIN:VEVENT
DTSTART:20171118T093000
DTEND:20171118T101000
DTSTAMP:20171209T065844Z
UID:bd132cb859f8d007e181cd645cd3d500@pvna.com.au
CREATED:20171209T065844Z
DESCRIPTION:2017 Spring Section:17&Under\nRound:Rnd 15
LAST-MODIFIED:20171209T065844Z
LOCATION:Court: 2
SEQUENCE:0
STATUS:CONFIRMED
SUMMARY:17&U-Rnd 15: Force (19) vs V.S.Connected II (32)
TRANSP:OPAQUE
END:VEVENT
BEGIN:VEVENT
DTSTART:20171125T095000
DTEND:20171125T101000
DTSTAMP:20171209T065844Z
UID:c51ee104fd8e45c1835508379e5c3dd3@pvna.com.au
CREATED:20171209T065844Z
DESCRIPTION:2017 Spring Section:17&Under\nRound:Semi
LAST-MODIFIED:20171209T065844Z
LOCATION:Court: 1
SEQUENCE:0
STATUS:CONFIRMED
SUMMARY:17&U-Semi: Phoenix (24) vs V.S.Connected II (21)
TRANSP:OPAQUE
END:VEVENT
BEGIN:VEVENT
DTSTART:20171202T110000
DTEND:20171202T114500
DTSTAMP:20171209T065844Z
UID:6c17cc006f4c236ef13c5548d403981d@pvna.com.au
CREATED:20171209T065844Z
DESCRIPTION:2017 Spring Section:17&Under\nRound:Prelim
LAST-MODIFIED:20171209T065844Z
LOCATION:Court: 5
SEQUENCE:0
STATUS:CONFIRMED
SUMMARY:17&U-Prelim: V.S.Connected II (0) vs SS Magic (10)
TRANSP:OPAQUE
END:VEVENT
END:VCALENDAR
