BEGIN:VCALENDAR
PRODID:-//Google Inc//Google Calendar 70.9054//EN
VERSION:2.0
CALSCALE:GREGORIAN
METHOD:PUBLISH
X-WR-CALNAME:PV Comets V.S.Connected III
X-WR-TIMEZONE:Australia/Sydney
X-WR-CALDESC:PV Comets Parkville Calendars
BEGIN:VEVENT
DTSTART:20170204T093000
DTEND:20170204T101000
DTSTAMP:20170701T154703Z
UID:6f1f9ff952f0748ed4b4be55558d7a24@pvna.com.au
CREATED:20170701T154703Z
DESCRIPTION:2017 Autumn Section:15&Under\nRound:Rnd 1
LAST-MODIFIED:20170701T154703Z
LOCATION:Court: 2
SEQUENCE:0
STATUS:CONFIRMED
SUMMARY:15&U-Rnd 1: Ravens (1) vs V.S.Connected III (34)
TRANSP:OPAQUE
END:VEVENT
BEGIN:VEVENT
DTSTART:20170211T093000
DTEND:20170211T101000
DTSTAMP:20170701T154703Z
UID:a2af9855391dbc8f28cbfd8abb11f368@pvna.com.au
CREATED:20170701T154703Z
DESCRIPTION:2017 Autumn Section:15&Under\nRound:Rnd 2
LAST-MODIFIED:20170701T154703Z
LOCATION:Court: 99
SEQUENCE:0
STATUS:CONFIRMED
SUMMARY:15&U-Rnd 2: V.S.Connected III vs BYE
TRANSP:OPAQUE
END:VEVENT
BEGIN:VEVENT
DTSTART:20170218T084500
DTEND:20170218T092500
DTSTAMP:20170701T154703Z
UID:9f0be2619277152c3dd294f042302c2f@pvna.com.au
CREATED:20170701T154703Z
DESCRIPTION:2017 Autumn Section:15&Under\nRound:Rnd 3
LAST-MODIFIED:20170701T154703Z
LOCATION:Court: 3
SEQUENCE:0
STATUS:CONFIRMED
SUMMARY:15&U-Rnd 3: Northern Blues Cheetahs (12) vs V.S.Connected III (27)
TRANSP:OPAQUE
END:VEVENT
BEGIN:VEVENT
DTSTART:20170225T093000
DTEND:20170225T101000
DTSTAMP:20170701T154703Z
UID:3d319bc9b91395a5e797ed90eebe8e2e@pvna.com.au
CREATED:20170701T154703Z
DESCRIPTION:2017 Autumn Section:15&Under\nRound:Rnd 4
LAST-MODIFIED:20170701T154703Z
LOCATION:Court: 2
SEQUENCE:0
STATUS:CONFIRMED
SUMMARY:15&U-Rnd 4: Shooting Stars Sparks (9) vs V.S.Connected III (40)
TRANSP:OPAQUE
END:VEVENT
BEGIN:VEVENT
DTSTART:20170304T131500
DTEND:20170304T135500
DTSTAMP:20170701T154703Z
UID:ea65aa7b17e6e19eab5fa8d4dba70a93@pvna.com.au
CREATED:20170701T154703Z
DESCRIPTION:2017 Autumn Section:15&Under\nRound:Rnd 5
LAST-MODIFIED:20170701T154703Z
LOCATION:Court: 3
SEQUENCE:0
STATUS:CONFIRMED
SUMMARY:15&U-Rnd 5: V.S.Connected III (10) vs Awesome Angels 15s1 (0)
TRANSP:OPAQUE
END:VEVENT
BEGIN:VEVENT
DTSTART:20170318T093000
DTEND:20170318T101000
DTSTAMP:20170701T154703Z
UID:6c9ec0a39f8e3c742a58d8590c95ea86@pvna.com.au
CREATED:20170701T154703Z
DESCRIPTION:2017 Autumn Section:15&Under\nRound:Rnd 6
LAST-MODIFIED:20170701T154703Z
LOCATION:Court: 3
SEQUENCE:0
STATUS:CONFIRMED
SUMMARY:15&U-Rnd 6: Lightning Bolts (14) vs V.S.Connected III (31)
TRANSP:OPAQUE
END:VEVENT
BEGIN:VEVENT
DTSTART:20170325T084500
DTEND:20170325T092500
DTSTAMP:20170701T154703Z
UID:90f9636f0f85bd4b788200b7847418cb@pvna.com.au
CREATED:20170701T154703Z
DESCRIPTION:2017 Autumn Section:15&Under\nRound:Rnd 7
LAST-MODIFIED:20170701T154703Z
LOCATION:Court: 1
SEQUENCE:0
STATUS:CONFIRMED
SUMMARY:15&U-Rnd 7: Roxy (29) vs V.S.Connected III (26)
TRANSP:OPAQUE
END:VEVENT
BEGIN:VEVENT
DTSTART:20170401T084500
DTEND:20170401T092500
DTSTAMP:20170701T154703Z
UID:e24ae1dd0e638865ef362e64a8ff559a@pvna.com.au
CREATED:20170701T154703Z
DESCRIPTION:2017 Autumn Section:15&Under\nRound:Rnd 8
LAST-MODIFIED:20170701T154703Z
LOCATION:Court: 1
SEQUENCE:0
STATUS:CONFIRMED
SUMMARY:15&U-Rnd 8: Northern Blues Cheetahs (11) vs V.S.Connected III (22)
TRANSP:OPAQUE
END:VEVENT
BEGIN:VEVENT
DTSTART:20170422T093000
DTEND:20170422T101000
DTSTAMP:20170701T154703Z
UID:da3fbc511c9acaca0600974457561412@pvna.com.au
CREATED:20170701T154703Z
DESCRIPTION:2017 Autumn Section:15&Under\nRound:Rnd 9
LAST-MODIFIED:20170701T154703Z
LOCATION:Court: 2
SEQUENCE:0
STATUS:CONFIRMED
SUMMARY:15&U-Rnd 9: Shooting Stars Sparks (8) vs V.S.Connected III (25)
TRANSP:OPAQUE
END:VEVENT
BEGIN:VEVENT
DTSTART:20170429T084500
DTEND:20170429T092500
DTSTAMP:20170701T154703Z
UID:a120e860419026d993c217988c92e010@pvna.com.au
CREATED:20170701T154703Z
DESCRIPTION:2017 Autumn Section:15&Under\nRound:Rnd 10
LAST-MODIFIED:20170701T154703Z
LOCATION:Court: 1
SEQUENCE:0
STATUS:CONFIRMED
SUMMARY:15&U-Rnd 10: Northern Blues Leopards (18) vs V.S.Connected III (36)
TRANSP:OPAQUE
END:VEVENT
BEGIN:VEVENT
DTSTART:20170506T093000
DTEND:20170506T101000
DTSTAMP:20170701T154703Z
UID:2de5d3b452ef973156cb30543a35752e@pvna.com.au
CREATED:20170701T154703Z
DESCRIPTION:2017 Autumn Section:15&Under\nRound:Rnd 11
LAST-MODIFIED:20170701T154703Z
LOCATION:Court: 1
SEQUENCE:0
STATUS:CONFIRMED
SUMMARY:15&U-Rnd 11: Lightning Bolts (28) vs V.S.Connected III (14)
TRANSP:OPAQUE
END:VEVENT
BEGIN:VEVENT
DTSTART:20170513T093000
DTEND:20170513T101000
DTSTAMP:20170701T154703Z
UID:2c376c981be973e40fe21ebfe2721512@pvna.com.au
CREATED:20170701T154703Z
DESCRIPTION:2017 Autumn Section:15&Under\nRound:Rnd 12
LAST-MODIFIED:20170701T154703Z
LOCATION:Court: 2
SEQUENCE:0
STATUS:CONFIRMED
SUMMARY:15&U-Rnd 12: Roxy (20) vs V.S.Connected III (30)
TRANSP:OPAQUE
END:VEVENT
BEGIN:VEVENT
DTSTART:20170520T084500
DTEND:20170520T092500
DTSTAMP:20170701T154703Z
UID:6563df81f0535a867ba207a794205b90@pvna.com.au
CREATED:20170701T154703Z
DESCRIPTION:2017 Autumn Section:15&Under\nRound:Rnd 13
LAST-MODIFIED:20170701T154703Z
LOCATION:Court: 1
SEQUENCE:0
STATUS:CONFIRMED
SUMMARY:15&U-Rnd 13: V.S.Connected III (25) vs Northern Blues Cheetahs (8)
TRANSP:OPAQUE
END:VEVENT
BEGIN:VEVENT
DTSTART:20170527T093000
DTEND:20170527T101000
DTSTAMP:20170701T154703Z
UID:febda8925c7fcc3d67c849b3e6e2aaf6@pvna.com.au
CREATED:20170701T154703Z
DESCRIPTION:2017 Autumn Section:15&Under\nRound:Rnd 14
LAST-MODIFIED:20170701T154703Z
LOCATION:Court: 3
SEQUENCE:0
STATUS:CONFIRMED
SUMMARY:15&U-Rnd 14: Shooting Stars Sparks (11) vs V.S.Connected III (27)
TRANSP:OPAQUE
END:VEVENT
BEGIN:VEVENT
DTSTART:20170603T093000
DTEND:20170603T101000
DTSTAMP:20170701T154703Z
UID:d299edc2f41fb1903b45519cf042f7b0@pvna.com.au
CREATED:20170701T154703Z
DESCRIPTION:2017 Autumn Section:15&Under\nRound:Rnd 15
LAST-MODIFIED:20170701T154703Z
LOCATION:Court: 2
SEQUENCE:0
STATUS:CONFIRMED
SUMMARY:15&U-Rnd 15: Northern Blues Leopards (19) vs V.S.Connected III (49)
TRANSP:OPAQUE
END:VEVENT
BEGIN:VEVENT
DTSTART:20170617T101500
DTEND:20170617T105500
DTSTAMP:20170701T154703Z
UID:963b29317cfe51a069cf2daa03998583@pvna.com.au
CREATED:20170701T154703Z
DESCRIPTION:2017 Autumn Section:15&Under\nRound:Semi
LAST-MODIFIED:20170701T154703Z
LOCATION:Court: 3
SEQUENCE:0
STATUS:CONFIRMED
SUMMARY:15&U-Semi: V.S.Connected III (20) vs Roxy (17)
TRANSP:OPAQUE
END:VEVENT
BEGIN:VEVENT
DTSTART:20170701T095500
DTEND:20170701T105500
DTSTAMP:20170701T154703Z
UID:45e1f7e91d6cfc9de26e672b21a2b859@pvna.com.au
CREATED:20170701T154703Z
DESCRIPTION:2017 Autumn Section:15&Under\nRound:Grand
LAST-MODIFIED:20170701T154703Z
LOCATION:Court: 1
SEQUENCE:0
STATUS:CONFIRMED
SUMMARY:15&U-Grand: V.S.Connected III (20) vs Roxy (25)
TRANSP:OPAQUE
END:VEVENT
END:VCALENDAR
