BEGIN:VCALENDAR
PRODID:-//Google Inc//Google Calendar 70.9054//EN
VERSION:2.0
CALSCALE:GREGORIAN
METHOD:PUBLISH
X-WR-CALNAME:PV Comets Waterlillies
X-WR-TIMEZONE:Australia/Sydney
X-WR-CALDESC:PV Comets Parkville Calendars
BEGIN:VEVENT
DTSTART:20170722T120000
DTEND:20170722T124000
DTSTAMP:20171209T065844Z
UID:501c48787ff8144e6d368d32db184f48@pvna.com.au
CREATED:20171209T065844Z
DESCRIPTION:2017 Spring Section:11&Under\nRound:Rnd 1
LAST-MODIFIED:20171209T065844Z
LOCATION:Court: 4
SEQUENCE:0
STATUS:CONFIRMED
SUMMARY:11&U-Rnd 1: Northern Blues Wallabies (28) vs Waterlillies (4)
TRANSP:OPAQUE
END:VEVENT
BEGIN:VEVENT
DTSTART:20170729T120000
DTEND:20170729T124000
DTSTAMP:20171209T065844Z
UID:4dacd1b116834b46ee75630607163b56@pvna.com.au
CREATED:20171209T065844Z
DESCRIPTION:2017 Spring Section:11&Under\nRound:Rnd 2
LAST-MODIFIED:20171209T065844Z
LOCATION:Court: 4
SEQUENCE:0
STATUS:CONFIRMED
SUMMARY:11&U-Rnd 2: All Starz Jnr (24) vs Waterlillies (2)
TRANSP:OPAQUE
END:VEVENT
BEGIN:VEVENT
DTSTART:20170805T110000
DTEND:20170805T114500
DTSTAMP:20171209T065844Z
UID:67cfb2cd48234e25bb3a5f7544b7b12f@pvna.com.au
CREATED:20171209T065844Z
DESCRIPTION:2017 Spring Section:11&Under\nRound:Rnd 3
LAST-MODIFIED:20171209T065844Z
LOCATION:Court: 5
SEQUENCE:0
STATUS:CONFIRMED
SUMMARY:11&U-Rnd 3: Waterlillies (1) vs Falcons (17)
TRANSP:OPAQUE
END:VEVENT
BEGIN:VEVENT
DTSTART:20170812T123000
DTEND:20170812T131000
DTSTAMP:20171209T065844Z
UID:cb4b1799929065f1fabc812fc217e8cd@pvna.com.au
CREATED:20171209T065844Z
DESCRIPTION:2017 Spring Section:11&Under\nRound:Rnd 4
LAST-MODIFIED:20171209T065844Z
LOCATION:Court: 2
SEQUENCE:0
STATUS:CONFIRMED
SUMMARY:11&U-Rnd 4: Waterlillies (0) vs Awesome Angels 11s1 (21)
TRANSP:OPAQUE
END:VEVENT
BEGIN:VEVENT
DTSTART:20170819T084500
DTEND:20170819T092500
DTSTAMP:20171209T065844Z
UID:8570ddbcf41e4384073270994424b20a@pvna.com.au
CREATED:20171209T065844Z
DESCRIPTION:2017 Spring Section:11&Under\nRound:Rnd 5
LAST-MODIFIED:20171209T065844Z
LOCATION:Court: 4
SEQUENCE:0
STATUS:CONFIRMED
SUMMARY:11&U-Rnd 5: Bluebirds (13) vs Waterlillies (3)
TRANSP:OPAQUE
END:VEVENT
BEGIN:VEVENT
DTSTART:20170826T101500
DTEND:20170826T105500
DTSTAMP:20171209T065844Z
UID:a5ec9d47458f26cae04c6125402f1c55@pvna.com.au
CREATED:20171209T065844Z
DESCRIPTION:2017 Spring Section:11&Under\nRound:Rnd 6
LAST-MODIFIED:20171209T065844Z
LOCATION:Court: 4
SEQUENCE:0
STATUS:CONFIRMED
SUMMARY:11&U-Rnd 6: Waterlillies (0) vs Neon Nightmares 11s (19)
TRANSP:OPAQUE
END:VEVENT
BEGIN:VEVENT
DTSTART:20170902T114500
DTEND:20170902T122500
DTSTAMP:20171209T065844Z
UID:5b8086e97b6cbe8164556ebc460ba6b1@pvna.com.au
CREATED:20171209T065844Z
DESCRIPTION:2017 Spring Section:11&Under\nRound:Rnd 7
LAST-MODIFIED:20171209T065844Z
LOCATION:Court: 2
SEQUENCE:0
STATUS:CONFIRMED
SUMMARY:11&U-Rnd 7: Northern Blues Cubs (11) vs Waterlillies (2)
TRANSP:OPAQUE
END:VEVENT
BEGIN:VEVENT
DTSTART:20170909T131500
DTEND:20170909T135500
DTSTAMP:20171209T065844Z
UID:99d508bedd790b8a6be23166d1f6914f@pvna.com.au
CREATED:20171209T065844Z
DESCRIPTION:2017 Spring Section:11&Under\nRound:Rnd 8
LAST-MODIFIED:20171209T065844Z
LOCATION:Court: 99
SEQUENCE:0
STATUS:CONFIRMED
SUMMARY:11&U-Rnd 8: Waterlillies vs BYE
TRANSP:OPAQUE
END:VEVENT
BEGIN:VEVENT
DTSTART:20170916T101500
DTEND:20170916T105500
DTSTAMP:20171209T065844Z
UID:dc9a8ad7dd2190234252ba43e328a648@pvna.com.au
CREATED:20171209T065844Z
DESCRIPTION:2017 Spring Section:11&Under\nRound:Rnd 9
LAST-MODIFIED:20171209T065844Z
LOCATION:Court: 4
SEQUENCE:0
STATUS:CONFIRMED
SUMMARY:11&U-Rnd 9: All Starz Jnr (27) vs Waterlillies (2)
TRANSP:OPAQUE
END:VEVENT
BEGIN:VEVENT
DTSTART:20170923T114500
DTEND:20170923T122500
DTSTAMP:20171209T065844Z
UID:d889fa53e40cb390facab6a1a685876e@pvna.com.au
CREATED:20171209T065844Z
DESCRIPTION:2017 Spring Section:11&Under\nRound:Rnd 10
LAST-MODIFIED:20171209T065844Z
LOCATION:Court: 1
SEQUENCE:0
STATUS:CONFIRMED
SUMMARY:11&U-Rnd 10: Falcons (28) vs Waterlillies (2)
TRANSP:OPAQUE
END:VEVENT
BEGIN:VEVENT
DTSTART:20171014T114500
DTEND:20171014T122500
DTSTAMP:20171209T065844Z
UID:b2ab881c1e5d34bba253854b56d43f87@pvna.com.au
CREATED:20171209T065844Z
DESCRIPTION:2017 Spring Section:11&Under\nRound:Rnd 11
LAST-MODIFIED:20171209T065844Z
LOCATION:Court: 2
SEQUENCE:0
STATUS:CONFIRMED
SUMMARY:11&U-Rnd 11: Waterlillies (0) vs Awesome Angels 11s1 (17)
TRANSP:OPAQUE
END:VEVENT
BEGIN:VEVENT
DTSTART:20171021T084500
DTEND:20171021T092500
DTSTAMP:20171209T065844Z
UID:1a0ba9ff8a779ed31fdbc53a84b3a883@pvna.com.au
CREATED:20171209T065844Z
DESCRIPTION:2017 Spring Section:11&Under\nRound:Rnd 12
LAST-MODIFIED:20171209T065844Z
LOCATION:Court: 4
SEQUENCE:0
STATUS:CONFIRMED
SUMMARY:11&U-Rnd 12: Bluebirds (15) vs Waterlillies (2)
TRANSP:OPAQUE
END:VEVENT
BEGIN:VEVENT
DTSTART:20171028T123000
DTEND:20171028T131000
DTSTAMP:20171209T065844Z
UID:a002d938e5f8e401e83706216a9c3bf3@pvna.com.au
CREATED:20171209T065844Z
DESCRIPTION:2017 Spring Section:11&Under\nRound:Rnd 13
LAST-MODIFIED:20171209T065844Z
LOCATION:Court: 1
SEQUENCE:0
STATUS:CONFIRMED
SUMMARY:11&U-Rnd 13: Neon Nightmares 11s (17) vs Waterlillies (0)
TRANSP:OPAQUE
END:VEVENT
BEGIN:VEVENT
DTSTART:20171111T114500
DTEND:20171111T122500
DTSTAMP:20171209T065844Z
UID:b29ce0579bfaf57a0cbfaaa7c8f74f07@pvna.com.au
CREATED:20171209T065844Z
DESCRIPTION:2017 Spring Section:11&Under\nRound:Rnd 14
LAST-MODIFIED:20171209T065844Z
LOCATION:Court: 4
SEQUENCE:0
STATUS:CONFIRMED
SUMMARY:11&U-Rnd 14: Waterlillies (3) vs Northern Blues Cubs (20)
TRANSP:OPAQUE
END:VEVENT
BEGIN:VEVENT
DTSTART:20171118T131500
DTEND:20171118T135500
DTSTAMP:20171209T065844Z
UID:5928bc9d84b32c75e9eb6335d37efcdd@pvna.com.au
CREATED:20171209T065844Z
DESCRIPTION:2017 Spring Section:11&Under\nRound:Rnd 15
LAST-MODIFIED:20171209T065844Z
LOCATION:Court: 99
SEQUENCE:0
STATUS:CONFIRMED
SUMMARY:11&U-Rnd 15: Waterlillies vs BYE
TRANSP:OPAQUE
END:VEVENT
BEGIN:VEVENT
DTSTART:20171125T090000
DTEND:20171125T094000
DTSTAMP:20171209T065844Z
UID:f1c1df8108a105f16d297fa4b09a6d1a@pvna.com.au
CREATED:20171209T065844Z
DESCRIPTION:2017 Spring Section:11&Under\nRound:Rnd 16
LAST-MODIFIED:20171209T065844Z
LOCATION:Court: 4
SEQUENCE:0
STATUS:CONFIRMED
SUMMARY:11&U-Rnd 16: All Starz Jnr (15) vs Waterlillies (1)
TRANSP:OPAQUE
END:VEVENT
BEGIN:VEVENT
DTSTART:20171202T110000
DTEND:20171202T114500
DTSTAMP:20171209T065844Z
UID:87c06c86cea92af351bd67d7a9da0292@pvna.com.au
CREATED:20171209T065844Z
DESCRIPTION:2017 Spring Section:11&Under\nRound:Rnd 17
LAST-MODIFIED:20171209T065844Z
LOCATION:Court: 2
SEQUENCE:0
STATUS:CONFIRMED
SUMMARY:11&U-Rnd 17: Awesome Angels 11s1 vs Waterlillies
TRANSP:OPAQUE
END:VEVENT
END:VCALENDAR
