BEGIN:VCALENDAR
PRODID:-//Google Inc//Google Calendar 70.9054//EN
VERSION:2.0
CALSCALE:GREGORIAN
METHOD:PUBLISH
X-WR-CALNAME:PV Comets Wildcats
X-WR-TIMEZONE:Australia/Sydney
X-WR-CALDESC:PV Comets Parkville Calendars
BEGIN:VEVENT
DTSTART:20170722T084500
DTEND:20170722T092500
DTSTAMP:20171209T065844Z
UID:207c1e453583535260caf0830500cf40@pvna.com.au
CREATED:20171209T065844Z
DESCRIPTION:2017 Spring Section:13&Under\nRound:Rnd 1
LAST-MODIFIED:20171209T065844Z
LOCATION:Court: 2
SEQUENCE:0
STATUS:CONFIRMED
SUMMARY:13&U-Rnd 1: Firestorm (15) vs Wildcats (15)
TRANSP:OPAQUE
END:VEVENT
BEGIN:VEVENT
DTSTART:20170729T093000
DTEND:20170729T101000
DTSTAMP:20171209T065844Z
UID:339428ff99165134baa54afa8d341b21@pvna.com.au
CREATED:20171209T065844Z
DESCRIPTION:2017 Spring Section:13&Under\nRound:Rnd 2
LAST-MODIFIED:20171209T065844Z
LOCATION:Court: 2
SEQUENCE:0
STATUS:CONFIRMED
SUMMARY:13&U-Rnd 2: Wildcats (21) vs Thunderbolts (23)
TRANSP:OPAQUE
END:VEVENT
BEGIN:VEVENT
DTSTART:20170805T101500
DTEND:20170805T105500
DTSTAMP:20171209T065844Z
UID:fb01b7a330c82f0066ff6b3fc98453b8@pvna.com.au
CREATED:20171209T065844Z
DESCRIPTION:2017 Spring Section:13&Under\nRound:Rnd 3
LAST-MODIFIED:20171209T065844Z
LOCATION:Court: 3
SEQUENCE:0
STATUS:CONFIRMED
SUMMARY:13&U-Rnd 3: Wildcats (17) vs Awesome Angels 13s1 (20)
TRANSP:OPAQUE
END:VEVENT
BEGIN:VEVENT
DTSTART:20170812T131500
DTEND:20170812T135500
DTSTAMP:20171209T065844Z
UID:2f57a7e512a85878fa41a7db3c4c4736@pvna.com.au
CREATED:20171209T065844Z
DESCRIPTION:2017 Spring Section:13&Under\nRound:Rnd 4
LAST-MODIFIED:20171209T065844Z
LOCATION:Court: 99
SEQUENCE:0
STATUS:CONFIRMED
SUMMARY:13&U-Rnd 4: Wildcats vs BYE
TRANSP:OPAQUE
END:VEVENT
BEGIN:VEVENT
DTSTART:20170819T114500
DTEND:20170819T122500
DTSTAMP:20171209T065844Z
UID:c4e506f67111918bcc36f19b8b5017dc@pvna.com.au
CREATED:20171209T065844Z
DESCRIPTION:2017 Spring Section:13&Under\nRound:Rnd 5
LAST-MODIFIED:20171209T065844Z
LOCATION:Court: 1
SEQUENCE:0
STATUS:CONFIRMED
SUMMARY:13&U-Rnd 5: Northern Blues Koalas (16) vs Wildcats (29)
TRANSP:OPAQUE
END:VEVENT
BEGIN:VEVENT
DTSTART:20170826T114500
DTEND:20170826T122500
DTSTAMP:20171209T065844Z
UID:d035843c2d8ac7ff3b7d45df8f384df6@pvna.com.au
CREATED:20171209T065844Z
DESCRIPTION:2017 Spring Section:13&Under\nRound:Rnd 6
LAST-MODIFIED:20171209T065844Z
LOCATION:Court: 4
SEQUENCE:0
STATUS:CONFIRMED
SUMMARY:13&U-Rnd 6: Wildcats (16) vs Power (32)
TRANSP:OPAQUE
END:VEVENT
BEGIN:VEVENT
DTSTART:20170902T110000
DTEND:20170902T114500
DTSTAMP:20171209T065844Z
UID:af40f2d2a3490d80de7fdf02a077f73e@pvna.com.au
CREATED:20171209T065844Z
DESCRIPTION:2017 Spring Section:13&Under\nRound:Rnd 7
LAST-MODIFIED:20171209T065844Z
LOCATION:Court: 2
SEQUENCE:0
STATUS:CONFIRMED
SUMMARY:13&U-Rnd 7: Wildcats (12) vs Strikers (8)
TRANSP:OPAQUE
END:VEVENT
BEGIN:VEVENT
DTSTART:20170909T084500
DTEND:20170909T092500
DTSTAMP:20171209T065844Z
UID:648c76d3d409e486f3057d9d1b227262@pvna.com.au
CREATED:20171209T065844Z
DESCRIPTION:2017 Spring Section:13&Under\nRound:Rnd 8
LAST-MODIFIED:20171209T065844Z
LOCATION:Court: 3
SEQUENCE:0
STATUS:CONFIRMED
SUMMARY:13&U-Rnd 8: Firestorm (32) vs Wildcats (8)
TRANSP:OPAQUE
END:VEVENT
BEGIN:VEVENT
DTSTART:20170916T084500
DTEND:20170916T092500
DTSTAMP:20171209T065844Z
UID:25cdbd1ea6bdbd0f5b871b1c27527336@pvna.com.au
CREATED:20171209T065844Z
DESCRIPTION:2017 Spring Section:13&Under\nRound:Rnd 9
LAST-MODIFIED:20171209T065844Z
LOCATION:Court: 3
SEQUENCE:0
STATUS:CONFIRMED
SUMMARY:13&U-Rnd 9: Wildcats (23) vs Northern Blues Koalas (5)
TRANSP:OPAQUE
END:VEVENT
BEGIN:VEVENT
DTSTART:20170923T114500
DTEND:20170923T122500
DTSTAMP:20171209T065844Z
UID:8bed05b32829180c8c72008b0ac25688@pvna.com.au
CREATED:20171209T065844Z
DESCRIPTION:2017 Spring Section:13&Under\nRound:Rnd 10
LAST-MODIFIED:20171209T065844Z
LOCATION:Court: 4
SEQUENCE:0
STATUS:CONFIRMED
SUMMARY:13&U-Rnd 10: 13s Res (11) vs Wildcats (38)
TRANSP:OPAQUE
END:VEVENT
BEGIN:VEVENT
DTSTART:20171014T084500
DTEND:20171014T092500
DTSTAMP:20171209T065844Z
UID:92a708838cb789017fe0f82b4af00fc1@pvna.com.au
CREATED:20171209T065844Z
DESCRIPTION:2017 Spring Section:13&Under\nRound:Rnd 11
LAST-MODIFIED:20171209T065844Z
LOCATION:Court: 1
SEQUENCE:0
STATUS:CONFIRMED
SUMMARY:13&U-Rnd 11: Wildcats (14) vs Thunderbolts (24)
TRANSP:OPAQUE
END:VEVENT
BEGIN:VEVENT
DTSTART:20171021T084500
DTEND:20171021T092500
DTSTAMP:20171209T065844Z
UID:c44d69c5c386b01b14e35a0a1ab4bb3a@pvna.com.au
CREATED:20171209T065844Z
DESCRIPTION:2017 Spring Section:13&Under\nRound:Rnd 12
LAST-MODIFIED:20171209T065844Z
LOCATION:Court: 2
SEQUENCE:0
STATUS:CONFIRMED
SUMMARY:13&U-Rnd 12: Awesome Angels 13s1 (6) vs Wildcats (29)
TRANSP:OPAQUE
END:VEVENT
BEGIN:VEVENT
DTSTART:20171028T093000
DTEND:20171028T101000
DTSTAMP:20171209T065844Z
UID:c0eb3bc7ad1cdcd82bd0f99022f7068a@pvna.com.au
CREATED:20171209T065844Z
DESCRIPTION:2017 Spring Section:13&Under\nRound:Rnd 13
LAST-MODIFIED:20171209T065844Z
LOCATION:Court: 4
SEQUENCE:0
STATUS:CONFIRMED
SUMMARY:13&U-Rnd 13: Wildcats (12) vs Power (25)
TRANSP:OPAQUE
END:VEVENT
BEGIN:VEVENT
DTSTART:20171111T084500
DTEND:20171111T092500
DTSTAMP:20171209T065844Z
UID:e7eff877264f1cedc56582f3a0715e1d@pvna.com.au
CREATED:20171209T065844Z
DESCRIPTION:2017 Spring Section:13&Under\nRound:Rnd 14
LAST-MODIFIED:20171209T065844Z
LOCATION:Court: 4
SEQUENCE:0
STATUS:CONFIRMED
SUMMARY:13&U-Rnd 14: Wildcats (22) vs Strikers (21)
TRANSP:OPAQUE
END:VEVENT
BEGIN:VEVENT
DTSTART:20171118T110000
DTEND:20171118T114500
DTSTAMP:20171209T065844Z
UID:f89478089a78cd77db3235a62af68694@pvna.com.au
CREATED:20171209T065844Z
DESCRIPTION:2017 Spring Section:13&Under\nRound:Rnd 15
LAST-MODIFIED:20171209T065844Z
LOCATION:Court: 1
SEQUENCE:0
STATUS:CONFIRMED
SUMMARY:13&U-Rnd 15: Firestorm (25) vs Wildcats (9)
TRANSP:OPAQUE
END:VEVENT
END:VCALENDAR
