BEGIN:VCALENDAR
PRODID:-//Google Inc//Google Calendar 70.9054//EN
VERSION:2.0
CALSCALE:GREGORIAN
METHOD:PUBLISH
X-WR-CALNAME:PV Comets new11sTeam
X-WR-TIMEZONE:Australia/Sydney
X-WR-CALDESC:PV Comets Parkville Calendars
BEGIN:VEVENT
DTSTART:20170722T120000
DTEND:20170722T124000
DTSTAMP:20170720T143754Z
UID:1bb45a5224ba1d438889e237ce238061@pvna.com.au
CREATED:20170720T143754Z
DESCRIPTION:2017 Spring Section:11&Under\nRound:Rnd 1
LAST-MODIFIED:20170720T143754Z
LOCATION:Court: 4
SEQUENCE:0
STATUS:CONFIRMED
SUMMARY:11&U-Rnd 1: Northern Blues Wallabies vs new11sTeam
TRANSP:OPAQUE
END:VEVENT
BEGIN:VEVENT
DTSTART:20170729T123000
DTEND:20170729T131000
DTSTAMP:20170720T143756Z
UID:43eec08525c71d7a9c96708b1be4052e@pvna.com.au
CREATED:20170720T143756Z
DESCRIPTION:2017 Spring Section:11&Under\nRound:Rnd 2\n\nCurrent Ladder:\nTeam            P  W  L  D  Pts\nnew11sTeam      0  0  0  0  0 \nFalcons         0  0  0  0  0 \nNeon Nightmares 11s 0  0  0  0  0 \nNorthern Blues Cubs 0  0  0  0  0 \nAll Starz Jnr   0  0  0  0  0 \nAwesome Angels 11s1 0  0  0  0  0 \nNorthern Blues Wallabies 0  0  0  0  0 \nBluebirds       0  0  0  0  0 \n
LAST-MODIFIED:20170720T143756Z
LOCATION:Court: 3
SEQUENCE:0
STATUS:CONFIRMED
SUMMARY:11&U-Rnd 2: All Starz Jnr vs new11sTeam
TRANSP:OPAQUE
END:VEVENT
END:VCALENDAR
