BEGIN:VCALENDAR
PRODID:-//Google Inc//Google Calendar 70.9054//EN
VERSION:2.0
CALSCALE:GREGORIAN
METHOD:PUBLISH
X-WR-CALNAME:PV Comets new8-10s_Tamara
X-WR-TIMEZONE:Australia/Sydney
X-WR-CALDESC:PV Comets Parkville Calendars
BEGIN:VEVENT
DTSTART:20170722T093000
DTEND:20170722T101000
DTSTAMP:20170723T233833Z
UID:37ea2e2f336839730f354d7d5bb77594@pvna.com.au
CREATED:20170723T233833Z
DESCRIPTION:2017 Spring Section:8-10s\nRound:Rnd 1
LAST-MODIFIED:20170723T233833Z
LOCATION:Court: 99
SEQUENCE:0
STATUS:CONFIRMED
SUMMARY:8-10-Rnd 1: new8-10s_Tamara vs BYE
TRANSP:OPAQUE
END:VEVENT
BEGIN:VEVENT
DTSTART:20170729T084500
DTEND:20170729T092500
DTSTAMP:20170723T233835Z
UID:f9faba2d16fd5c0a4c88ada7d8ee0092@pvna.com.au
CREATED:20170723T233835Z
DESCRIPTION:2017 Spring Section:8-10s\nRound:Rnd 2\n\nCurrent Ladder:\nTeam            P  W  L  D  Pts\nNorthern Blues Chicks 1  1  0  0  4 \nAwesome Angels 8-10s1 1  1  0  0  4 \nnew8-10s_Tamara 1  1  0  0  4 \nGolden Girls    1  0  1  0  0 \nAwesome Angels 8-10s2 1  0  1  0  0 \n
LAST-MODIFIED:20170723T233835Z
LOCATION:Court: 2
SEQUENCE:0
STATUS:CONFIRMED
SUMMARY:8-10-Rnd 2: new8-10s_Tamara vs Awesome Angels 8-10s1
TRANSP:OPAQUE
END:VEVENT
END:VCALENDAR
