BEGIN:VCALENDAR
PRODID:-//Google Inc//Google Calendar 70.9054//EN
VERSION:2.0
CALSCALE:GREGORIAN
METHOD:PUBLISH
X-WR-CALNAME:PV Comets All Starz
X-WR-TIMEZONE:Australia/Sydney
X-WR-CALDESC:PV Comets Parkville Calendars
BEGIN:VEVENT
DTSTART:20180203T101500
DTEND:20180203T105500
DTSTAMP:20180120T053404Z
UID:85cedc628c12ebbb4bec8262374bb80f@pvna.com.au
CREATED:20180120T053404Z
DESCRIPTION:2018 Autumn Section:13&Under\nRound:Rnd 1
LAST-MODIFIED:20180120T053404Z
LOCATION:Court: 2
SEQUENCE:0
STATUS:CONFIRMED
SUMMARY:13&U-Rnd 1: All Starz vs Awesome Angels 13s2
TRANSP:OPAQUE
END:VEVENT
BEGIN:VEVENT
DTSTART:20180210T093000
DTEND:20180210T101000
DTSTAMP:20180120T053405Z
UID:ec133ad67f18babfd68b977d61930764@pvna.com.au
CREATED:20180120T053405Z
DESCRIPTION:2018 Autumn Section:13&Under\nRound:Rnd 2\n\nCurrent Ladder:\nTeam            P  W  L  D  Pts\nSS Rubies       0  0  0  0  0 \nNeon Nightmares 13s 0  0  0  0  0 \nFirestorm       0  0  0  0  0 \nAll Starz       0  0  0  0  0 \nThunderbolts    0  0  0  0  0 \nAwesome Angels 13s2 0  0  0  0  0 \nSS Diamonds     0  0  0  0  0 \nNorthern Blues Joeys 0  0  0  0  0 \nPower           0  0  0  0  0 \nFalcons         0  0  0  0  0 \nAwesome Angels 13s1 0  0  0  0  0 \nStorm           0  0  0  0  0 \n
LAST-MODIFIED:20180120T053405Z
LOCATION:Court: 4
SEQUENCE:0
STATUS:CONFIRMED
SUMMARY:13&U-Rnd 2: Northern Blues Joeys vs All Starz
TRANSP:OPAQUE
END:VEVENT
BEGIN:VEVENT
DTSTART:20180217T101500
DTEND:20180217T105500
DTSTAMP:20180120T053405Z
UID:75cf266a49a73023d990d2912d7cef48@pvna.com.au
CREATED:20180120T053405Z
DESCRIPTION:2018 Autumn Section:13&Under\nRound:Rnd 3
LAST-MODIFIED:20180120T053405Z
LOCATION:Court: 1
SEQUENCE:0
STATUS:CONFIRMED
SUMMARY:13&U-Rnd 3: Awesome Angels 13s1 vs All Starz
TRANSP:OPAQUE
END:VEVENT
BEGIN:VEVENT
DTSTART:20180224T093000
DTEND:20180224T101000
DTSTAMP:20180120T053405Z
UID:af46c15ca15c525f31c111aa76d14cf1@pvna.com.au
CREATED:20180120T053405Z
DESCRIPTION:2018 Autumn Section:13&Under\nRound:Rnd 4
LAST-MODIFIED:20180120T053405Z
LOCATION:Court: 3
SEQUENCE:0
STATUS:CONFIRMED
SUMMARY:13&U-Rnd 4: Thunderbolts vs All Starz
TRANSP:OPAQUE
END:VEVENT
BEGIN:VEVENT
DTSTART:20180303T101500
DTEND:20180303T105500
DTSTAMP:20180120T053405Z
UID:4026e444d958f7d31f176c4ff27b0984@pvna.com.au
CREATED:20180120T053405Z
DESCRIPTION:2018 Autumn Section:13&Under\nRound:Rnd 5
LAST-MODIFIED:20180120T053405Z
LOCATION:Court: 1
SEQUENCE:0
STATUS:CONFIRMED
SUMMARY:13&U-Rnd 5: Neon Nightmares 13s vs All Starz
TRANSP:OPAQUE
END:VEVENT
BEGIN:VEVENT
DTSTART:20180317T093000
DTEND:20180317T101000
DTSTAMP:20180120T053405Z
UID:1e45feb2e21f4997b7568a23f09bebd4@pvna.com.au
CREATED:20180120T053405Z
DESCRIPTION:2018 Autumn Section:13&Under\nRound:Rnd 6
LAST-MODIFIED:20180120T053405Z
LOCATION:Court: 4
SEQUENCE:0
STATUS:CONFIRMED
SUMMARY:13&U-Rnd 6: Falcons vs All Starz
TRANSP:OPAQUE
END:VEVENT
BEGIN:VEVENT
DTSTART:20180324T093000
DTEND:20180324T101000
DTSTAMP:20180120T053405Z
UID:2e4ed139a69b3a739de9857eda1df605@pvna.com.au
CREATED:20180120T053405Z
DESCRIPTION:2018 Autumn Section:13&Under\nRound:Rnd 7
LAST-MODIFIED:20180120T053405Z
LOCATION:Court: 1
SEQUENCE:0
STATUS:CONFIRMED
SUMMARY:13&U-Rnd 7: SS Rubies vs All Starz
TRANSP:OPAQUE
END:VEVENT
BEGIN:VEVENT
DTSTART:20180421T093000
DTEND:20180421T101000
DTSTAMP:20180120T053405Z
UID:612b295d80d7ae42d9952c4373a5983e@pvna.com.au
CREATED:20180120T053405Z
DESCRIPTION:2018 Autumn Section:13&Under\nRound:Rnd 8
LAST-MODIFIED:20180120T053405Z
LOCATION:Court: 2
SEQUENCE:0
STATUS:CONFIRMED
SUMMARY:13&U-Rnd 8: Power vs All Starz
TRANSP:OPAQUE
END:VEVENT
BEGIN:VEVENT
DTSTART:20180428T093000
DTEND:20180428T101000
DTSTAMP:20180120T053405Z
UID:40249b78c884ec09ab877e97241368fe@pvna.com.au
CREATED:20180120T053405Z
DESCRIPTION:2018 Autumn Section:13&Under\nRound:Rnd 9
LAST-MODIFIED:20180120T053405Z
LOCATION:Court: 1
SEQUENCE:0
STATUS:CONFIRMED
SUMMARY:13&U-Rnd 9: SS Diamonds vs All Starz
TRANSP:OPAQUE
END:VEVENT
BEGIN:VEVENT
DTSTART:20180505T093000
DTEND:20180505T101000
DTSTAMP:20180120T053405Z
UID:57a302eaac2ea2e762407973171faf69@pvna.com.au
CREATED:20180120T053405Z
DESCRIPTION:2018 Autumn Section:13&Under\nRound:Rnd 10
LAST-MODIFIED:20180120T053405Z
LOCATION:Court: 1
SEQUENCE:0
STATUS:CONFIRMED
SUMMARY:13&U-Rnd 10: Storm vs All Starz
TRANSP:OPAQUE
END:VEVENT
BEGIN:VEVENT
DTSTART:20180512T093000
DTEND:20180512T101000
DTSTAMP:20180120T053405Z
UID:2680df5a026b5911491e495d2cf9e6b7@pvna.com.au
CREATED:20180120T053405Z
DESCRIPTION:2018 Autumn Section:13&Under\nRound:Rnd 11
LAST-MODIFIED:20180120T053405Z
LOCATION:Court: 1
SEQUENCE:0
STATUS:CONFIRMED
SUMMARY:13&U-Rnd 11: Firestorm vs All Starz
TRANSP:OPAQUE
END:VEVENT
BEGIN:VEVENT
DTSTART:20180519T101500
DTEND:20180519T105500
DTSTAMP:20180120T053405Z
UID:6315e30fb4275b9d61340dbb4ccefc7e@pvna.com.au
CREATED:20180120T053405Z
DESCRIPTION:2018 Autumn Section:13&Under\nRound:Rnd 12
LAST-MODIFIED:20180120T053405Z
LOCATION:Court: 1
SEQUENCE:0
STATUS:CONFIRMED
SUMMARY:13&U-Rnd 12: All Starz vs Awesome Angels 13s2
TRANSP:OPAQUE
END:VEVENT
BEGIN:VEVENT
DTSTART:20180526T093000
DTEND:20180526T101000
DTSTAMP:20180120T053405Z
UID:4a6f2ed9e27443b8542ff42327a0457d@pvna.com.au
CREATED:20180120T053405Z
DESCRIPTION:2018 Autumn Section:13&Under\nRound:Rnd 13
LAST-MODIFIED:20180120T053405Z
LOCATION:Court: 4
SEQUENCE:0
STATUS:CONFIRMED
SUMMARY:13&U-Rnd 13: Northern Blues Joeys vs All Starz
TRANSP:OPAQUE
END:VEVENT
BEGIN:VEVENT
DTSTART:20180602T114500
DTEND:20180602T122500
DTSTAMP:20180120T053405Z
UID:285c519f3bfe79e9984a56bf2e23b416@pvna.com.au
CREATED:20180120T053405Z
DESCRIPTION:2018 Autumn Section:13&Under\nRound:Rnd 14
LAST-MODIFIED:20180120T053405Z
LOCATION:Court: 1
SEQUENCE:0
STATUS:CONFIRMED
SUMMARY:13&U-Rnd 14: Awesome Angels 13s1 vs All Starz
TRANSP:OPAQUE
END:VEVENT
END:VCALENDAR
