BEGIN:VCALENDAR
PRODID:-//Google Inc//Google Calendar 70.9054//EN
VERSION:2.0
CALSCALE:GREGORIAN
METHOD:PUBLISH
X-WR-CALNAME:PV Comets Awesome Angels 13s1
X-WR-TIMEZONE:Australia/Sydney
X-WR-CALDESC:PV Comets Parkville Calendars
BEGIN:VEVENT
DTSTART:20180721T114500
DTEND:20180721T122500
DTSTAMP:20181215T114445Z
UID:36bc4e7048093459c1508f31f2fcd7f2@pvna.com.au
CREATED:20181215T194445Z
DESCRIPTION:2018 Spring Section:13&Under\nRound:Rnd 1
LAST-MODIFIED:20181215T194445Z
LOCATION:Court: 4
SEQUENCE:0
STATUS:CONFIRMED
SUMMARY:13&U-Rnd 1: Awesome Angels 13s1 (15) vs SS Diamonds (15)
TRANSP:OPAQUE
END:VEVENT
BEGIN:VEVENT
DTSTART:20180728T114500
DTEND:20180728T122500
DTSTAMP:20181215T114445Z
UID:c4b3c1b77ea914a7262d504f86bdafa6@pvna.com.au
CREATED:20181215T194445Z
DESCRIPTION:2018 Spring Section:13&Under\nRound:Rnd 2
LAST-MODIFIED:20181215T194445Z
LOCATION:Court: 99
SEQUENCE:0
STATUS:CONFIRMED
SUMMARY:13&U-Rnd 2: Awesome Angels 13s1 vs BYE
TRANSP:OPAQUE
END:VEVENT
BEGIN:VEVENT
DTSTART:20180804T084500
DTEND:20180804T092500
DTSTAMP:20181215T114445Z
UID:7846142fe42d8cd4fb966d3e29b21665@pvna.com.au
CREATED:20181215T194445Z
DESCRIPTION:2018 Spring Section:13&Under\nRound:Rnd 3
LAST-MODIFIED:20181215T194445Z
LOCATION:Court: 1
SEQUENCE:0
STATUS:CONFIRMED
SUMMARY:13&U-Rnd 3: SS Rubies (18) vs Awesome Angels 13s1 (12)
TRANSP:OPAQUE
END:VEVENT
BEGIN:VEVENT
DTSTART:20180811T114500
DTEND:20180811T122500
DTSTAMP:20181215T114445Z
UID:159cc0fde27d1eaf0736dd2d5c4d04bf@pvna.com.au
CREATED:20181215T194445Z
DESCRIPTION:2018 Spring Section:13&Under\nRound:Rnd 4
LAST-MODIFIED:20181215T194445Z
LOCATION:Court: 2
SEQUENCE:0
STATUS:CONFIRMED
SUMMARY:13&U-Rnd 4: Awesome Angels 13s1 (25) vs Wildcats 13s (13)
TRANSP:OPAQUE
END:VEVENT
BEGIN:VEVENT
DTSTART:20180818T101500
DTEND:20180818T105500
DTSTAMP:20181215T114445Z
UID:1e252be7ba8d29484a23be979c13cb41@pvna.com.au
CREATED:20181215T194445Z
DESCRIPTION:2018 Spring Section:13&Under\nRound:Rnd 5
LAST-MODIFIED:20181215T194445Z
LOCATION:Court: 1
SEQUENCE:0
STATUS:CONFIRMED
SUMMARY:13&U-Rnd 5: Neon Nightmares 13s (17) vs Awesome Angels 13s1 (30)
TRANSP:OPAQUE
END:VEVENT
BEGIN:VEVENT
DTSTART:20180825T093000
DTEND:20180825T101000
DTSTAMP:20181215T114445Z
UID:7e26dd612fa1ed7a0a2498637675692c@pvna.com.au
CREATED:20181215T194445Z
DESCRIPTION:2018 Spring Section:13&Under\nRound:Rnd 6
LAST-MODIFIED:20181215T194445Z
LOCATION:Court: 2
SEQUENCE:0
STATUS:CONFIRMED
SUMMARY:13&U-Rnd 6: Roxy Jnr (28) vs Awesome Angels 13s1 (26)
TRANSP:OPAQUE
END:VEVENT
BEGIN:VEVENT
DTSTART:20180901T093000
DTEND:20180901T101000
DTSTAMP:20181215T114445Z
UID:4e8112b12410f3c38542ce90bc662aa8@pvna.com.au
CREATED:20181215T194445Z
DESCRIPTION:2018 Spring Section:13&Under\nRound:Rnd 7
LAST-MODIFIED:20181215T194445Z
LOCATION:Court: 2
SEQUENCE:0
STATUS:CONFIRMED
SUMMARY:13&U-Rnd 7: Awesome Angels 13s1 (17) vs Storm (20)
TRANSP:OPAQUE
END:VEVENT
BEGIN:VEVENT
DTSTART:20180908T114500
DTEND:20180908T122500
DTSTAMP:20181215T114445Z
UID:825eb9ebe27a7222f228742498534e63@pvna.com.au
CREATED:20181215T194445Z
DESCRIPTION:2018 Spring Section:13&Under\nRound:Rnd 8
LAST-MODIFIED:20181215T194445Z
LOCATION:Court: 4
SEQUENCE:0
STATUS:CONFIRMED
SUMMARY:13&U-Rnd 8: Awesome Angels 13s1 (28) vs SS Diamonds (7)
TRANSP:OPAQUE
END:VEVENT
BEGIN:VEVENT
DTSTART:20180915T101500
DTEND:20180915T105500
DTSTAMP:20181215T114445Z
UID:0319387204f9f01aa4fa9dab7243d039@pvna.com.au
CREATED:20181215T194445Z
DESCRIPTION:2018 Spring Section:13&Under\nRound:Rnd 9
LAST-MODIFIED:20181215T194445Z
LOCATION:Court: 1
SEQUENCE:0
STATUS:CONFIRMED
SUMMARY:13&U-Rnd 9: Awesome Angels 13s1 (23) vs NB Cubs (1)
TRANSP:OPAQUE
END:VEVENT
BEGIN:VEVENT
DTSTART:20180922T084500
DTEND:20180922T092500
DTSTAMP:20181215T114445Z
UID:70ad743a1638b46aca04dac266258150@pvna.com.au
CREATED:20181215T194445Z
DESCRIPTION:2018 Spring Section:13&Under\nRound:Rnd 10
LAST-MODIFIED:20181215T194445Z
LOCATION:Court: 4
SEQUENCE:0
STATUS:CONFIRMED
SUMMARY:13&U-Rnd 10: SS Rubies (25) vs Awesome Angels 13s1 (20)
TRANSP:OPAQUE
END:VEVENT
BEGIN:VEVENT
DTSTART:20181013T084500
DTEND:20181013T092500
DTSTAMP:20181215T114445Z
UID:70cc875d07a5b7f7dd40397e20688bd0@pvna.com.au
CREATED:20181215T194445Z
DESCRIPTION:2018 Spring Section:13&Under\nRound:Rnd 11
LAST-MODIFIED:20181215T194445Z
LOCATION:Court: 1
SEQUENCE:0
STATUS:CONFIRMED
SUMMARY:13&U-Rnd 11: Awesome Angels 13s1 (24) vs Wildcats 13s (16)
TRANSP:OPAQUE
END:VEVENT
BEGIN:VEVENT
DTSTART:20181020T110000
DTEND:20181020T114500
DTSTAMP:20181215T114445Z
UID:92f0b5c8f7704b5f2394f649fde6422d@pvna.com.au
CREATED:20181215T194445Z
DESCRIPTION:2018 Spring Section:13&Under\nRound:Rnd 12
LAST-MODIFIED:20181215T194445Z
LOCATION:Court: 4
SEQUENCE:0
STATUS:CONFIRMED
SUMMARY:13&U-Rnd 12: Neon Nightmares 13s (20) vs Awesome Angels 13s1 (24)
TRANSP:OPAQUE
END:VEVENT
BEGIN:VEVENT
DTSTART:20181027T084500
DTEND:20181027T092500
DTSTAMP:20181215T114445Z
UID:c13a82bc1b8f3ddb95021b6cb1d67da9@pvna.com.au
CREATED:20181215T194445Z
DESCRIPTION:2018 Spring Section:13&Under\nRound:Rnd 13
LAST-MODIFIED:20181215T194445Z
LOCATION:Court: 1
SEQUENCE:0
STATUS:CONFIRMED
SUMMARY:13&U-Rnd 13: Roxy Jnr (18) vs Awesome Angels 13s1 (27)
TRANSP:OPAQUE
END:VEVENT
BEGIN:VEVENT
DTSTART:20181110T093000
DTEND:20181110T101000
DTSTAMP:20181215T114445Z
UID:182d7e6d3b39cc1acf2c7b7eb11836e6@pvna.com.au
CREATED:20181215T194445Z
DESCRIPTION:2018 Spring Section:13&Under\nRound:Rnd 14
LAST-MODIFIED:20181215T194445Z
LOCATION:Court: 1
SEQUENCE:0
STATUS:CONFIRMED
SUMMARY:13&U-Rnd 14: Awesome Angels 13s1 (18) vs Storm (29)
TRANSP:OPAQUE
END:VEVENT
BEGIN:VEVENT
DTSTART:20181117T114500
DTEND:20181117T122500
DTSTAMP:20181215T114445Z
UID:7c62774b46305f09e7468bd094cb6e07@pvna.com.au
CREATED:20181215T194445Z
DESCRIPTION:2018 Spring Section:13&Under\nRound:Rnd 15
LAST-MODIFIED:20181215T194445Z
LOCATION:Court: 2
SEQUENCE:0
STATUS:CONFIRMED
SUMMARY:13&U-Rnd 15: Awesome Angels 13s1 (29) vs SS Diamonds (10)
TRANSP:OPAQUE
END:VEVENT
BEGIN:VEVENT
DTSTART:20181124T095000
DTEND:20181124T122500
DTSTAMP:20181215T114445Z
UID:f918c701ee9e855f7bee9d6da92e181c@pvna.com.au
CREATED:20181215T194445Z
DESCRIPTION:2018 Spring Section:13&Under\nRound:Semi
LAST-MODIFIED:20181215T194445Z
LOCATION:Court: 1
SEQUENCE:0
STATUS:CONFIRMED
SUMMARY:13&U-Semi: Awesome Angels 13s1 (22) vs Roxy Jnr (29)
TRANSP:OPAQUE
END:VEVENT
END:VCALENDAR
