BEGIN:VCALENDAR
PRODID:-//Google Inc//Google Calendar 70.9054//EN
VERSION:2.0
CALSCALE:GREGORIAN
METHOD:PUBLISH
X-WR-CALNAME:PV Comets Awesome Angels 13s3
X-WR-TIMEZONE:Australia/Sydney
X-WR-CALDESC:PV Comets Parkville Calendars
BEGIN:VEVENT
DTSTART:20180721T114500
DTEND:20180721T122500
DTSTAMP:20181215T114445Z
UID:7cd93b19092a60ea2e05acb562416b36@pvna.com.au
CREATED:20181215T194445Z
DESCRIPTION:2018 Spring Section:13&U Res\nRound:Rnd 1
LAST-MODIFIED:20181215T194445Z
LOCATION:Court: 2
SEQUENCE:0
STATUS:CONFIRMED
SUMMARY:13&U-Rnd 1: Awesome Angels 13s2 (11) vs Awesome Angels 13s3 (8)
TRANSP:OPAQUE
END:VEVENT
BEGIN:VEVENT
DTSTART:20180728T114500
DTEND:20180728T122500
DTSTAMP:20181215T114445Z
UID:0c0d94363863ab0d53debe1bc0ba15fb@pvna.com.au
CREATED:20181215T194445Z
DESCRIPTION:2018 Spring Section:13&U Res\nRound:Rnd 2
LAST-MODIFIED:20181215T194445Z
LOCATION:Court: 2
SEQUENCE:0
STATUS:CONFIRMED
SUMMARY:13&U-Rnd 2: Awesome Angels 13s3 (9) vs All Starz Jnr (7)
TRANSP:OPAQUE
END:VEVENT
BEGIN:VEVENT
DTSTART:20180804T084500
DTEND:20180804T092500
DTSTAMP:20181215T114445Z
UID:8d8372f6963d2e6ae38f6e8ca569bb7c@pvna.com.au
CREATED:20181215T194445Z
DESCRIPTION:2018 Spring Section:13&U Res\nRound:Rnd 3
LAST-MODIFIED:20181215T194445Z
LOCATION:Court: 2
SEQUENCE:0
STATUS:CONFIRMED
SUMMARY:13&U-Rnd 3: Awesome Angels 13s3 (3) vs NB Cubs (18)
TRANSP:OPAQUE
END:VEVENT
BEGIN:VEVENT
DTSTART:20180811T110000
DTEND:20180811T114500
DTSTAMP:20181215T114445Z
UID:e970beb5811aab0472816ed3aad55f28@pvna.com.au
CREATED:20181215T194445Z
DESCRIPTION:2018 Spring Section:13&U Res\nRound:Rnd 4
LAST-MODIFIED:20181215T194445Z
LOCATION:Court: 1
SEQUENCE:0
STATUS:CONFIRMED
SUMMARY:13&U-Rnd 4: Awesome Angels 13s3 (5) vs NB Dragons  (20)
TRANSP:OPAQUE
END:VEVENT
BEGIN:VEVENT
DTSTART:20180818T123000
DTEND:20180818T131000
DTSTAMP:20181215T114445Z
UID:b886e3b1b8148d6f4bc2845f19530ff5@pvna.com.au
CREATED:20181215T194445Z
DESCRIPTION:2018 Spring Section:13&U Res\nRound:Rnd 5
LAST-MODIFIED:20181215T194445Z
LOCATION:Court: 3
SEQUENCE:0
STATUS:CONFIRMED
SUMMARY:13&U-Rnd 5: Awesome Angels 13s3 (9) vs Awesome Angels 13s4 (4)
TRANSP:OPAQUE
END:VEVENT
BEGIN:VEVENT
DTSTART:20180825T110000
DTEND:20180825T114500
DTSTAMP:20181215T114445Z
UID:086637ed352722c6cf23a74fb3ee9038@pvna.com.au
CREATED:20181215T194445Z
DESCRIPTION:2018 Spring Section:13&U Res\nRound:Rnd 6
LAST-MODIFIED:20181215T194445Z
LOCATION:Court: 2
SEQUENCE:0
STATUS:CONFIRMED
SUMMARY:13&U-Rnd 6: Awesome Angels 13s2 (7) vs Awesome Angels 13s3 (9)
TRANSP:OPAQUE
END:VEVENT
BEGIN:VEVENT
DTSTART:20180901T114500
DTEND:20180901T122500
DTSTAMP:20181215T114445Z
UID:07fbecbcc62089f867acf1c44d72483b@pvna.com.au
CREATED:20181215T194445Z
DESCRIPTION:2018 Spring Section:13&U Res\nRound:Rnd 7
LAST-MODIFIED:20181215T194445Z
LOCATION:Court: 1
SEQUENCE:0
STATUS:CONFIRMED
SUMMARY:13&U-Rnd 7: Awesome Angels 13s3 (3) vs All Starz Jnr (12)
TRANSP:OPAQUE
END:VEVENT
BEGIN:VEVENT
DTSTART:20180908T093000
DTEND:20180908T101000
DTSTAMP:20181215T114445Z
UID:2bece0468870e396ddcc498538c50760@pvna.com.au
CREATED:20181215T194445Z
DESCRIPTION:2018 Spring Section:13&U Res\nRound:Rnd 8
LAST-MODIFIED:20181215T194445Z
LOCATION:Court: 99
SEQUENCE:0
STATUS:CONFIRMED
SUMMARY:13&U-Rnd 8: Awesome Angels 13s3 vs BYE
TRANSP:OPAQUE
END:VEVENT
BEGIN:VEVENT
DTSTART:20180915T101500
DTEND:20180915T105500
DTSTAMP:20181215T114445Z
UID:70bc81429d80cc60f55434c8aecbc1e0@pvna.com.au
CREATED:20181215T194445Z
DESCRIPTION:2018 Spring Section:13&U Res\nRound:Rnd 9
LAST-MODIFIED:20181215T194445Z
LOCATION:Court: 2
SEQUENCE:0
STATUS:CONFIRMED
SUMMARY:13&U-Rnd 9: Awesome Angels 13s3 (4) vs NB Dragons  (17)
TRANSP:OPAQUE
END:VEVENT
BEGIN:VEVENT
DTSTART:20180922T110000
DTEND:20180922T114500
DTSTAMP:20181215T114445Z
UID:2f73bf02d739a1da5b91987067b5c7fc@pvna.com.au
CREATED:20181215T194445Z
DESCRIPTION:2018 Spring Section:13&U Res\nRound:Rnd 10
LAST-MODIFIED:20181215T194445Z
LOCATION:Court: 2
SEQUENCE:0
STATUS:CONFIRMED
SUMMARY:13&U-Rnd 10: Awesome Angels 13s3 (15) vs Awesome Angels 13s4 (5)
TRANSP:OPAQUE
END:VEVENT
BEGIN:VEVENT
DTSTART:20181013T101500
DTEND:20181013T105500
DTSTAMP:20181215T114445Z
UID:0e1074c16581352d6afd92f94fd8cdef@pvna.com.au
CREATED:20181215T194445Z
DESCRIPTION:2018 Spring Section:13&U Res\nRound:Rnd 11
LAST-MODIFIED:20181215T194445Z
LOCATION:Court: 4
SEQUENCE:0
STATUS:CONFIRMED
SUMMARY:13&U-Rnd 11: Awesome Angels 13s2 (7) vs Awesome Angels 13s3 (9)
TRANSP:OPAQUE
END:VEVENT
BEGIN:VEVENT
DTSTART:20181020T123000
DTEND:20181020T131000
DTSTAMP:20181215T114445Z
UID:ebdf4112daa93da8933d58ade5c295be@pvna.com.au
CREATED:20181215T194445Z
DESCRIPTION:2018 Spring Section:13&U Res\nRound:Rnd 12
LAST-MODIFIED:20181215T194445Z
LOCATION:Court: 3
SEQUENCE:0
STATUS:CONFIRMED
SUMMARY:13&U-Rnd 12: All Starz Jnr (15) vs Awesome Angels 13s3 (6)
TRANSP:OPAQUE
END:VEVENT
BEGIN:VEVENT
DTSTART:20181027T084500
DTEND:20181027T092500
DTSTAMP:20181215T114445Z
UID:fd60d74ed65bd8b499224c862f8d85aa@pvna.com.au
CREATED:20181215T194445Z
DESCRIPTION:2018 Spring Section:13&U Res\nRound:Rnd 13
LAST-MODIFIED:20181215T194445Z
LOCATION:Court: 99
SEQUENCE:0
STATUS:CONFIRMED
SUMMARY:13&U-Rnd 13: Awesome Angels 13s3 vs BYE
TRANSP:OPAQUE
END:VEVENT
BEGIN:VEVENT
DTSTART:20181110T110000
DTEND:20181110T114500
DTSTAMP:20181215T114445Z
UID:fee220d5c0343d42274562babb60c20d@pvna.com.au
CREATED:20181215T194445Z
DESCRIPTION:2018 Spring Section:13&U Res\nRound:Rnd 14
LAST-MODIFIED:20181215T194445Z
LOCATION:Court: 2
SEQUENCE:0
STATUS:CONFIRMED
SUMMARY:13&U-Rnd 14: Awesome Angels 13s3 (1) vs NB Dragons  (20)
TRANSP:OPAQUE
END:VEVENT
BEGIN:VEVENT
DTSTART:20181117T123000
DTEND:20181117T131000
DTSTAMP:20181215T114445Z
UID:47d768d00261fb7027dc0ad54670dfa1@pvna.com.au
CREATED:20181215T194445Z
DESCRIPTION:2018 Spring Section:13&U Res\nRound:Rnd 15
LAST-MODIFIED:20181215T194445Z
LOCATION:Court: 3
SEQUENCE:0
STATUS:CONFIRMED
SUMMARY:13&U-Rnd 15: Awesome Angels 13s3 (13) vs Awesome Angels 13s4 (5)
TRANSP:OPAQUE
END:VEVENT
BEGIN:VEVENT
DTSTART:20181124T095000
DTEND:20181124T131000
DTSTAMP:20181215T114445Z
UID:767deaf9616584292051e6b9927d6d7d@pvna.com.au
CREATED:20181215T194445Z
DESCRIPTION:2018 Spring Section:13&U Res\nRound:Semi
LAST-MODIFIED:20181215T194445Z
LOCATION:Court: 3
SEQUENCE:0
STATUS:CONFIRMED
SUMMARY:13&U-Semi: Awesome Angels 13s3 (11) vs Awesome Angels 13s2 (24)
TRANSP:OPAQUE
END:VEVENT
END:VCALENDAR
